BEGIN:VCALENDAR
VERSION:2.0
PRODID:-//diveXellence - ECPv6.15.20//NONSGML v1.0//EN
CALSCALE:GREGORIAN
METHOD:PUBLISH
X-ORIGINAL-URL:https://divexellence.de
X-WR-CALDESC:Veranstaltungen für diveXellence
REFRESH-INTERVAL;VALUE=DURATION:PT1H
X-Robots-Tag:noindex
X-PUBLISHED-TTL:PT1H
BEGIN:VTIMEZONE
TZID:Europe/Berlin
BEGIN:DAYLIGHT
TZOFFSETFROM:+0100
TZOFFSETTO:+0200
TZNAME:CEST
DTSTART:20250330T010000
END:DAYLIGHT
BEGIN:STANDARD
TZOFFSETFROM:+0200
TZOFFSETTO:+0100
TZNAME:CET
DTSTART:20251026T010000
END:STANDARD
BEGIN:DAYLIGHT
TZOFFSETFROM:+0100
TZOFFSETTO:+0200
TZNAME:CEST
DTSTART:20260329T010000
END:DAYLIGHT
BEGIN:STANDARD
TZOFFSETFROM:+0200
TZOFFSETTO:+0100
TZNAME:CET
DTSTART:20261025T010000
END:STANDARD
BEGIN:DAYLIGHT
TZOFFSETFROM:+0100
TZOFFSETTO:+0200
TZNAME:CEST
DTSTART:20270328T010000
END:DAYLIGHT
BEGIN:STANDARD
TZOFFSETFROM:+0200
TZOFFSETTO:+0100
TZNAME:CET
DTSTART:20271031T010000
END:STANDARD
END:VTIMEZONE
BEGIN:VEVENT
DTSTART;TZID=Europe/Berlin:20260103T100000
DTEND;TZID=Europe/Berlin:20260103T170000
DTSTAMP:20260424T131646
CREATED:20231111T162208Z
LAST-MODIFIED:20251214T180901Z
UID:10000108-1767434400-1767459600@divexellence.de
SUMMARY:Tauchen zum Jahresanfang am Bodensee
DESCRIPTION:Das Tauchen zum Jahresanfang am Bodensee bietet Euch gleich etwas ganz Besonderes. Wir machen zwei geführte Tauchgänge an der Überlinger Steilwand und genießen den Bodensee von seiner schönsten Seite. Mit etwas Glück können wir die Saiblinge sehen\, die im Dezember und Januar zur Laichablage an die Steilwand kommen.   \n\n\n\nDas ist natürlich perfekt für alle die einen Trocki haben. Aber auch in einem guten halbtrocken Anzug (den Ihr gerne bei uns leihen könnt) ist ein Tauchgang möglich. \n\n\n\nWir tauchen an einer steilen Halde ab und kommen in ca. 25 m Tiefe an die Steilwand\, die hier dunkel in die Tiefe fällt. Wir tauchen über die Kante und folgen der Steilwand weiter hinab\, bis zu unserer Maximaltiefe (ja nach Ausbildungsstand) dort tauchen wir an der Steilwand entlang und genießen diese spektakuläre Felswand\, bis wir unseren Aufstieg antreten und entlang Steilwand wieder nach oben tauchen\, über die Halde tauchen wir gemütlich aus und kommen wieder zu unserem Einstiegspunkt zurück. \n\n\n\nBei zwei geführten Tauchgängen zeigen wir euch den Tauchplatz und kümmern uns um die Tauchgangsplanung. Das ist perfekt für alle die den See noch nicht kennen oder einfach zwei entspannte Tauchgänge miterleben wollen. Voraussetzung für diesen Tauchgang ist AOWD\, wir empfehlen ein Deep Specialty. \n\n\n\nAber auch unsere OWD’ler kommen nicht zu kurz und genießen einfach den Bewuchs im Uferbereich und die Halde. \n\n\n\nWir treffen uns um 10 Uhr direkt vor Ort und machen 2 geführte Tauchgänge. Anschließend geht es zu uns in die Tauchschule\, wo wir uns bei Grillwurst (auch vegetarisch / vegan) und Glühwein oder Punsch aufwärmen können. \n\n\n\nDen genauen Tauchplatz legen wir kurzfristig fest und werden je nach Witterungsverhältnissen entweder die Steilwand am Parkhaus Post oder an der Liebesinsel betauchen. \n\n\n\nInbegriffene Leistungen:\n\n\n\n\n2 geführte Tauchgänge\n\n\n\nLuft\n\n\n\nBereitstellung Alpha-Flagge\n\n\n\nOrganisation\n\n\n\nBereitstellung von Erste-Hilfe-Ausrüstung und Sauerstoff\n\n\n\nSnacks\, Wurst (auch veggie) und warme Getränke\n\n\n\n\nNicht inbegriffen: Leihausrüstung\, Fahrt zum See\, Parkgebühren. \n\n\n\nMeldet Euch gerne bei uns per email oder Telefon wenn Ihr Ausrüstung braucht\, Fragen habt\, nur einen Tauchgang machen möchtet oder Ihr sonstige Wünsche für den Tag habt. \n\n\n\nAnmeldeschluss: 22.12.2025 \n\n\n\n\n\n\n\n\n\n	\n	\n\n		\n							\n					Anfrage / Anmeldung				\n			\n					\n\n		\n			\n		\n			\n			Kontakt
URL:https://divexellence.de/event/tauchen-zum-jahresanfang-am-bodensee/
LOCATION:Überlingen Liebesinsel – Bodensee\, Seestraße 39\, Überlingen\, 88662\, Deutschland
ATTACH;FMTTYPE=image/jpeg:https://divexellence.de/wp-content/uploads/2023/11/Silvestertauchen-diveXellence.jpg
END:VEVENT
BEGIN:VEVENT
DTSTART;TZID=Europe/Berlin:20260107T184500
DTEND;TZID=Europe/Berlin:20260107T194500
DTSTAMP:20260424T131646
CREATED:20251214T175934Z
LAST-MODIFIED:20251214T182618Z
UID:10000225-1767811500-1767815100@divexellence.de
SUMMARY:Pool-Termine
DESCRIPTION:Zu folgenden Daten und Uhrzeiten sind im Parkbad Laupheim unsere Pool-Termine geplant. An jedem dieser Termine ist es möglich ein DSD-Schnuppertauchen zu machen\, einen OWD-Anfängerkurs zu starten oder alte Kenntnisse in einem ReActivate aufzufrischen. Auch der erste Orientierungstauchgang mit einem Trockentauchanzug würde hier stattfinden. \n\n\n\nAlle Infos zu möglichen Kursen findet ihr auf unserer Seite zu den Tauch-Kursen. \n\n\n\nBei Interesse meldet Euch unbedingt rechtzeitig vor den jeweiligen Pool-Terminen (spätestens 1 Woche vorher) bei uns\, damit wir sicherstellen können\, dass wir die passende Ausrüstung für Euch parat haben. \n\n\n\nTreffpunkt ist jeweils 1:30 Stunde vor den angegebenen Zeiten am Haupteingang des Parkbad Laupheim. \n\n\n\nAb März 2026 planen wir mit 2 zusätzlichen Terminen Donnerstag abends in Heidenheim. Bei Interesse: bitte melden! \n\n\n\nBei Bedarf werden wir weitere Pool-Termine organisieren. Momentan finden folgende Termine statt: \n\n\n\n\n\n\nMi.\, 07.01.2026 von 18:45-19:45 h\n\n\n\nMi.\, 14.01.2026 von 18:45-19:45 h\n\n\n\nMi.\, 21.01.2026 von 18:45-19:45 h\n\n\n\nMi.\, 28.01.2026 von 18:45-19:45 h\n\n\n\nMi.\, 04.02.2026 von 18:45-19:45 h\n\n\n\nMi.\, 11.02.2026 von 18:45-19:45 h\n\n\n\nMi.\, 25.02.2026 von 18:45-19:45 h\n\n\n\nMi.\, 04.03.2026 von 18:45-19:45 h\n\n\n\nMi.\, 11.03.2026 von 18:45-19:45 h\n\n\n\nMi.\, 15.04.2026 von 18:45-19:45 h\n\n\n\nMi.\, 22.04.2026 von 18:45-19:45 h\n\n\n\nMi.\, 29.04.2026 von 18:45-19:45 h\n\n\n\n\n\n\n\nMi.\, 06.05.2026 von 18:00-19:45 h\n\n\n\nMi.\, 13.05.2026 von 18:00-19:45 h\n\n\n\nMi.\, 20.05.2026 von 18:00-19:45 h\n\n\n\nMi.\, 27.05.2026 von 18:00-19:45 h\n\n\n\nMi.\, 03.06.2026 von 18:00-19:45 h\n\n\n\nMi.\, 10.06.2026 von 18:00-19:45 h\n\n\n\nMi.\, 17.06.2026 von 18:00-19:45 h\n\n\n\nMi.\, 24.06.2026 von 18:00-19:45 h\n\n\n\nMi.\, 01.07.2026 von 18:00-19:45 h\n\n\n\nMi.\, 08.07.2026 von 18:00-19:45 h\n\n\n\nMi.\, 15.07.2026 von 18:00-19:45 h\n\n\n\nMi.\, 22.07.2026 von 18:00-19:45 h\n\n\n\nMi.\, 29.07.2026 von 18:00-19:45 h\n\n\n\n\n\n\nFalls Ihr ein ReActivate (nach mehreren Monaten ohne Tauchen wieder einsteigen\, siehe auch bei PADI) machen wollt dann ist das ebenfalls an diesen Tagen möglich. Bucht aber bitte nicht direkt bei PADI\, sondern meldet Euch erst bei uns. \n\n\n\nFür mehr Infos und zur Anmeldung meldet Euch gerne bei uns über das Kontaktformular.  \n\n\n\nAnmeldeschluss: Bei Interesse meldet euch bitte spätestens eine Woche vor dem jeweiligen Pool-Termin bei uns.  \n\n\n\nLeihausrüstung steht zur Verfügung und ist wie in den jeweiligen Kursen beschrieben meist im Kurspreis inklusive. Ebenso ist der Eintritt in den Pool bei Kursen inklusive. \n\n\n\n\n\n\n\n\n\n\n\n\n\n	\n	\n\n		\n							\n					Anfrage / Anmeldung				\n			\n					\n\n		\n			\n		\n			\n			Kontakt
URL:https://divexellence.de/event/pool-termine/2026-01-07/
LOCATION:Parkbad\, Lange Str. 90\, Laupheim\, 88471
CATEGORIES:DSD Schnuppertauchen,OWD,Pool,ReActivate
ATTACH;FMTTYPE=image/jpeg:https://divexellence.de/wp-content/uploads/2022/04/IMG_1869-scaled-e1651011753859.jpg
END:VEVENT
BEGIN:VEVENT
DTSTART;TZID=Europe/Berlin:20260112T180000
DTEND;TZID=Europe/Berlin:20260112T200000
DTSTAMP:20260424T131646
CREATED:20240414T185157Z
LAST-MODIFIED:20260107T103234Z
UID:10000250-1768240800-1768248000@divexellence.de
SUMMARY:Termine zur Hauptuntersuchung
DESCRIPTION:Wir bieten Euch hier Termine zur Hauptuntersuchung Eurer Tauchflaschen als Service an. Alle 30 Monate müssen Eure mit Atemluft gefüllte Tauchflaschen in Deutschland zu einer Hauptuntersuchung. \n\n\n\nBeachtet bitte\, dass wir Flaschen mit abgelaufener Hauptuntersuchung nicht füllen und Ihr dürft diese auch nicht selbst an unserer Außenfüllanlage füllen. Darum werft gelegentlich einen Blick auf das Siegel der letzten Hauptuntersuchung auf Eurer Flasche und bringt sie rechtzeitig vor Ablauf bei uns vorbei. \n\n\n\nWir organisieren die Hauptuntersuchung für Euch. Ihr gebt Eure Flaschen einfach zu unseren Öffnungszeiten bei uns ab. Dazu sind sie am Besten bereits leer (drucklos) und ev. vorhandene Griffe sind bereits demontiert. \n\n\n\nHauptuntersuchung\n\n\n\nWir bringen Eure Flaschen drucklos und ohne Anbauten (Griffe\, Standfüße\, etc.) zur Hauptuntersuchung\, holen sie wieder ab und bei bestandener Prüfung füllen wir sie für Euch auch wieder mit 200 bar feinster Frischluft. Danach holt Ihr sie wieder bei uns ab.Der Preis inkl. Füllung und Gebühr der Hauptuntersuchung hierfür ist 59 Euro \n\n\n\nDie Termine zur Hauptuntersuchung für 2026: \n\n\n\nAbgabe spätestens amAbholung frühestens am12.01.202630.01.202609.02.202627.02.202609.03.202630.03.202630.03.202624.04.202611.05.202629.05.202608.06.202626.06.202606.07.202624.07.202607.09.202625.09.202605.10.202623.10.202609.11.202620.11.2026\n\n\n\nGerne machen wir für Euch optional auch eine Sichtprüfung der Flasche zwischen den Hauptuntersuchungs-Terminen: \n\n\n\nSichtprüfung ohne Hauptuntersuchung\n\n\n\nFalls Ihr die Flaschen bereits drucklos bringt könnt Ihr im Idealfall vor Ort warten und die Flasche nach 30-45 Minuten direkt frisch befüllt wieder mitnehmen. Dafür nehmt Ihr am Besten kurz bevor Ihr kommt einmal Kontakt mit uns auf\, damit Ihr dann nicht zu lange warten müsst.Die Sichtprüfung kostet Euch 25 Euro inkl. Füllung und 2 Fotos aus dem Innern Eurer Flasche. \n\n\n\nFür mehr Infos und zur Anmeldung meldet Euch gerne bei uns über das Kontaktformular. \n\n\n\n\n\n\n\n\n\n			\n		\n			\n			Kontakt
URL:https://divexellence.de/event/termine-zur-hauptuntersuchung/2026-01-12/
LOCATION:diveXellence\, Rötelbachstr. 7\, Ulm\, 89079\, Deutschland
CATEGORIES:Service,Wartung
ATTACH;FMTTYPE=image/jpeg:https://divexellence.de/wp-content/uploads/2024/04/Flaschen-TUeV-Termine-scaled.jpg
ORGANIZER;CN="Jens Nassall":MAILTO:info@diveXellence.de
END:VEVENT
BEGIN:VEVENT
DTSTART;TZID=Europe/Berlin:20260114T184500
DTEND;TZID=Europe/Berlin:20260114T194500
DTSTAMP:20260424T131646
CREATED:20251214T175934Z
LAST-MODIFIED:20251214T182618Z
UID:10000226-1768416300-1768419900@divexellence.de
SUMMARY:Pool-Termine
DESCRIPTION:Zu folgenden Daten und Uhrzeiten sind im Parkbad Laupheim unsere Pool-Termine geplant. An jedem dieser Termine ist es möglich ein DSD-Schnuppertauchen zu machen\, einen OWD-Anfängerkurs zu starten oder alte Kenntnisse in einem ReActivate aufzufrischen. Auch der erste Orientierungstauchgang mit einem Trockentauchanzug würde hier stattfinden. \n\n\n\nAlle Infos zu möglichen Kursen findet ihr auf unserer Seite zu den Tauch-Kursen. \n\n\n\nBei Interesse meldet Euch unbedingt rechtzeitig vor den jeweiligen Pool-Terminen (spätestens 1 Woche vorher) bei uns\, damit wir sicherstellen können\, dass wir die passende Ausrüstung für Euch parat haben. \n\n\n\nTreffpunkt ist jeweils 1:30 Stunde vor den angegebenen Zeiten am Haupteingang des Parkbad Laupheim. \n\n\n\nAb März 2026 planen wir mit 2 zusätzlichen Terminen Donnerstag abends in Heidenheim. Bei Interesse: bitte melden! \n\n\n\nBei Bedarf werden wir weitere Pool-Termine organisieren. Momentan finden folgende Termine statt: \n\n\n\n\n\n\nMi.\, 07.01.2026 von 18:45-19:45 h\n\n\n\nMi.\, 14.01.2026 von 18:45-19:45 h\n\n\n\nMi.\, 21.01.2026 von 18:45-19:45 h\n\n\n\nMi.\, 28.01.2026 von 18:45-19:45 h\n\n\n\nMi.\, 04.02.2026 von 18:45-19:45 h\n\n\n\nMi.\, 11.02.2026 von 18:45-19:45 h\n\n\n\nMi.\, 25.02.2026 von 18:45-19:45 h\n\n\n\nMi.\, 04.03.2026 von 18:45-19:45 h\n\n\n\nMi.\, 11.03.2026 von 18:45-19:45 h\n\n\n\nMi.\, 15.04.2026 von 18:45-19:45 h\n\n\n\nMi.\, 22.04.2026 von 18:45-19:45 h\n\n\n\nMi.\, 29.04.2026 von 18:45-19:45 h\n\n\n\n\n\n\n\nMi.\, 06.05.2026 von 18:00-19:45 h\n\n\n\nMi.\, 13.05.2026 von 18:00-19:45 h\n\n\n\nMi.\, 20.05.2026 von 18:00-19:45 h\n\n\n\nMi.\, 27.05.2026 von 18:00-19:45 h\n\n\n\nMi.\, 03.06.2026 von 18:00-19:45 h\n\n\n\nMi.\, 10.06.2026 von 18:00-19:45 h\n\n\n\nMi.\, 17.06.2026 von 18:00-19:45 h\n\n\n\nMi.\, 24.06.2026 von 18:00-19:45 h\n\n\n\nMi.\, 01.07.2026 von 18:00-19:45 h\n\n\n\nMi.\, 08.07.2026 von 18:00-19:45 h\n\n\n\nMi.\, 15.07.2026 von 18:00-19:45 h\n\n\n\nMi.\, 22.07.2026 von 18:00-19:45 h\n\n\n\nMi.\, 29.07.2026 von 18:00-19:45 h\n\n\n\n\n\n\nFalls Ihr ein ReActivate (nach mehreren Monaten ohne Tauchen wieder einsteigen\, siehe auch bei PADI) machen wollt dann ist das ebenfalls an diesen Tagen möglich. Bucht aber bitte nicht direkt bei PADI\, sondern meldet Euch erst bei uns. \n\n\n\nFür mehr Infos und zur Anmeldung meldet Euch gerne bei uns über das Kontaktformular.  \n\n\n\nAnmeldeschluss: Bei Interesse meldet euch bitte spätestens eine Woche vor dem jeweiligen Pool-Termin bei uns.  \n\n\n\nLeihausrüstung steht zur Verfügung und ist wie in den jeweiligen Kursen beschrieben meist im Kurspreis inklusive. Ebenso ist der Eintritt in den Pool bei Kursen inklusive. \n\n\n\n\n\n\n\n\n\n\n\n\n\n	\n	\n\n		\n							\n					Anfrage / Anmeldung				\n			\n					\n\n		\n			\n		\n			\n			Kontakt
URL:https://divexellence.de/event/pool-termine/2026-01-14/
LOCATION:Parkbad\, Lange Str. 90\, Laupheim\, 88471
CATEGORIES:DSD Schnuppertauchen,OWD,Pool,ReActivate
ATTACH;FMTTYPE=image/jpeg:https://divexellence.de/wp-content/uploads/2022/04/IMG_1869-scaled-e1651011753859.jpg
END:VEVENT
BEGIN:VEVENT
DTSTART;TZID=Europe/Berlin:20260121T184500
DTEND;TZID=Europe/Berlin:20260121T194500
DTSTAMP:20260424T131646
CREATED:20251214T175934Z
LAST-MODIFIED:20251214T182618Z
UID:10000227-1769021100-1769024700@divexellence.de
SUMMARY:Pool-Termine
DESCRIPTION:Zu folgenden Daten und Uhrzeiten sind im Parkbad Laupheim unsere Pool-Termine geplant. An jedem dieser Termine ist es möglich ein DSD-Schnuppertauchen zu machen\, einen OWD-Anfängerkurs zu starten oder alte Kenntnisse in einem ReActivate aufzufrischen. Auch der erste Orientierungstauchgang mit einem Trockentauchanzug würde hier stattfinden. \n\n\n\nAlle Infos zu möglichen Kursen findet ihr auf unserer Seite zu den Tauch-Kursen. \n\n\n\nBei Interesse meldet Euch unbedingt rechtzeitig vor den jeweiligen Pool-Terminen (spätestens 1 Woche vorher) bei uns\, damit wir sicherstellen können\, dass wir die passende Ausrüstung für Euch parat haben. \n\n\n\nTreffpunkt ist jeweils 1:30 Stunde vor den angegebenen Zeiten am Haupteingang des Parkbad Laupheim. \n\n\n\nAb März 2026 planen wir mit 2 zusätzlichen Terminen Donnerstag abends in Heidenheim. Bei Interesse: bitte melden! \n\n\n\nBei Bedarf werden wir weitere Pool-Termine organisieren. Momentan finden folgende Termine statt: \n\n\n\n\n\n\nMi.\, 07.01.2026 von 18:45-19:45 h\n\n\n\nMi.\, 14.01.2026 von 18:45-19:45 h\n\n\n\nMi.\, 21.01.2026 von 18:45-19:45 h\n\n\n\nMi.\, 28.01.2026 von 18:45-19:45 h\n\n\n\nMi.\, 04.02.2026 von 18:45-19:45 h\n\n\n\nMi.\, 11.02.2026 von 18:45-19:45 h\n\n\n\nMi.\, 25.02.2026 von 18:45-19:45 h\n\n\n\nMi.\, 04.03.2026 von 18:45-19:45 h\n\n\n\nMi.\, 11.03.2026 von 18:45-19:45 h\n\n\n\nMi.\, 15.04.2026 von 18:45-19:45 h\n\n\n\nMi.\, 22.04.2026 von 18:45-19:45 h\n\n\n\nMi.\, 29.04.2026 von 18:45-19:45 h\n\n\n\n\n\n\n\nMi.\, 06.05.2026 von 18:00-19:45 h\n\n\n\nMi.\, 13.05.2026 von 18:00-19:45 h\n\n\n\nMi.\, 20.05.2026 von 18:00-19:45 h\n\n\n\nMi.\, 27.05.2026 von 18:00-19:45 h\n\n\n\nMi.\, 03.06.2026 von 18:00-19:45 h\n\n\n\nMi.\, 10.06.2026 von 18:00-19:45 h\n\n\n\nMi.\, 17.06.2026 von 18:00-19:45 h\n\n\n\nMi.\, 24.06.2026 von 18:00-19:45 h\n\n\n\nMi.\, 01.07.2026 von 18:00-19:45 h\n\n\n\nMi.\, 08.07.2026 von 18:00-19:45 h\n\n\n\nMi.\, 15.07.2026 von 18:00-19:45 h\n\n\n\nMi.\, 22.07.2026 von 18:00-19:45 h\n\n\n\nMi.\, 29.07.2026 von 18:00-19:45 h\n\n\n\n\n\n\nFalls Ihr ein ReActivate (nach mehreren Monaten ohne Tauchen wieder einsteigen\, siehe auch bei PADI) machen wollt dann ist das ebenfalls an diesen Tagen möglich. Bucht aber bitte nicht direkt bei PADI\, sondern meldet Euch erst bei uns. \n\n\n\nFür mehr Infos und zur Anmeldung meldet Euch gerne bei uns über das Kontaktformular.  \n\n\n\nAnmeldeschluss: Bei Interesse meldet euch bitte spätestens eine Woche vor dem jeweiligen Pool-Termin bei uns.  \n\n\n\nLeihausrüstung steht zur Verfügung und ist wie in den jeweiligen Kursen beschrieben meist im Kurspreis inklusive. Ebenso ist der Eintritt in den Pool bei Kursen inklusive. \n\n\n\n\n\n\n\n\n\n\n\n\n\n	\n	\n\n		\n							\n					Anfrage / Anmeldung				\n			\n					\n\n		\n			\n		\n			\n			Kontakt
URL:https://divexellence.de/event/pool-termine/2026-01-21/
LOCATION:Parkbad\, Lange Str. 90\, Laupheim\, 88471
CATEGORIES:DSD Schnuppertauchen,OWD,Pool,ReActivate
ATTACH;FMTTYPE=image/jpeg:https://divexellence.de/wp-content/uploads/2022/04/IMG_1869-scaled-e1651011753859.jpg
END:VEVENT
BEGIN:VEVENT
DTSTART;TZID=Europe/Berlin:20260124T090000
DTEND;TZID=Europe/Berlin:20260125T190000
DTSTAMP:20260424T131646
CREATED:20250102T181153Z
LAST-MODIFIED:20251202T173148Z
UID:10000132-1769245200-1769367600@divexellence.de
SUMMARY:dive4life und zur Boot
DESCRIPTION:Ausflug ins dive4life und zur Boot\n\n\n\nDu möchtest nicht auf den Sommer oder den nächsten Tauchurlaub warten bis du endlich wieder Unterwasser kommst? Dann haben wir genau das richtige für dich: einen Ausflug ins dive4life und zur Boot. \n\n\n\nDas dive4Life ist Deutschlands größtes\, beheiztes Indoor Tauchcenter. 3 Millionen Liter glasklares Wasser\, 20m Tiefe und 26 Grad Wassertemperatur bieten auch im Winter perfekte Tauchbedingungen. Es ist besonders gut für alle Anfänger geeignet\, aber auch erfahrene Taucher kommen hier auf ihre Kosten. \n\n\n\nAblauf:\n\n\n\nWir treffen uns am Samstag auf der Messe Boot in Düsseldorf\, auf der auch die größte Tauchmesse Europas stattfindet. Wir schlendern gemeinsam über die Messe und zeigen euch die letzten Neuigkeiten unserer Lieferanten Scubapro\, Mares\, Apeks\, Aqualung\, Fourth Element\, Xdeep\, Oceanic\, Hollis\, Zeagle und Bare. Wir besuchen unsere Ausbildungsorganisation PADI und ihr könnt kleine Preise gewinnen\, Give-Aways abstauben und einfach die Gemeinschaft mit Gleichgesinnten genießen. \n\n\n\nAbends fahren wir nach Siegburg und checken im Friendly Cityhotel Octopus ein. Es gibt ein gemeinsames Abendessen und am Sonntag starten wir mit einem Frühstück im Hotel. \n\n\n\nDanach geht es in das Divecenter dive4life in Siegburg. Dort haben wir 8 Stunden Zeit\, um im Indoor Pool abzutauchen. Ihr könnt am Sonntag die Zeit vor der Heimfahrt auch nutzen\, um im Hotel und dem dazugehörigen Schwimmbad inkl. Sauna zu entspannen.  \n\n\n\nPreise: \n\n\n\n\nPreis pro Taucher im Doppelzimmer: 169 €\n\n\n\nEZ-Aufschlag: 35 €\n\n\n\nBei Stornierung sind die uns entstandenen Kosten in voller Höhe zu übernehmen.\n\n\n\n\nInbegriffene Leistungen: \n\n\n\n\nEintritt dive4life am Sonntag\n\n\n\nÜbernachtung & Frühstück\n\n\n\nNutzung des Schwimmbads + Sauna\n\n\n\nOrganisation und Betreuung durch unsere Tauchlehrer\n\n\n\nFlasche & Blei\n\n\n\n\nNicht inbegriffen: \n\n\n\n\nLeihausrüstung (bitte bei Bedarf vorher bei uns melden)\n\n\n\nMesse Eintritt Boot (Optional zubuchbar)\n\n\n\nGeführte Tauchgänge oder Kurse (können auf Anfrage zugebucht werden\, z.B. Auffrischungskurs)\,\n\n\n\nAnfahrt und Verpflegung (außer Frühstück)\n\n\n\n\nAnmeldung\n\n\n\nHier geht es direkt zum Anmeldeformular \n\n\n\n\nAnmeldeformular\n\n\n\n\nAnmeldeschluss: 06.01.2026. Danach sind Anmeldungen auf Anfrage und bei Verfügbarkeit ev. noch möglich. \n\n\n\n\n\n\n\n\n\n	\n	\n\n		\n							\n					Anfrage / Anmeldung				\n			\n					\n\n		\n			\n		\n			\n			Kontakt
URL:https://divexellence.de/event/dive4life-und-zur-boot/
LOCATION:dive4life\, Zeithstr. 110\, Siegburg\, 53721
CATEGORIES:Fun Wochenende
ATTACH;FMTTYPE=image/jpeg:https://divexellence.de/wp-content/uploads/2025/01/dive4life-diveXellence.jpg
ORGANIZER;CN="Jens Nassall":MAILTO:info@diveXellence.de
END:VEVENT
BEGIN:VEVENT
DTSTART;TZID=Europe/Berlin:20260128T184500
DTEND;TZID=Europe/Berlin:20260128T194500
DTSTAMP:20260424T131646
CREATED:20251214T175934Z
LAST-MODIFIED:20251214T182618Z
UID:10000228-1769625900-1769629500@divexellence.de
SUMMARY:Pool-Termine
DESCRIPTION:Zu folgenden Daten und Uhrzeiten sind im Parkbad Laupheim unsere Pool-Termine geplant. An jedem dieser Termine ist es möglich ein DSD-Schnuppertauchen zu machen\, einen OWD-Anfängerkurs zu starten oder alte Kenntnisse in einem ReActivate aufzufrischen. Auch der erste Orientierungstauchgang mit einem Trockentauchanzug würde hier stattfinden. \n\n\n\nAlle Infos zu möglichen Kursen findet ihr auf unserer Seite zu den Tauch-Kursen. \n\n\n\nBei Interesse meldet Euch unbedingt rechtzeitig vor den jeweiligen Pool-Terminen (spätestens 1 Woche vorher) bei uns\, damit wir sicherstellen können\, dass wir die passende Ausrüstung für Euch parat haben. \n\n\n\nTreffpunkt ist jeweils 1:30 Stunde vor den angegebenen Zeiten am Haupteingang des Parkbad Laupheim. \n\n\n\nAb März 2026 planen wir mit 2 zusätzlichen Terminen Donnerstag abends in Heidenheim. Bei Interesse: bitte melden! \n\n\n\nBei Bedarf werden wir weitere Pool-Termine organisieren. Momentan finden folgende Termine statt: \n\n\n\n\n\n\nMi.\, 07.01.2026 von 18:45-19:45 h\n\n\n\nMi.\, 14.01.2026 von 18:45-19:45 h\n\n\n\nMi.\, 21.01.2026 von 18:45-19:45 h\n\n\n\nMi.\, 28.01.2026 von 18:45-19:45 h\n\n\n\nMi.\, 04.02.2026 von 18:45-19:45 h\n\n\n\nMi.\, 11.02.2026 von 18:45-19:45 h\n\n\n\nMi.\, 25.02.2026 von 18:45-19:45 h\n\n\n\nMi.\, 04.03.2026 von 18:45-19:45 h\n\n\n\nMi.\, 11.03.2026 von 18:45-19:45 h\n\n\n\nMi.\, 15.04.2026 von 18:45-19:45 h\n\n\n\nMi.\, 22.04.2026 von 18:45-19:45 h\n\n\n\nMi.\, 29.04.2026 von 18:45-19:45 h\n\n\n\n\n\n\n\nMi.\, 06.05.2026 von 18:00-19:45 h\n\n\n\nMi.\, 13.05.2026 von 18:00-19:45 h\n\n\n\nMi.\, 20.05.2026 von 18:00-19:45 h\n\n\n\nMi.\, 27.05.2026 von 18:00-19:45 h\n\n\n\nMi.\, 03.06.2026 von 18:00-19:45 h\n\n\n\nMi.\, 10.06.2026 von 18:00-19:45 h\n\n\n\nMi.\, 17.06.2026 von 18:00-19:45 h\n\n\n\nMi.\, 24.06.2026 von 18:00-19:45 h\n\n\n\nMi.\, 01.07.2026 von 18:00-19:45 h\n\n\n\nMi.\, 08.07.2026 von 18:00-19:45 h\n\n\n\nMi.\, 15.07.2026 von 18:00-19:45 h\n\n\n\nMi.\, 22.07.2026 von 18:00-19:45 h\n\n\n\nMi.\, 29.07.2026 von 18:00-19:45 h\n\n\n\n\n\n\nFalls Ihr ein ReActivate (nach mehreren Monaten ohne Tauchen wieder einsteigen\, siehe auch bei PADI) machen wollt dann ist das ebenfalls an diesen Tagen möglich. Bucht aber bitte nicht direkt bei PADI\, sondern meldet Euch erst bei uns. \n\n\n\nFür mehr Infos und zur Anmeldung meldet Euch gerne bei uns über das Kontaktformular.  \n\n\n\nAnmeldeschluss: Bei Interesse meldet euch bitte spätestens eine Woche vor dem jeweiligen Pool-Termin bei uns.  \n\n\n\nLeihausrüstung steht zur Verfügung und ist wie in den jeweiligen Kursen beschrieben meist im Kurspreis inklusive. Ebenso ist der Eintritt in den Pool bei Kursen inklusive. \n\n\n\n\n\n\n\n\n\n\n\n\n\n	\n	\n\n		\n							\n					Anfrage / Anmeldung				\n			\n					\n\n		\n			\n		\n			\n			Kontakt
URL:https://divexellence.de/event/pool-termine/2026-01-28/
LOCATION:Parkbad\, Lange Str. 90\, Laupheim\, 88471
CATEGORIES:DSD Schnuppertauchen,OWD,Pool,ReActivate
ATTACH;FMTTYPE=image/jpeg:https://divexellence.de/wp-content/uploads/2022/04/IMG_1869-scaled-e1651011753859.jpg
END:VEVENT
END:VCALENDAR