BEGIN:VCALENDAR
VERSION:2.0
PRODID:-//diveXellence - ECPv6.15.20//NONSGML v1.0//EN
CALSCALE:GREGORIAN
METHOD:PUBLISH
X-ORIGINAL-URL:https://divexellence.de
X-WR-CALDESC:Veranstaltungen für diveXellence
REFRESH-INTERVAL;VALUE=DURATION:PT1H
X-Robots-Tag:noindex
X-PUBLISHED-TTL:PT1H
BEGIN:VTIMEZONE
TZID:Europe/Berlin
BEGIN:DAYLIGHT
TZOFFSETFROM:+0100
TZOFFSETTO:+0200
TZNAME:CEST
DTSTART:20240331T010000
END:DAYLIGHT
BEGIN:STANDARD
TZOFFSETFROM:+0200
TZOFFSETTO:+0100
TZNAME:CET
DTSTART:20241027T010000
END:STANDARD
BEGIN:DAYLIGHT
TZOFFSETFROM:+0100
TZOFFSETTO:+0200
TZNAME:CEST
DTSTART:20250330T010000
END:DAYLIGHT
BEGIN:STANDARD
TZOFFSETFROM:+0200
TZOFFSETTO:+0100
TZNAME:CET
DTSTART:20251026T010000
END:STANDARD
BEGIN:DAYLIGHT
TZOFFSETFROM:+0100
TZOFFSETTO:+0200
TZNAME:CEST
DTSTART:20260329T010000
END:DAYLIGHT
BEGIN:STANDARD
TZOFFSETFROM:+0200
TZOFFSETTO:+0100
TZNAME:CET
DTSTART:20261025T010000
END:STANDARD
END:VTIMEZONE
BEGIN:VEVENT
DTSTART;TZID=Europe/Berlin:20250828T090000
DTEND;TZID=Europe/Berlin:20250904T170000
DTSTAMP:20260424T185026
CREATED:20250527T193646Z
LAST-MODIFIED:20250527T194215Z
UID:10000218-1756371600-1757005200@divexellence.de
SUMMARY:Tauchreise auf die Insel Krk in Kroatien
DESCRIPTION:Tauchreise auf die Insel Krk in Kroatien\n\n\n\nBegleite uns auf eine entspannte Tauchreise auf die Insel Krk in Kroatien! Kristallklares Wasser\, abwechslungsreiche Tauchplätze und mediterranes Flair erwarten dich. Wir wohnen in gemütlichen Ferienwohnungen – ideal für entspannte Abende nach spannenden Tauchtagen. \n\n\n\nDas erwartet dich:\n\n\n\n\nLandtauchgänge direkt von der Küste aus – bequem und flexibel\n\n\n\nBootstauchgänge zu abgelegenen Spots mit beeindruckender Unterwasserlandschaft\n\n\n\nWracktauchgänge für Abenteuerlustige – entdecke versunkene Geschichte\n\n\n\nHausriff in unmittelbarer Nähe\n\n\n\nTauchbasis vor Ort mit kompletter Infrastruktur\n\n\n\n\nTauchausbildung:\n\n\n\nDu möchtest deine Tauchausbildung starten oder erweitern? Kein Problem! Während der Reise bieten wir folgende Kurse an: \n\n\n\n\nOpen Water Diver\n\n\n\nAdvanced Open Water Diver\n\n\n\nSpezialkurse wie Tieftauchen\, Navigation oder Wracktauchen\n\n\n\n\nUnsere erfahrenen Tauchlehrer begleiten dich professionell und individuell durch deine Ausbildung – in entspannter Urlaubsatmosphäre. \n\n\n\nFür wen ist die Reise geeignet?\n\n\n\nEgal ob du gerade erst mit dem Tauchen beginnst oder schon viele Tauchgänge im Logbuch hast – diese Reise ist für alle\, die das Meer lieben und gerne in der Gruppe unterwegs sind. \n\n\n\nWarum mit diveXellence?\n\n\n\nWir stehen für qualitativ hochwertige Tauchreisen\, persönliche Betreuung und unvergessliche Erlebnisse unter Wasser. Bei uns bist du nicht einfach Teilnehmer – du bist Teil der Crew. \n\n\n\nReisepreis: ab 299- € p. P.Enthaltene Leistungen:7 Nächte im Ferienhäuser (1-2 Doppelzimmern je Ferienhaus)Infoabend (ca. 6 Wochen vor Abreise)Anmeldeschluss: 30.05.2025 Auch nach dem Termin könnt ihr gerne noch Anfragen ob noch etwas frei ist. \n\n\n\n\nAnmeldeformular laden\n\n\n\n\nWir freuen uns auf Dich! \n\n\n\n\n\n\n\n\n\n			\n		\n			\n			Kontaktiere uns zur Anmeldung
URL:https://divexellence.de/event/tauchreise-auf-die-insel-krk-in-kroatien/
LOCATION:Dive Loft Krk\, Namori 4\, Vrbnik Insel Krk\, 51516\, Croatia (Local Name: Hrvatska)
CATEGORIES:AOWD,Freiwasser,Fun Wochenende
ATTACH;FMTTYPE=image/jpeg:https://divexellence.de/wp-content/uploads/2025/05/KRK-mit-diveXellence.jpg
ORGANIZER;CN="Jens Nassall":MAILTO:info@diveXellence.de
END:VEVENT
BEGIN:VEVENT
DTSTART;TZID=Europe/Berlin:20250904T170000
DTEND;TZID=Europe/Berlin:20250904T210000
DTSTAMP:20260424T185026
CREATED:20240822T203953Z
LAST-MODIFIED:20250215T161229Z
UID:10000147-1757005200-1757019600@divexellence.de
SUMMARY:Guided Dive in Sinningen
DESCRIPTION:Guided Dive in Sinningen: Ihr wollt mal wieder gut organisiert einen schönen Tauchgang machen? Gemeinsam Zeit verbringen\, aber Euch nicht wochenlang mit der Organisation der Tauchgänge beschäftigen? Oder Euer letzter Tauchgang ist schon zu lange her und ihr wisst gar nicht mehr wie das geht? \n\n\n\nDann seid ihr bei uns richtig. Kommt mit zum Guided Dive in Sinningen am Baggersee. \n\n\n\nFür alle die den Tauchplatz noch nicht kennen\, keinen Buddy haben\, noch ganz am Anfang ihrer Tauchkariere stehen oder nach einer längeren Tauchpause wieder einsteigen wollen\, bieten wir geführt Tauchgänge an. Vor dem Tauchgang gibt es ein ausführliches Briefing und wir kümmern uns um die Tauchgangsplanung und Navigation. Ihr könnt den Tauchgang und den ganzen Tag einfach genießen. \n\n\n\nGeplante Termine\n\n\n\n\nSo.\, 16.03.2025 – bis zu 3 TG: 14 Uhr und 16 Uhr\, sowie Nacht-TG um 18 Uhr\n\n\n\nMi.\, 19.03.2025 – nur Nacht-Tauchgang um 18:30 Uhr\n\n\n\nDo.\, 27.03.2025 – nur Nacht-Tauchgang um 18:00 Uhr\n\n\n\nDo.\, 03.04.2025 – nur Nacht-Tauchgang um 19:45 Uhr\n\n\n\nMi.\, 09.04.2025 – nur Nacht-Tauchgang um 19:45 Uhr\n\n\n\nDo.\, 24.04.2025 – normaler TG um 17:30 Uhr und Nacht-TG um 20:00 Uhr\n\n\n\nDi.\, 29.04.2025 – normaler TG um 18:00 Uhr und Nacht-TG um 20:00 Uhr\n\n\n\nDo.\, 04.09.2025 – normaler TG um 17:00 Uhr und Nacht-TG um 19:30 Uhr\n\n\n\nDo.\, 11.09.2025 – normaler TG um 17:00 Uhr und Nacht-TG um 19:30 Uhr\n\n\n\nDi.\, 23.09.2025 – nur Nacht-Tauchgang um 18:45 Uhr\n\n\n\nDo.\, 09.10.2025 – nur Nacht-Tauchgang um 18:30 Uhr\n\n\n\nDo.\, 16.10.2025 – nur Nacht-Tauchgang um 18:15 Uhr\n\n\n\nDo.\, 23.10.2025 – nur Nacht-Tauchgang um 18:00 Uhr\n\n\n\n\nMelde dich bei info@divexellence.de \n\n\n\nPreis für den Guided Dive ist 29 Euro. Leihausrüstung kann gemietet werden. Preise findet ihr auf den Service-Seiten. Preis für den Guided Dive inkl. kompletter Ausrüstung: 79 Euro.Aufpreis für Nacht-Tauchgänge ist jeweils 10 Euro. \n\n\n\nWer lange nicht mehr tauchen war kann vorher einen ReActivate machen. (Siehe auch bei PADI) Infos zum ReActivate findet Ihr auch bei uns. \n\n\n\nFür mehr Infos meldet Euch gerne bei uns über das Kontaktformular.  \n\n\n\nAnmeldeschluss: Bei Interesse meldet euch bitte spätestens bis zwei Tage vor dem jeweiligen Termin an. \n\n\n\n\n\n\n\n\n\n	\n	\n\n		\n							\n					Anfrage / Anmeldung				\n			\n					\n\n		\n			\n		\n			\n			Kontakt
URL:https://divexellence.de/event/guided-dive-in-sinningen/2025-09-04/
LOCATION:Sinningen\, Seestraße\, Kirchberg an der Iller\, 88486\, Deutschland
CATEGORIES:Fun Wochenende,Guided Dive,ReActivate
ATTACH;FMTTYPE=image/jpeg:https://divexellence.de/wp-content/uploads/2022/05/BE22E4FA-1C87-4378-9CEB-0E6904AE0E61.jpeg
ORGANIZER;CN="Jens Nassall":MAILTO:info@diveXellence.de
END:VEVENT
BEGIN:VEVENT
DTSTART;TZID=Europe/Berlin:20250906T090000
DTEND;TZID=Europe/Berlin:20250907T180000
DTSTAMP:20260424T185026
CREATED:20240606T171812Z
LAST-MODIFIED:20250215T172505Z
UID:10000193-1757149200-1757268000@divexellence.de
SUMMARY:Rescue Diver Wochenende am Friedberger Baggersee
DESCRIPTION:Das Rescue Diver Wochenende am Friedberger Baggersee führt uns in die Nähe von Augsburg. Perfekte logistische Gegebenheiten (Füllstation\, Parkplatz\, Kiosk) machen den Platz ideal zum Tauchen. Der See eignet sich sehr gut für Anfänger\, hat aber auch für bereits fortgeschrittene Taucher einiges zu bieten. \n\n\n\nWir planen hier auch den wohl spannendsten und lohnendsten Kurs innerhalb der PADI-Tauchausbildung\, den Rescue Diver Kurs: \n\n\n\nStärke Dein Selbstvertrauen und entwickle Dich zu einem besseren Tauchbuddy durch spannende Szenarien und Rettungsübungen. \n\n\n\n\nLerne kleine Probleme rechtzeitig zu sehen und abzustellen\, bevor sie ein großes Problem werden.\n\n\n\nLerne spielerisch\, aber mit ernstem Hintergrund\, Leben zu retten. Deines oder das Deines Buddys\n\n\n\nÄndere die Art wie Du tauchst und mach Dein Tauchen sicherer.\n\n\n\nWerde das Vorbild zu dem alle schauen wenn es um Sicherheit beim Tauchen geht.\n\n\n\n\nSchau Dir unter unseren Kursen die Details der Ausbildung an und sieh Dir an welche aufregenden und vergünstigte Pakete wir zusammen mit dem EFR (Erste-Hilfe) Kurs und dem Emergency Oxygen Provider Spezialkurs wir anbieten. Alle Details findest Du hier: \n\n\n\n\nDetails zum Rescue-Diver & Pakete\n\n\n\n\nRescue Diver \n\n\n\nWeitere bisher geplante Termine für Rescue Diver Wochenenden 2024: \n\n\n\n\n31. Mai / 1. Juni 2025 (Reutte in Tirol)\n\n\n\n5./6. Juli 2025\n\n\n\n6./7. September 2025\n\n\n\n\nWir machen zunächst 10 einzelne Rettungsübungen und Du lernst wie ein Retter zu denken. Dann übst Du alles einzeln mit Deinem Instructor bis Du sicher genug bist\, dass Du das Gelernte in realen Situationen auch anwenden kannst. \n\n\n\nDann machen wir mit ernsthaftem Spaß zwei Rettungs-Szenarien. Freu Dich auf überraschende\, realistische Situationen in denen Du dann zeigen kannst was Du gelernt hast. \n\n\n\nWir bieten nicht nur den reinen Rescue-Diver-Kurs an. Wir haben auch 2 weitere Pakete:– Rescue + EFR (Erste-Hilfe-Kurs): +110 Euro– Rescue + EFR und Emergency Oxygen Provider Specialty: +230 EuroSprich uns an\, buche das große Paket und lerne noch mehr Sicherheit rund um’s Tauchen. \n\n\n\nKontaktiere uns mit weiteren Fragen und buche direkt bei uns: \n\n\n\n\nKontakt\n\n\n\n\nOder buche über PADI: \n\n\n\n\nRescue Diver buchen\n\n\n\n\nABC-Ausrüstung (Maske\, Flossen\, Schnorchel\, Boots) müssen selbst mitgebracht werden\, können bei uns vorab gekauft werden oder sie können gegen Gebühr extra gemietet werden. \n\n\n\nAnmeldeschluss: jeweils Montag vor dem Wochenende (ihr könnt natürlich gerne auch später noch versuchen bei uns anzufragen) \n\n\n\n\nFür mehr Infos meldet Euch gerne bei uns über das Kontaktformular. Der Preis für das Fun-Tauch-Wochenende hängt dann auch stark davon ab\, was Ihr genau machen wollt. \n\n\n\n\n\n\n\n\n\n\n	\n	\n\n		\n							\n					Anfrage / Anmeldung				\n			\n					\n\n		\n			\n		\n			\n			Kontakt
URL:https://divexellence.de/event/rescue-diver-wochenende-am-friedberger-baggersee/2025-09-06/
LOCATION:Friedberger Baggersee\, Baggersee\, Friedberg\, 86316
CATEGORIES:AOWD,Freiwasser,Fun Wochenende,Guided Dive,OWD,Rescue,Specialty Kurs
ATTACH;FMTTYPE=image/webp:https://divexellence.de/wp-content/uploads/2022/03/Rescue-Diver-Tauchschule-Ulm-e1646935123254.webp
ORGANIZER;CN="Jens Nassall":MAILTO:info@diveXellence.de
END:VEVENT
BEGIN:VEVENT
DTSTART;TZID=Europe/Berlin:20250906T090000
DTEND;TZID=Europe/Berlin:20250907T180000
DTSTAMP:20260424T185026
CREATED:20250215T150403Z
LAST-MODIFIED:20260211T190039Z
UID:10000183-1757149200-1757268000@divexellence.de
SUMMARY:Freiwasser Wochenende am Friedberger Baggersee
DESCRIPTION:Das Freiwasser Wochenende am Friedberger Baggersee führt uns in die Nähe von Augsburg. Perfekte logistische Gegebenheiten (Füllstation\, Parkplatz\, Kiosk) machen den Platz ideal zum Tauchen. Der See eignet sich sehr gut für Anfänger\, hat aber auch für bereits fortgeschrittene Taucher einiges zu bieten. \n\n\n\nWir nutzen diese Wochenenden bevorzugt für die Anfängerausbildung zum Open Water Diver (OWD) und ggf. als Start zum Advanced Open Water Diver (AOWD). \n\n\n\nHier können folgende Kurse gemacht werden: \n\n\n\n\nOpen Water Diver\n\n\n\nRescue Diver\n\n\n\nAOWD (außer Tieftauchgang)\n\n\n\nVerschiedene Specialties wie Navigation\, Tarierung in Perfektion\, Trockentauchen\, Fischbestimmung\, Digitale Unterwasserfotografie\, Suchen & Bergen\, Self Reliant\, Boje schießen\, Nitroxan einem oder beiden Tagen möglich\n\n\n\nGuided Dives – Geführte Tauchgängean einem oder  beiden Tagen möglich\n\n\n\n\nWeitere bisher geplante Termine 2026: \n\n\n\n\n18./19. April 2026\n\n\n\n16./17. Mai 2026\n\n\n\n6./7. Juni 2026\n\n\n\n11./12. Juli 2026\n\n\n\n8./9. August 2026\n\n\n\n12./13. September 2026\n\n\n\n3./4. Oktober 2026\n\n\n\n\nUnsere anderen Freiwasser Wochenenden rund um Reutte in Tirol stehen Euch selbstverständlich ebenfalls offen für alle Kurse\, die dort machbar sind. Die Termine dazu findet Ihr hinter dem Link. \n\n\n\nAnmeldeschluss: jeweils Dienstag vor dem Wochenende (ihr könnt natürlich gerne auch später noch versuchen bei uns anzufragen) \n\n\n\n\nFür mehr Infos meldet Euch gerne bei uns über das Kontaktformular. Der Preis für das Fun-Tauch-Wochenende hängt dann auch stark davon ab\, was Ihr genau machen wollt. \n\n\n\n\n\n\n\n\n\n\n	\n	\n\n		\n							\n					Anfrage / Anmeldung				\n			\n					\n\n		\n			\n		\n			\n			Kontakt
URL:https://divexellence.de/event/freiwasser-wochenende-am-friedberger-baggersee-2/2025-09-06/
LOCATION:Friedberger Baggersee\, Baggersee\, Friedberg\, 86316
CATEGORIES:AOWD,Freiwasser,Fun Wochenende,Guided Dive,OWD,Rescue,Specialty Kurs
ATTACH;FMTTYPE=image/jpeg:https://divexellence.de/wp-content/uploads/2022/04/bce88f39-780b-41a8-8aa3-236035c898ea.jpg
ORGANIZER;CN="Jens Nassall":MAILTO:info@diveXellence.de
END:VEVENT
BEGIN:VEVENT
DTSTART;TZID=Europe/Berlin:20250911T170000
DTEND;TZID=Europe/Berlin:20250911T210000
DTSTAMP:20260424T185026
CREATED:20240822T203953Z
LAST-MODIFIED:20250215T161229Z
UID:10000148-1757610000-1757624400@divexellence.de
SUMMARY:Guided Dive in Sinningen
DESCRIPTION:Guided Dive in Sinningen: Ihr wollt mal wieder gut organisiert einen schönen Tauchgang machen? Gemeinsam Zeit verbringen\, aber Euch nicht wochenlang mit der Organisation der Tauchgänge beschäftigen? Oder Euer letzter Tauchgang ist schon zu lange her und ihr wisst gar nicht mehr wie das geht? \n\n\n\nDann seid ihr bei uns richtig. Kommt mit zum Guided Dive in Sinningen am Baggersee. \n\n\n\nFür alle die den Tauchplatz noch nicht kennen\, keinen Buddy haben\, noch ganz am Anfang ihrer Tauchkariere stehen oder nach einer längeren Tauchpause wieder einsteigen wollen\, bieten wir geführt Tauchgänge an. Vor dem Tauchgang gibt es ein ausführliches Briefing und wir kümmern uns um die Tauchgangsplanung und Navigation. Ihr könnt den Tauchgang und den ganzen Tag einfach genießen. \n\n\n\nGeplante Termine\n\n\n\n\nSo.\, 16.03.2025 – bis zu 3 TG: 14 Uhr und 16 Uhr\, sowie Nacht-TG um 18 Uhr\n\n\n\nMi.\, 19.03.2025 – nur Nacht-Tauchgang um 18:30 Uhr\n\n\n\nDo.\, 27.03.2025 – nur Nacht-Tauchgang um 18:00 Uhr\n\n\n\nDo.\, 03.04.2025 – nur Nacht-Tauchgang um 19:45 Uhr\n\n\n\nMi.\, 09.04.2025 – nur Nacht-Tauchgang um 19:45 Uhr\n\n\n\nDo.\, 24.04.2025 – normaler TG um 17:30 Uhr und Nacht-TG um 20:00 Uhr\n\n\n\nDi.\, 29.04.2025 – normaler TG um 18:00 Uhr und Nacht-TG um 20:00 Uhr\n\n\n\nDo.\, 04.09.2025 – normaler TG um 17:00 Uhr und Nacht-TG um 19:30 Uhr\n\n\n\nDo.\, 11.09.2025 – normaler TG um 17:00 Uhr und Nacht-TG um 19:30 Uhr\n\n\n\nDi.\, 23.09.2025 – nur Nacht-Tauchgang um 18:45 Uhr\n\n\n\nDo.\, 09.10.2025 – nur Nacht-Tauchgang um 18:30 Uhr\n\n\n\nDo.\, 16.10.2025 – nur Nacht-Tauchgang um 18:15 Uhr\n\n\n\nDo.\, 23.10.2025 – nur Nacht-Tauchgang um 18:00 Uhr\n\n\n\n\nMelde dich bei info@divexellence.de \n\n\n\nPreis für den Guided Dive ist 29 Euro. Leihausrüstung kann gemietet werden. Preise findet ihr auf den Service-Seiten. Preis für den Guided Dive inkl. kompletter Ausrüstung: 79 Euro.Aufpreis für Nacht-Tauchgänge ist jeweils 10 Euro. \n\n\n\nWer lange nicht mehr tauchen war kann vorher einen ReActivate machen. (Siehe auch bei PADI) Infos zum ReActivate findet Ihr auch bei uns. \n\n\n\nFür mehr Infos meldet Euch gerne bei uns über das Kontaktformular.  \n\n\n\nAnmeldeschluss: Bei Interesse meldet euch bitte spätestens bis zwei Tage vor dem jeweiligen Termin an. \n\n\n\n\n\n\n\n\n\n	\n	\n\n		\n							\n					Anfrage / Anmeldung				\n			\n					\n\n		\n			\n		\n			\n			Kontakt
URL:https://divexellence.de/event/guided-dive-in-sinningen/2025-09-11/
LOCATION:Sinningen\, Seestraße\, Kirchberg an der Iller\, 88486\, Deutschland
CATEGORIES:Fun Wochenende,Guided Dive,ReActivate
ATTACH;FMTTYPE=image/jpeg:https://divexellence.de/wp-content/uploads/2022/05/BE22E4FA-1C87-4378-9CEB-0E6904AE0E61.jpeg
ORGANIZER;CN="Jens Nassall":MAILTO:info@diveXellence.de
END:VEVENT
BEGIN:VEVENT
DTSTART;TZID=Europe/Berlin:20250913T090000
DTEND;TZID=Europe/Berlin:20250914T180000
DTSTAMP:20260424T185026
CREATED:20250215T151635Z
LAST-MODIFIED:20260211T185807Z
UID:10000190-1757754000-1757872800@divexellence.de
SUMMARY:Freiwasser Wochenende rund um Reutte in Tirol
DESCRIPTION:Wir machen monatlich ein Freiwasser Wochenende rund um Reutte in Tirol. Je nach Wetter und Kurs werden wir im Plansee\, im Urisee\, im Blindsee\, im Frauensee oder eventuell sogar im Lechausee tauchen. Spaßtaucher sind natürlich herzlich willkommen und falls Ihr wollt könnt Ihr Euch auch von uns durch die Seen führen lassen. \n\n\n\nDie Wochenenden rund um Reutte sind hauptsächlich für AOWD und Specialty-Kurse vorgesehen\, aber auch Anfänger-OWD und andere können selbstverständlich mit. \n\n\n\nHier können folgende Kurse gemacht werden: \n\n\n\n\nOpen Water Diver\n\n\n\nRescue Diver\n\n\n\nAOWD\n\n\n\nVerschiedene Specialties wie Deep\, Navigation\, Tarierung in Perfektion\, Trockentauchen\, Fischbestimmung\, Digitale Unterwasserfotografie\, Suchen & Bergen\, Self Reliant\, Boje schießen\, Nitroxan einem oder beiden Tagen möglich\n\n\n\nGuided Dives – Geführte Tauchgängean einem oder an beiden Tagen möglich\n\n\n\n\nAnmeldeschluss: jeweils am Dienstag vor dem jeweiligen Wochenende (ihr könnt natürlich gerne auch später noch versuchen bei uns anzufragen). \n\n\n\nGeplante Termine 2026: \n\n\n\n\n2./3. Mai 2026\n\n\n\n20./21. Juni 2026\n\n\n\n18./19. Juli 2026\n\n\n\n22./23. August 2026\n\n\n\n26./27. September 2026\n\n\n\n24./25. Oktober 2026\n\n\n\n\nUnsere anderen Freiwasserwochenenden 2026 am Friedberger Baggersee stehen Euch selbstverständlich ebenfalls offen für alle Kurse\, die dort machbar sind. Die Termine dazu findet Ihr hinter dem Link. \n\n\n\n\nFür mehr Infos meldet Euch gerne bei uns über das Kontaktformular. Der Preis für das Fun-Tauch-Wochenende hängt dann auch stark davon ab\, was Ihr genau machen wollt. \n\n\n\n\n\n\n\n\n\n\n	\n	\n\n		\n							\n					Anfrage / Anmeldung				\n			\n					\n\n		\n			\n		\n			\n			Kontakt
URL:https://divexellence.de/event/freiwasser-wochenende-rund-um-reutte-in-tirol-2/2025-09-13/
LOCATION:Urisee\, Urisee\, Reutte\, Österreich
CATEGORIES:AOWD,Fun Wochenende,Guided Dive,OWD,Rescue,Specialty Kurs
ATTACH;FMTTYPE=image/jpeg:https://divexellence.de/wp-content/uploads/2023/05/fae82b96-7d1a-42cb-9a25-5319eb0ac7a9.JPG
ORGANIZER;CN="Jens Nassall":MAILTO:info@diveXellence.de
END:VEVENT
BEGIN:VEVENT
DTSTART;TZID=Europe/Berlin:20250923T184500
DTEND;TZID=Europe/Berlin:20250923T210000
DTSTAMP:20260424T185026
CREATED:20240822T203953Z
LAST-MODIFIED:20250215T161229Z
UID:10000149-1758653100-1758661200@divexellence.de
SUMMARY:Guided Dive in Sinningen
DESCRIPTION:Guided Dive in Sinningen: Ihr wollt mal wieder gut organisiert einen schönen Tauchgang machen? Gemeinsam Zeit verbringen\, aber Euch nicht wochenlang mit der Organisation der Tauchgänge beschäftigen? Oder Euer letzter Tauchgang ist schon zu lange her und ihr wisst gar nicht mehr wie das geht? \n\n\n\nDann seid ihr bei uns richtig. Kommt mit zum Guided Dive in Sinningen am Baggersee. \n\n\n\nFür alle die den Tauchplatz noch nicht kennen\, keinen Buddy haben\, noch ganz am Anfang ihrer Tauchkariere stehen oder nach einer längeren Tauchpause wieder einsteigen wollen\, bieten wir geführt Tauchgänge an. Vor dem Tauchgang gibt es ein ausführliches Briefing und wir kümmern uns um die Tauchgangsplanung und Navigation. Ihr könnt den Tauchgang und den ganzen Tag einfach genießen. \n\n\n\nGeplante Termine\n\n\n\n\nSo.\, 16.03.2025 – bis zu 3 TG: 14 Uhr und 16 Uhr\, sowie Nacht-TG um 18 Uhr\n\n\n\nMi.\, 19.03.2025 – nur Nacht-Tauchgang um 18:30 Uhr\n\n\n\nDo.\, 27.03.2025 – nur Nacht-Tauchgang um 18:00 Uhr\n\n\n\nDo.\, 03.04.2025 – nur Nacht-Tauchgang um 19:45 Uhr\n\n\n\nMi.\, 09.04.2025 – nur Nacht-Tauchgang um 19:45 Uhr\n\n\n\nDo.\, 24.04.2025 – normaler TG um 17:30 Uhr und Nacht-TG um 20:00 Uhr\n\n\n\nDi.\, 29.04.2025 – normaler TG um 18:00 Uhr und Nacht-TG um 20:00 Uhr\n\n\n\nDo.\, 04.09.2025 – normaler TG um 17:00 Uhr und Nacht-TG um 19:30 Uhr\n\n\n\nDo.\, 11.09.2025 – normaler TG um 17:00 Uhr und Nacht-TG um 19:30 Uhr\n\n\n\nDi.\, 23.09.2025 – nur Nacht-Tauchgang um 18:45 Uhr\n\n\n\nDo.\, 09.10.2025 – nur Nacht-Tauchgang um 18:30 Uhr\n\n\n\nDo.\, 16.10.2025 – nur Nacht-Tauchgang um 18:15 Uhr\n\n\n\nDo.\, 23.10.2025 – nur Nacht-Tauchgang um 18:00 Uhr\n\n\n\n\nMelde dich bei info@divexellence.de \n\n\n\nPreis für den Guided Dive ist 29 Euro. Leihausrüstung kann gemietet werden. Preise findet ihr auf den Service-Seiten. Preis für den Guided Dive inkl. kompletter Ausrüstung: 79 Euro.Aufpreis für Nacht-Tauchgänge ist jeweils 10 Euro. \n\n\n\nWer lange nicht mehr tauchen war kann vorher einen ReActivate machen. (Siehe auch bei PADI) Infos zum ReActivate findet Ihr auch bei uns. \n\n\n\nFür mehr Infos meldet Euch gerne bei uns über das Kontaktformular.  \n\n\n\nAnmeldeschluss: Bei Interesse meldet euch bitte spätestens bis zwei Tage vor dem jeweiligen Termin an. \n\n\n\n\n\n\n\n\n\n	\n	\n\n		\n							\n					Anfrage / Anmeldung				\n			\n					\n\n		\n			\n		\n			\n			Kontakt
URL:https://divexellence.de/event/guided-dive-in-sinningen/2025-09-23/
LOCATION:Sinningen\, Seestraße\, Kirchberg an der Iller\, 88486\, Deutschland
CATEGORIES:Fun Wochenende,Guided Dive,ReActivate
ATTACH;FMTTYPE=image/jpeg:https://divexellence.de/wp-content/uploads/2022/05/BE22E4FA-1C87-4378-9CEB-0E6904AE0E61.jpeg
ORGANIZER;CN="Jens Nassall":MAILTO:info@diveXellence.de
END:VEVENT
END:VCALENDAR