BEGIN:VCALENDAR
VERSION:2.0
PRODID:-//diveXellence - ECPv6.15.20//NONSGML v1.0//EN
CALSCALE:GREGORIAN
METHOD:PUBLISH
X-ORIGINAL-URL:https://divexellence.de
X-WR-CALDESC:Veranstaltungen für diveXellence
REFRESH-INTERVAL;VALUE=DURATION:PT1H
X-Robots-Tag:noindex
X-PUBLISHED-TTL:PT1H
BEGIN:VTIMEZONE
TZID:Europe/Berlin
BEGIN:DAYLIGHT
TZOFFSETFROM:+0100
TZOFFSETTO:+0200
TZNAME:CEST
DTSTART:20230326T010000
END:DAYLIGHT
BEGIN:STANDARD
TZOFFSETFROM:+0200
TZOFFSETTO:+0100
TZNAME:CET
DTSTART:20231029T010000
END:STANDARD
BEGIN:DAYLIGHT
TZOFFSETFROM:+0100
TZOFFSETTO:+0200
TZNAME:CEST
DTSTART:20240331T010000
END:DAYLIGHT
BEGIN:STANDARD
TZOFFSETFROM:+0200
TZOFFSETTO:+0100
TZNAME:CET
DTSTART:20241027T010000
END:STANDARD
BEGIN:DAYLIGHT
TZOFFSETFROM:+0100
TZOFFSETTO:+0200
TZNAME:CEST
DTSTART:20250330T010000
END:DAYLIGHT
BEGIN:STANDARD
TZOFFSETFROM:+0200
TZOFFSETTO:+0100
TZNAME:CET
DTSTART:20251026T010000
END:STANDARD
END:VTIMEZONE
BEGIN:VEVENT
DTSTART;TZID=Europe/Berlin:20240713T090000
DTEND;TZID=Europe/Berlin:20240714T180000
DTSTAMP:20260421T033048
CREATED:20240415T221154Z
LAST-MODIFIED:20240415T221156Z
UID:10000123-1720861200-1720980000@divexellence.de
SUMMARY:Juli Freiwasser Wochenende am Friedberger Baggersee
DESCRIPTION:Das Juli Freiwasser Wochenende am Friedberger Baggersee führt uns in die Nähe von Augsburg. Perfekte logistische Gegebenheiten (Füllstation\, Parkplatz\, Kiosk) machen den Platz ideal zum Tauchen. Der See eignet sich sehr gut für Anfänger\, hat aber auch für bereits fortgeschrittene Taucher einiges zu bieten. \n\n\n\nWir nutzen diese Wochenenden bevorzugt für die Anfängerausbildung zum Open Water Diver (OWD) und ggf. als Start zum Advanced Open Water Diver (AOWD). \n\n\n\nHier können folgende Kurse gemacht werden: \n\n\n\n\nOpen Water Diver\n\n\n\nRescue Diver\n\n\n\nAOWD (außer Tieftauchgang)\n\n\n\nVerschiedene Specialties wie Navigation\, Tarierung in Perfektion\, Trockentauchen\, Fischbestimmung\, Digitale Unterwasserfotografie\, Suchen & Bergen\, Self Reliant\, Boje schießen\, Nitroxan einem oder beiden Tagen möglich\n\n\n\nGuided Dives – Geführte Tauchgängean einem oder  beiden Tagen möglich\n\n\n\n\nWeitere bisher geplante Termine 2024: \n\n\n\n\n11./12. Mai 2024\n\n\n\n8./9. Juni 2024\n\n\n\n13./14. Juli 2024\n\n\n\n17./18. August 2024\n\n\n\n21./22. September 2024\n\n\n\n\nAnmeldeschluss: jeweils Dienstag vor dem Wochenende (ihr könnt natürlich gerne auch später noch versuchen bei uns anzufragen) \n\n\n\n\nFür mehr Infos meldet Euch gerne bei uns über das Kontaktformular. Der Preis für das Fun-Tauch-Wochenende hängt dann auch stark davon ab\, was Ihr genau machen wollt. \n\n\n\n\n\n\n\n\n\n\n	\n	\n\n		\n							\n					Anfrage / Anmeldung				\n			\n					\n\n		\n	\n		\n			\n			Kontakt
URL:https://divexellence.de/event/juli-freiwasser-wochenende-am-friedberger-baggersee/
LOCATION:Friedberger Baggersee\, Baggersee\, Friedberg\, 86316
CATEGORIES:AOWD,Freiwasser,Fun Wochenende,Guided Dive,OWD,Rescue,Specialty Kurs
ATTACH;FMTTYPE=image/jpeg:https://divexellence.de/wp-content/uploads/2022/04/bce88f39-780b-41a8-8aa3-236035c898ea.jpg
ORGANIZER;CN="Jens Nassall":MAILTO:info@diveXellence.de
END:VEVENT
BEGIN:VEVENT
DTSTART;TZID=Europe/Berlin:20240720T090000
DTEND;TZID=Europe/Berlin:20240720T203000
DTSTAMP:20260421T033048
CREATED:20240715T214432Z
LAST-MODIFIED:20240715T214434Z
UID:10000127-1721466000-1721507400@divexellence.de
SUMMARY:PADI Women's Dive Day am Deglersee Rastatt
DESCRIPTION:Am 20.07. (und 21.07.) feiern wir den PADI Women’s Dive Day am Deglersee in Rastatt. Wir haben ein tolles Angebot für alle Taucherinnen. Tauchen ist ein großartiges Erlebnis und ist für alle möglich\, die Lust haben die Unterwasserwelt zu entdecken. \n\n\n\nVöllig egal – welches Geschlecht\, – welches Alter\, – woher du bist\, ob du – groß oder klein\, – mutig oder vorsichtig bist. \n\n\n\ndiveXellence\, Tauchfabrik Rastatt und DiveCenter Stuttgart sind für alle da. Am Women’s Dive Day wollen wir deshalb vor allem alle Taucherinnen ermutigen mal wieder mit uns ins Wasser zu springen und einen Tag am See mit uns zu genießen. Deshalb bieten wir allen Frauen einen geführten Tauchgang im Blindsee im Wert von 29 € gratis* an. Das ist perfekt für alle Taucherinnen\, die schon länger nicht mehr im Wasser waren\, oder vor kurzem erst den OWD gemacht haben. Aber auch alle erfahrenen Taucherinnen sind herzlich willkommen 🤗 \n\n\n\nWir stellen extra eine rein weibliche Crew zusammen\, die sich um Euch an diesem Tag kümmern wird. \n\n\n\nWer an diesem Tag lieber ein Specialty macht\, bekommt auch hier 29 € Rabatt auf den Kurspreise. (gültig auf alle Specialties mit 2 oder 3 Tauchgängen) \n\n\n\nSelbstverständlich dürfen auch Männer am Ausflug teilnehmen\, aber wir wollen hiermit besonders alle Frauen ermutigen mal wieder mit uns abzutauchen.Ganz ernsthaft: wir werden es so organisieren\, dass wirklich jede Frau ganz entspannt\, sicher und wohl behütet ohne unpassende Kommentare jeglicher Art von unseren eigentlich geschätzten männlichen Taucher-Buddies den tag genießen kann! Versprochen! \n\n\n\n*gültig auf einen geführten Tauchgang inkl. Flasche und Blei.Nicht enthalten und extra zu bezahlen: Seegebühr 12 Euro pro Tag\, ggf. weitere Leihausrüstung\, weitere Tauchgänge\, gebuchte Kurse. \n\n\n\nHier können auch folgende Kurse angefangen oder gemacht werden: \n\n\n\n\nRescue Diver\n\n\n\nAOWD\n\n\n\nVerschiedene Specialties wie Deep\, Navigation\, Tarierung in Perfektion\, Trockentauchen\, Fischbestimmung\, Digitale Unterwasserfotografie\, Suchen & Bergen\, Self Reliant\, Boje schießen\, Nitrox\n\n\n\nWeitere Guided Dives – Geführte Tauchgänge\n\n\n\n\nAnmeldeschluss: 18.07.2024 (ihr könnt natürlich gerne auch später noch versuchen bei uns anzufragen) \n\n\n\nFür mehr Infos meldet Euch gerne bei uns über das Kontaktformular. Der Preis für das Fun-Tauch-Wochenende hängt dann auch stark davon ab\, was Ihr genau machen wollt. \n\n\n\n\n\n\n\n\n\n\n\n\n\n	\n	\n\n		\n							\n					Anfrage / Anmeldung				\n			\n					\n\n		\n	\n		\n			\n			Kontakt
URL:https://divexellence.de/event/padi-womens-dive-day-am-deglersee-rastatt/
LOCATION:Tauchfabrik Rastatt\, Im Teilergrund 1\, Rastatt\, 76437\, Deutschland
CATEGORIES:AOWD,Fun Wochenende,Guided Dive,OWD,Rescue,Specialty Kurs
ATTACH;FMTTYPE=image/jpeg:https://divexellence.de/wp-content/uploads/2024/07/PADI-Womens-Dive-Day-diveXellence.jpg
ORGANIZER;CN="Jens Nassall":MAILTO:info@diveXellence.de
END:VEVENT
BEGIN:VEVENT
DTSTART;TZID=Europe/Berlin:20240727T090000
DTEND;TZID=Europe/Berlin:20240728T180000
DTSTAMP:20260421T033048
CREATED:20240415T220441Z
LAST-MODIFIED:20240415T221556Z
UID:10000118-1722070800-1722189600@divexellence.de
SUMMARY:Juli Freiwasser Wochenende rund um Reutte in Tirol
DESCRIPTION:Wir machen monatlich ein Freiwasser Wochenende rund um Reutte in Tirol. Je nach Wetter und Kurs werden wir im Plansee\, im Urisee\, im Blindsee\, im Frauensee oder eventuell sogar im Lechausee tauchen. Spaßtaucher sind natürlich herzlich willkommen und falls Ihr wollt könnt Ihr Euch auch von uns durch die Seen führen lassen. \n\n\n\nDie Wochenenden rund um Reutte sind hauptsächlich für AOWD und Specialty-Kurse vorgesehen\, aber auch Anfänger-OWD und andere können selbstverständlich mit. \n\n\n\nHier können folgende Kurse gemacht werden: \n\n\n\n\nOpen Water Diver\n\n\n\nRescue Diver\n\n\n\nAOWD\n\n\n\nVerschiedene Specialties wie Deep\, Navigation\, Tarierung in Perfektion\, Trockentauchen\, Fischbestimmung\, Digitale Unterwasserfotografie\, Suchen & Bergen\, Self Reliant\, Boje schießen\, Nitroxan einem oder beiden Tagen möglich\n\n\n\nGuided Dives – Geführte Tauchgängean einem oder an beiden Tagen möglich\n\n\n\n\n\n\n\n\nAnmeldeschluss: jeweils am Dienstag vor dem jeweiligen Wochenende (ihr könnt natürlich gerne auch später noch versuchen bei uns anzufragen). \n\n\n\nGeplante Termine 2024: \n\n\n\n\n29./30. Juni 2024\n\n\n\n27./28. Juli 2024\n\n\n\n31. August / 1. September 2024\n\n\n\n28./29. September 2024\n\n\n\n\n\nFür mehr Infos meldet Euch gerne bei uns über das Kontaktformular. Der Preis für das Fun-Tauch-Wochenende hängt dann auch stark davon ab\, was Ihr genau machen wollt. \n\n\n\n\n\n\n\n\n\n\n	\n	\n\n		\n							\n					Anfrage / Anmeldung				\n			\n					\n\n		\n	\n		\n			\n			Kontakt
URL:https://divexellence.de/event/juli-freiwasser-wochenende-rund-um-reutte-in-tirol/
LOCATION:Plansee\, Planseecamp\, Reutte\, Österreich
CATEGORIES:AOWD,Fun Wochenende,Guided Dive,OWD,Rescue,Specialty Kurs
ATTACH;FMTTYPE=image/jpeg:https://divexellence.de/wp-content/uploads/2023/05/fae82b96-7d1a-42cb-9a25-5319eb0ac7a9.JPG
ORGANIZER;CN="Jens Nassall":MAILTO:info@diveXellence.de
END:VEVENT
END:VCALENDAR