BEGIN:VCALENDAR
VERSION:2.0
PRODID:-//diveXellence - ECPv6.15.20//NONSGML v1.0//EN
CALSCALE:GREGORIAN
METHOD:PUBLISH
X-WR-CALNAME:diveXellence
X-ORIGINAL-URL:https://divexellence.de
X-WR-CALDESC:Veranstaltungen für diveXellence
REFRESH-INTERVAL;VALUE=DURATION:PT1H
X-Robots-Tag:noindex
X-PUBLISHED-TTL:PT1H
BEGIN:VTIMEZONE
TZID:Europe/Berlin
BEGIN:DAYLIGHT
TZOFFSETFROM:+0100
TZOFFSETTO:+0200
TZNAME:CEST
DTSTART:20230326T010000
END:DAYLIGHT
BEGIN:STANDARD
TZOFFSETFROM:+0200
TZOFFSETTO:+0100
TZNAME:CET
DTSTART:20231029T010000
END:STANDARD
BEGIN:DAYLIGHT
TZOFFSETFROM:+0100
TZOFFSETTO:+0200
TZNAME:CEST
DTSTART:20240331T010000
END:DAYLIGHT
BEGIN:STANDARD
TZOFFSETFROM:+0200
TZOFFSETTO:+0100
TZNAME:CET
DTSTART:20241027T010000
END:STANDARD
BEGIN:DAYLIGHT
TZOFFSETFROM:+0100
TZOFFSETTO:+0200
TZNAME:CEST
DTSTART:20250330T010000
END:DAYLIGHT
BEGIN:STANDARD
TZOFFSETFROM:+0200
TZOFFSETTO:+0100
TZNAME:CET
DTSTART:20251026T010000
END:STANDARD
END:VTIMEZONE
BEGIN:VEVENT
DTSTART;TZID=Europe/Berlin:20240106T100000
DTEND;TZID=Europe/Berlin:20240106T170000
DTSTAMP:20260423T122557
CREATED:20231111T211549Z
LAST-MODIFIED:20231111T211552Z
UID:10000109-1704535200-1704560400@divexellence.de
SUMMARY:Drei-Königstauchen zum Start in 2024 am Bodensee
DESCRIPTION:Bei unserem Drei-Königstauchen zum Start in 2024 am Bodensee besuchen wir einen ganz besonderen Tauchplatz\, der nicht das ganze Jahr zugänglich ist. \n\n\n\nDer Bodensee hat zwar das ganze Jahr über seinen Charme\, aber bestimmte Tauchplätze dürfen nur im Winter betaucht werden. Der Tauchplatz „Wilder Mann“ ist einer davon und das wollen wir uns natürlich nicht entgehen lassen. Wir machen 2 geführte Tauchgänge\, bei denen wir je nach Erfahrung der Teilnehmer die interessanten Stellen des Tauchplatzes antauchen. \n\n\n\nDer Tauchgang eignet sich für alle die einen Trocki haben\, aber auch in einem guten halbtrocken Anzug (welchen Ihr gerne bei uns leihen könnt) ist ein Tauchgang möglich. \n\n\n\nDer Tauchplatz hat viel zu bieten\, meistens erwartet uns sehr gute Sicht vor allem in der Tiefe. Wir tauchen über eine kleine Steilwand ab und folgen weiter der Halde\, die steil bis stufenartig abfällt. Erfahrene Taucher können in der Tiefe die alte Fontäne (auch „Brunnen“ genannt) bestaunen. Außerdem können wir hier 2 alte Autowracks finden. Diese sind aber etwas weiter entfernt und erst nach einiger Zeit zu erreichen. Austauchen kann man hier ganz gemütlich direkt an der Meersburger Promenade entlang. Bei guter Sicht kann man die Häuser und auch die Spaziergänger auf der Promenade von unten sehen. \n\n\n\nBei zwei geführten Tauchgängen zeigen wir euch den Tauchplatz und kümmern uns um die Tauchgangs Planung. Das ist perfekt für alle die den Tauchplatz noch nicht kennen oder einfach zwei entspannte Tauchgänge miterleben wollen. Voraussetzung für die tieferen Tauchgänge ist AOWD\, wir empfehlen ein Deep Specialty. \n\n\n\nWir treffen uns um 10 Uhr direkt vor Ort und machen 2 geführte Tauchgänge. Anschließend geht es zu uns in die Tauchschule\, wo wir uns bei Bockwurst und Glühwein oder Punsch aufwärmen können. \n\n\n\nInbegriffene Leistungen:\n\n\n\n\n2 geführte Tauchgänge\n\n\n\nLuft\n\n\n\nBereitstellung Alpha-Flagge\n\n\n\nOrganisation\n\n\n\nBereitstellung von Erste-Hilfe-Ausrüstung und Sauerstoff\n\n\n\nSnacks\, Bockwurst und warme Getränke\n\n\n\n\nNicht inbegriffen: Leihausrüstung\, Fahrt zum See\, Parkgebühren. \n\n\n\nMeldet Euch gerne bei uns per email oder Telefon wenn Ihr Ausrüstung braucht\, Fragen habt\, nur einen Tauchgang machen möchtet oder Ihr sonstige Wünsche für den Tag habt. \n\n\n\nAnmeldeschluss: 02.01.2024 \n\n\n\n\n\n\n\n\n\n	\n	\n\n		\n							\n					Anfrage / Anmeldung				\n			\n					\n\n		\n			\n		\n			\n			Kontakt
URL:https://divexellence.de/event/drei-konigstauchen-zum-start-in-2024-am-bodensee/
LOCATION:Wilder Mann – Meersburg\, Bismarckplatz 2\, Meersburg\, 88709\, Deutschland
ATTACH;FMTTYPE=image/jpeg:https://divexellence.de/wp-content/uploads/2023/11/3-Koenigstauchen-diveXellence.jpg
END:VEVENT
BEGIN:VEVENT
DTSTART;TZID=Europe/Berlin:20240112T181500
DTEND;TZID=Europe/Berlin:20240112T220000
DTSTAMP:20260423T122557
CREATED:20240102T225150Z
LAST-MODIFIED:20240102T232656Z
UID:10000113-1705083300-1705096800@divexellence.de
SUMMARY:Abend der Nachhaltigkeit
DESCRIPTION:Für einen besseren Umgang mit unserer Umwelt\n\n\n\nLiebe Umweltschützer\, Oceanlover\, Wassersportler\, Taucher\, Naturliebhaber und Nachhaltigkeits-Fans\, wir laden Euch herzlich ein\, zu unserem „Abend der Nachhaltigkeit“ ein. \n\n\n\nWie Ihr sicherlich wisst sind wir nicht nur ein PADI DiveCenter\, sondern auch ein PADI ECO Center. Das bedeutet\, dass wir uns den Grundwerten des Naturschutzes und der Nachhaltigkeit der Tauchbranche verschrieben haben. Durch Adopt the Blue fördern wir aktiv Biodiversität und sprechen die Herausforderungen der Meere an. Wir bieten allen Gelegenheit\, in direkten Dialog mit dem Umweltschutz zu treten. Wir haben grundlegende Veränderungen unternommen und das gesamte Personal geschult und unseren Umwelt-Fußabdruck vermindert und Nachhaltigkeit als grundlegende Geschäftspraxis etabliert. Das wird kontinuierlich extern durch unsere Green Fins Mitgliedschaft (eine Initiative der Reef-World Foundation) überprüft. \n\n\n\nZiel des Abends der Nachhaltigkeit ist es Euer Bewusstsein für bedeutende Fragestellungen rund um das Thema Nachhaltigkeit zu stärken\, zu informieren aber auch das Auge und das Herz für das Schöne auf dieser Welt zu öffnen. Das Schöne\, für das es sich lohnt\, sich einzusetzen und an seinen Gewohnheiten etwas zu verändern. An diesem Abend möchten wir zum Nachdenken anregen\, Wissen vermitteln und zusammen mit Euch ein Zeichen und Impulse für eine nachhaltigere Welt setzen. Wir haben eine Vielzahl an wundervollen Gastrednern für Euch eingeladen. Lasst Euch überraschen.  \n\n\n\nFoodsharing Ulm \n\n\n\n\n\n\n\nVerwenden statt verschwenden Wo fängt Nachhaltigkeit an und was kann ich selbst dafür tun? Lebensmittelverschwendung ist in aller Munde. foodsharing setzt sich für einen verantwortungsvollen Umgang mit Ressourcen und ein nachhaltiges Ernährungssystem ein. Dabei steht an erster Stelle das Ziel\, die Verschwendung von Lebensmitteln bis zum Jahr 2030 zu halbieren und in der Folge zu beenden. Um dies zu erreichen\, ist unsere Mission\, die aktuellen Probleme der globalisierten Weltwirtschaft und den Irrsinn der Überflussgesellschaft erlebbar und sichtbar zu machen und ein Umdenken anzuregen. Foodsharing träumt von einer Welt\, in der das lokale sowie globale Ernährungssystem alle Menschen auf dieser Welt satt und zufrieden macht\, in der die meisten Lebensmittel aus lokalem Anbau stammen und ein kleinerer Teil über einen internationalen Handel zu fairen Bedingungen stattfindet. Wir wünschen uns eine Welt\, in der die Grenzen unseres Planeten gewahrt werden und der nachhaltige Umgang mit unseren Ressourcen eine Selbstverständlichkeit ist. \n\n\n\nOceans Hope \n\n\n\n\n\n\n\nVeganes Sushi – Geht das? Wo ist der Fisch? Oceans Hope möchte uns zeigen\, dass Sushi auch ohne Fisch eine sehr abwechslungsreiche\, bunte und vor allem richtig leckere Alternative sein kann und stellt das Vegane Sushi-Kochbuch vor. Dem erfolgreichen Freiburger Freitauch- und Filmemacher-Duo liegt der Schutz der wunderschönen Unterwasserwelt sehr am Herzen. Die beiden mussten leider bei vielen Unterwassererlebnissen oftmals hautnah erleben\, wie der Klimawandel durch Korallenbleiche und stark zurückgehende Fischbestände den Ozeanen und Gewässern schwer zusetzen. Im Einklang mit der Natur zu leben\, anstatt sie auszubeuten\, ist unerlässlich\, um einen gesunden Planeten zu erhalten\, der uns mit allem versorgt\, was wir brauchen. Von den Ressourcen\, auf die wir im täglichen Leben angewiesen sind\, bis hin zur grenzenlosen Schönheit seiner Naturwunder\, die uns inspirieren und uns erlauben\, unser Dasein noch mehr zu schätzen.Ihre Leidenschaft ist es\, Videos zu produzieren\, die diese Inspiration auch bei den Zuschauern weckt. Damit pflanzen wir einen Samen\, der es uns Menschen ermöglicht\, das Leben immer mehr zu genießen und wir uns jeden Tag ein bisschen mehr für den Erhalt der Natur einsetzen.  \n\n\n\nSeashepherd Deutschland\n\n\n\n\n\n\n\nDie Ozeane sind Ursprung allen Lebens und stellen etwa 90 Prozent des Lebensraumes auf der Erde dar. Wissenschaftler vermuten sogar eine Vielfalt von etwa zehn Millionen Arten\, von winzig kleinen Bakterien bis hin zu gigantischen Säugetieren. Jede einzelne Art\, egal wie groß oder klein\, spielt eine entscheidende Rolle im Artengefüge unserer Ozeane. Erst die biologische Vielfalt macht die Ökosysteme leistungsfähig und funktionstüchtig. Doch die biologische Vielfalt im Meer schwindet. Sie schrumpft vermutlich so schnell wie noch nie in der Erdgeschichte und wird weltweit mit wachsender Geschwindigkeit verloren gehen. Sea Shepherd stellt sich diesen Missständen entgegen: Unsere Mission ist es\, die Artenvielfalt in unseren Ozeanen zu verteidigen und die Zerstörung der marinen Ökosysteme zu beenden. Als einzige Meeresschutzorganisation der Welt gehen wir mit einer eigenen Flotte gegen illegale Handlungen auf See vor und wenden innovative Taktiken der Direkten Aktion an\, um Meerestiere auf der ganzen Welt vor Wilderei\, nicht nachhaltiger Fischerei und ausbeuterischer Gefangenschaft zu schützen.  \n\n\n\nSharkproject Deutschland\n\n\n\n\n\n\n\nIhr wollt mehr erfahren wie Haie wirklich sind und warum wir sie schützen müssen\, um selber überleben zu können? Dann ist dieser Vortrag genau das richtige für Euch. Hier erfahrt ihr\, warum eine gesunde Haipopulationen für die Stabilität der Ökosysteme wichtig ist. Sharkproject ist eine internationale Hai- und Artenschutzorganisation\, die sich satzungsgemäß für die über 500 Arten Haie und deren Umfeld\, das marine Ökosystem\, einsetzt. Trotz vieler wissenschaftlicher Studien\, die dringend davor warnen\, so weiterzumachen wie bisher\, geht der Raubbau der Meere weiter. Sharkproject informiert die Öffentlichkeit\, klärt dabei über die Wichtigkeit von Haien in einem gesunden Lebensraum Meer auf und geben klare Handlungs- und Verhaltensempfehlungen. \n\n\n\ndiveXellence\n\n\n\n\n\n\n\nWir von diveXellence\, Deine Ulmer Tauchschule Nr. 1 stehen Dir an dem Abend ebenfalls für Fragen rund um den Tauchsport zur Verfügung. Informiert Euch über das Tauchen im Allgemeinen oder wie Ihr als Taucher etwas für unsere Umwelt tun könnt. Ihr wollt die faszinierende Unterwasserwelt kennen lernen? Kommt vorbei und informiert Euch.  \n\n\n\nWir freuen uns auf einen regen Austausch. Alle Gastredner stehen für Fragen zur Verfügung.  \n\n\n\nEintritt: Vorverkauf: 14\,00 € (um die Anreise der Redner zu finanzieren).Abendkasse: 17\,00 € \n\n\n\nUm Anmeldung wird gebeten. Die Anmeldung muss über die Homepage der Familien-Bildungsstätte (fbs) erfolgen in deren Räumlichkeiten wir diese Veranstaltung anbieten. Der Anmeldungslink unten führt direkt auf die Seite der fbs. Falls Ihr Fragen habt könnt Ihr uns natürlich auch vorher direkt kontaktieren. \n\n\n\n\n\n\n\n\n\n\n\n	\n	\n\n		\n							\n					Anmeldung bei der fbs				\n			\n					\n\n		\n			\n		\n			\n			Anmeldung
URL:https://divexellence.de/event/abend-der-nachhaltigkeit/
LOCATION:Familien-Bildungsstätte Ulm e.V.\, Sattlergasse 6\, Ulm\, 89073\, Deutschland
CATEGORIES:PADI AWARE
ATTACH;FMTTYPE=image/jpeg:https://divexellence.de/wp-content/uploads/2024/01/Abend-der-Nachhaltigkeit-PADI-5-star-IDC-ECO-Center-Tauchschule-Ulm-diveXellence.jpg
END:VEVENT
END:VCALENDAR