BEGIN:VCALENDAR
VERSION:2.0
PRODID:-//diveXellence - ECPv6.15.20//NONSGML v1.0//EN
CALSCALE:GREGORIAN
METHOD:PUBLISH
X-ORIGINAL-URL:https://divexellence.de
X-WR-CALDESC:Veranstaltungen für diveXellence
REFRESH-INTERVAL;VALUE=DURATION:PT1H
X-Robots-Tag:noindex
X-PUBLISHED-TTL:PT1H
BEGIN:VTIMEZONE
TZID:Europe/Berlin
BEGIN:DAYLIGHT
TZOFFSETFROM:+0100
TZOFFSETTO:+0200
TZNAME:CEST
DTSTART:20220327T010000
END:DAYLIGHT
BEGIN:STANDARD
TZOFFSETFROM:+0200
TZOFFSETTO:+0100
TZNAME:CET
DTSTART:20221030T010000
END:STANDARD
BEGIN:DAYLIGHT
TZOFFSETFROM:+0100
TZOFFSETTO:+0200
TZNAME:CEST
DTSTART:20230326T010000
END:DAYLIGHT
BEGIN:STANDARD
TZOFFSETFROM:+0200
TZOFFSETTO:+0100
TZNAME:CET
DTSTART:20231029T010000
END:STANDARD
BEGIN:DAYLIGHT
TZOFFSETFROM:+0100
TZOFFSETTO:+0200
TZNAME:CEST
DTSTART:20240331T010000
END:DAYLIGHT
BEGIN:STANDARD
TZOFFSETFROM:+0200
TZOFFSETTO:+0100
TZNAME:CET
DTSTART:20241027T010000
END:STANDARD
END:VTIMEZONE
BEGIN:VEVENT
DTSTART;TZID=Europe/Berlin:20231223T100000
DTEND;TZID=Europe/Berlin:20231223T170000
DTSTAMP:20260423T134229
CREATED:20231111T145404Z
LAST-MODIFIED:20231209T135523Z
UID:10000107-1703325600-1703350800@divexellence.de
SUMMARY:Weihnachtstauchen am Friedberger Baggersee
DESCRIPTION:Kurz vor Weihnachten bieten wir euch nochmal die Gelegenheit mit uns ins Wasser zu springen beim Weihnachtstauchen am Friedberger Baggersee. \n\n\n\nDer Friedberger Baggersee in der Nähe von Augsburg eignet sich sehr gut für Anfänger\, hat aber auch für bereits fortgeschrittene Taucher einiges zu bieten. \n\n\n\nEine perfekte Gelegenheit für alle die einen Trocki haben. Aber auch in einem guten halbtrocken Anzug (den ihr bei uns auch ausleihen könnt) ist ein Tauchgang hier auf jeden Fall möglich. \n\n\n\nDer Friedberger Baggersee hat eine Maximaltiefe von 12 m und biete eine interessante Unterwasser Landschaft\, außerdem gibt es einige „Sehenswürdigkeiten“ für Taucher. Da die Sicht im Winter meist deutlich besser ist als im Sommer\, lohnt es sich hier ab zu tauchen. \n\n\n\nBei zwei geführten Tauchgängen zeigen wir euch den See und kümmern uns um die Tauchgangs Planung. Das ist perfekt für alle die den See noch nicht kennen oder einfach zwei entspannte Tauchgänge miterleben wollen. \n\n\n\nWir treffen uns um 10 Uhr direkt vor Ort und machen 2 geführte Tauchgänge. Dazwischen gibt es warme Getränke und Lebkuchen. Anschließend geht es zu uns in die Tauchschule\, wo wir uns bei Bockwurst und Glühwein oder Punsch aufwärmen können. \n\n\n\nInbegriffene Leistungen:\n\n\n\n\n2 geführte Tauchgänge\n\n\n\nLuft\n\n\n\nTauchgenehmigung\n\n\n\nOrganisation\n\n\n\nBereitstellung von Erste-Hilfe-Ausrüstung und Sauerstoff\n\n\n\nSnacks\, Bockwurst und warme Getränke\n\n\n\n\nNicht inbegriffen: Leihausrüstung\, Fahrt zum See. \n\n\n\nMeldet Euch gerne bei uns per email oder Telefon wenn Ihr Ausrüstung braucht\, Fragen habt\, nur einen Tauchgang machen möchtet oder Ihr sonstige Wünsche für den Tag habt. \n\n\n\nAnmeldeschluss: 18.12.2023 \n\n\n\n\n\n\n\n\n\n	\n	\n\n		\n							\n					Anfrage / Anmeldung				\n			\n					\n\n		\n			\n		\n			\n			Kontakt
URL:https://divexellence.de/event/weihnachtstauchen-am-friedberger-baggersee-2/
LOCATION:Friedberger Baggersee\, Baggersee\, Friedberg\, 86316
ATTACH;FMTTYPE=image/jpeg:https://divexellence.de/wp-content/uploads/2023/11/Weihnachtstauchen-diveXellence.jpg
END:VEVENT
END:VCALENDAR