BEGIN:VCALENDAR
VERSION:2.0
PRODID:-//diveXellence - ECPv6.15.20//NONSGML v1.0//EN
CALSCALE:GREGORIAN
METHOD:PUBLISH
X-WR-CALNAME:diveXellence
X-ORIGINAL-URL:https://divexellence.de
X-WR-CALDESC:Veranstaltungen für diveXellence
REFRESH-INTERVAL;VALUE=DURATION:PT1H
X-Robots-Tag:noindex
X-PUBLISHED-TTL:PT1H
BEGIN:VTIMEZONE
TZID:Europe/Berlin
BEGIN:DAYLIGHT
TZOFFSETFROM:+0100
TZOFFSETTO:+0200
TZNAME:CEST
DTSTART:20220327T010000
END:DAYLIGHT
BEGIN:STANDARD
TZOFFSETFROM:+0200
TZOFFSETTO:+0100
TZNAME:CET
DTSTART:20221030T010000
END:STANDARD
BEGIN:DAYLIGHT
TZOFFSETFROM:+0100
TZOFFSETTO:+0200
TZNAME:CEST
DTSTART:20230326T010000
END:DAYLIGHT
BEGIN:STANDARD
TZOFFSETFROM:+0200
TZOFFSETTO:+0100
TZNAME:CET
DTSTART:20231029T010000
END:STANDARD
BEGIN:DAYLIGHT
TZOFFSETFROM:+0100
TZOFFSETTO:+0200
TZNAME:CEST
DTSTART:20240331T010000
END:DAYLIGHT
BEGIN:STANDARD
TZOFFSETFROM:+0200
TZOFFSETTO:+0100
TZNAME:CET
DTSTART:20241027T010000
END:STANDARD
END:VTIMEZONE
BEGIN:VEVENT
DTSTART;TZID=Europe/Berlin:20230908T090000
DTEND;TZID=Europe/Berlin:20231003T180000
DTSTAMP:20260423T163131
CREATED:20221211T173902Z
LAST-MODIFIED:20221216T142602Z
UID:10000084-1694163600-1696356000@divexellence.de
SUMMARY:PADI IDC - Werde Tauchlehrer am Wochenende
DESCRIPTION:Mach den PADI IDC – Werde Tauchlehrer am Wochenende. Zum Open Water Scuba Instructor kannst Du auch ohne Urlaub werden. Lass Dir hier die Tür zu einer neuen Karriere in der Tauchbranche öffnen. \n\n\n\nWir bieten Dir die Chance zuhause in Deinem Heimatland in Deiner Sprache unter echten Bedingungen zu lernen wie man sicher und mit viel Spaß Taucher ausbildet. Werde Tauchlehrer beim weltweit größten Tauchlehrerverband. Damit hast Du die weltweit größte Chance eine Tauchschule zu finden bei der Du ausbilden kannst. Wenn Du den IDC bei uns in Deutschland machst\, dann erlangst Du zugleich auch die Erfahrung wie man Taucher sicher in kaltem Wasser sicher und mit Spaß unterrichtet. \n\n\n\nAußerdem bieten Dir diveXellence und das DiveCenter Stuttgart an diesen Kurs jetzt noch bis zum 20.12.2022 zu den Preisen und Konditionen des alten Jahres zu buchen. Wir rechnen danach mit 5-10% höheren Preisen. Also seid schnell und meldet Euch. Was wir auch haben ist ein weltweites Netzwerk an Tauchbasen und Tauchprofis. Über dieses vermitteln wir Euch gerne im Anschluss an den bestandenen Kurs Euren ersten Job als Tauchlehrer. Das hat in 2022 bereits hervorragend funktioniert. \n\n\n\nMehr Details findest Du in unserer Infobroschüre auf der Instructor-Kurse Seite und melde Dich kostenlos und unverbindlich zum Info-Abend am 20.12.2022. Frag uns für einen persönlichen Online-Termin oder einen Termin in Ulm. Weitere PADI Go Pro Infoveranstaltungen sind geplant für den 2.3.2023 und 15.5.2023. \n\n\n\nDieser IDC ist als Wochenend-Kurs geplant. Wir starten jeweils Freitags um 13 Uhr und lernen dann Samstags und Sonntags jeweils den ganzen Tag. Folgende Wochenenden sind geplant:9.-10.9.2023\, 15.-17.9.2023\, 22.-24.9.2023 und 29.9.-3.10.2023 (Wochenende plus Feiertag und Brückentag).Dazu kommen noch 2-3 Pool-Abende die Dienstags und/oder Donnerstags nach Absprache\, die in diesem Zeitraum stattfinden. \n\n\n\nDie bisher möglichen Termine für eine Tauchlehrerprüfung durch PADI nach unseren IDC-Terminen sind am 7./8.10.2023 in München oder am 23./24.10.2023 in Offenburg. \n\n\n\nSollte Dir ein Kurs am Stück (11 Tage) lieber sein\, dann sprich uns an\, bzw. schau Dir unter den Veranstaltungen an was bereits geplant ist. \n\n\n\nSpeziell dieser IDC eignet sich auch dafür große Teile Online über MS Teams zu absolvieren. Du bist also auch örtlich sehr flexibel bei diesem Kurs. \n\n\n\nGerne kannst Du uns auch direkt kontaktieren und wir beantworten Dir Deine Fragen auch am Telefon. Jetzt auf zum PADI IDC – Werde Tauchlehrer am Wochenende. \n\n\n\nErgreif die Chance und lebe zukünftig Deinen Traum als PADI Tauchlehrer. \n\n\n\n\n\n\n\n\n\n	\n	\n\n		\n							\n					Anfrage / Anmeldung				\n			\n					\n\n		\n			\n		\n			\n			Kontakt
URL:https://divexellence.de/event/padi-idc-werde-tauchlehrer-am-wochenende-2/
LOCATION:DiveCenter Stuttgart\, Stuifenstraße 17\, Stuttgart\, 70188\, Deutschland
CATEGORIES:IDC,Instructor Weiterbildung,Specialty Instructor
ATTACH;FMTTYPE=image/jpeg:https://divexellence.de/wp-content/uploads/2022/12/IDC_Mai_2022-e1670781626108.jpg
ORGANIZER;CN="Jens Nassall":MAILTO:info@diveXellence.de
END:VEVENT
BEGIN:VEVENT
DTSTART;TZID=Europe/Berlin:20231021T080000
DTEND;TZID=Europe/Berlin:20231021T160000
DTSTAMP:20260423T163131
CREATED:20230625T183947Z
LAST-MODIFIED:20230630T212220Z
UID:10000101-1697875200-1697904000@divexellence.de
SUMMARY:Jura - Wrack im Bodensee und Marienschlucht
DESCRIPTION:Jura – Wrack im Bodensee und Marienschlucht: Wir bieten hier zwei anspruchsvolle Tauchgänge an zwei Highlights des Bodensees an. \n\n\n\nDie Jura – Wrack im Bodensee\n\n\n\ngilt unter Tauchern als bekanntestes Süßwasserwrack Europas. Es liegt je nach Wasserstand auf ca. 38 m im Bodensee.Die Jura war ein Glattdeck-Schaufelraddampfer in Holzbauweise\, der 1864 nach einer Kollision mit der „Stadt Zürich“ sank. Das ist vielleicht der Tauchplatz\, den man im Bodensee unbedingt einmal betaucht haben muss. \n\n\n\nDie Marienschlucht \n\n\n\nist wie der Name erahnen lässt eine Schlucht. Über Wasser ist diese inzwischen aus Sicherheitsgründen gesperrt. Somit ist der Zugang vom Wasser aus derzeit die einzige Chance die Marienschlucht zu sehen. Unterwasser setzt sich der Abfall bis auf über 90m fort. Die Schlucht bietet mystische Gesteinsformationen und strahlt eine unbeschreibliche Atmosphäre aus. Auch dieser Tauchplatz ist ein Muss für jeden Bodensee-Taucher. \n\n\n\nWir besuchen also zwei echte Highlights des Bodensees. Daher seid dabei\, wenn wir gemeinsam die Jura\, das Wrack im Bodensee\, und die Marienschlucht erkunden. \n\n\n\nGeplant ist einen Tauchgang an der Jura und danach einen Tauchgang an der Marienschlucht.  \n\n\n\nVoraussetzungen:– Mindestens AOWD und 100 Tauchgänge sowie Trocki- und Tieftaucherfahrung.– Deep Specialty – Kaltwassertaugliche Ausrüstung und Kaltwasser-Erfahrung. \n\n\n\nBenötigte Ausrüstung:– Trockentauchanzug– Zwei getrennte erste Stufen (kaltwassertauglich)– Mindestens 15l Flasche– Lampe \n\n\n\nAchtung: Abweichungen von diesen Voraussetzungen und der Ausrüstung sind eventuell in Ausnahmefällen denkbar. Müssen aber vorab mit uns besprochen werden. \n\n\n\nAblauf\n\n\n\nWir treffen uns am 21.10.23 um 8:00 Uhr am Hafen in Unteruhldingen. Wir verladen zunächst die Ausrüstung. Danach fahren wir die Jura an (Fahrzeit ca. 1 Stunde). Dort machen wir den ersten Tauchgang. Wie es sich für Bootstauchgänge gehört gibt es nach dem Auftauchen ein kleines Mittagessen an Bord. Anschließend fahren wir zum zweiten Tauchplatz. Danach Rückfahrt nach Unteruhldingen wieder ca. 1 Stunde. Rückkehr in den Hafen wird je nach Ablauf ca. 16.00 – 16.30 Uhr sein.  \n\n\n\nWir versuchen unter allen\, die sich zur Ausfahrt anmelden\, passende Buddy-Teams zusammen zu stellen\, aber ihr entscheidet am Ende selbst\, ob und mit wem ihr tauchen geht. Am Tag der Ausfahrt selbst können wir allerdings bei „Nichtgefallen“ des Buddies die Kosten für die Ausfahrt nicht mehr erstatten. Ihr könnt natürlich gerne Euch gleich als Buddy-Team anmelden. (Bitte pro Taucher jeweils eine Anmeldung ausfüllen und gerne Euren Wunsch-Buddy auf dem Anmeldeformular angeben.) \n\n\n\nIhr könnt auch gerne eine persönliche Einzelbetreuung durch einen unserer Tauchlehrer für einen oder beide Tauchgänge buchen. Pro Tauchgang berechnen wir hierfür 50 Euro Aufpreis. Wir haben allerdings nur eine begrenzte Verfügbarkeit hierfür. \n\n\n\nFür mehr Infos melde dich gerne über das Kontaktformular. \n\n\n\nAnmeldung\n\n\n\nHier geht es direkt zum  \n\n\n\n\nAnmeldeformular\n\n\n\n\nAnmeldeschluss: 7.10.2023. Danach sind Anmeldungen auf Anfrage und bei Verfügbarkeit ev. noch möglich. \n\n\n\n\n\n\n\n\n\n	\n	\n\n		\n							\n					Anfrage / Anmeldung				\n			\n					\n\n		\n			\n		\n			\n			Kontakt
URL:https://divexellence.de/event/jura-wrack-im-bodensee-und-marienschlucht/
LOCATION:Hafen Unteruhldingen\, Standpromenade\, Uhldingen-Mühlhofen\, 88690\, Deutschland
CATEGORIES:Fun Wochenende,Guided Dive
ATTACH;FMTTYPE=image/jpeg:https://divexellence.de/wp-content/uploads/2022/10/IMG_0889-Kopie-scaled.jpg
END:VEVENT
END:VCALENDAR