BEGIN:VCALENDAR
VERSION:2.0
PRODID:-//diveXellence - ECPv6.15.20//NONSGML v1.0//EN
CALSCALE:GREGORIAN
METHOD:PUBLISH
X-ORIGINAL-URL:https://divexellence.de
X-WR-CALDESC:Veranstaltungen für diveXellence
REFRESH-INTERVAL;VALUE=DURATION:PT1H
X-Robots-Tag:noindex
X-PUBLISHED-TTL:PT1H
BEGIN:VTIMEZONE
TZID:Europe/Berlin
BEGIN:DAYLIGHT
TZOFFSETFROM:+0100
TZOFFSETTO:+0200
TZNAME:CEST
DTSTART:20220327T010000
END:DAYLIGHT
BEGIN:STANDARD
TZOFFSETFROM:+0200
TZOFFSETTO:+0100
TZNAME:CET
DTSTART:20221030T010000
END:STANDARD
BEGIN:DAYLIGHT
TZOFFSETFROM:+0100
TZOFFSETTO:+0200
TZNAME:CEST
DTSTART:20230326T010000
END:DAYLIGHT
BEGIN:STANDARD
TZOFFSETFROM:+0200
TZOFFSETTO:+0100
TZNAME:CET
DTSTART:20231029T010000
END:STANDARD
BEGIN:DAYLIGHT
TZOFFSETFROM:+0100
TZOFFSETTO:+0200
TZNAME:CEST
DTSTART:20240331T010000
END:DAYLIGHT
BEGIN:STANDARD
TZOFFSETFROM:+0200
TZOFFSETTO:+0100
TZNAME:CET
DTSTART:20241027T010000
END:STANDARD
END:VTIMEZONE
BEGIN:VEVENT
DTSTART;TZID=Europe/Berlin:20230812T090000
DTEND;TZID=Europe/Berlin:20230813T180000
DTSTAMP:20260423T203552
CREATED:20230501T162328Z
LAST-MODIFIED:20230804T080157Z
UID:10000095-1691830800-1691949600@divexellence.de
SUMMARY:Tauchwochenende rund um Reutte in Tirol
DESCRIPTION:Wir machen aus dem August-Wochenende ein Tauchwochenende rund um Reutte in Tirol. Je nach Wetter und Kurs werden wir im Plansee\, im Urisee\, im Blindsee und  eventuell sogar im Lechausee tauchen. Spaßtaucher sind natürlich herzlich willkommen und falls Ihr wollt könnt Ihr Euch auch von uns durch die Seen führen lassen. \n\n\n\nHier können folgende Kurse gemacht werden: \n\n\n\n\nOpen Water Diver\n\n\n\nRescue Diver\n\n\n\nAOWD\n\n\n\nVerschiedene Specialties wie Deep\, Navigation\, Tarierung in Perfektion\, Trockentauchen\, Fischbestimmung\, Digitale Unterwasserfotografie\, Suchen & Bergen\, Self Reliant\, Boje schießen\, Nitroxan einem oder beiden Tagen möglich\n\n\n\nGuided Dives – Geführte Tauchgängean einem oder an beiden Tagen möglich\n\n\n\n\nWir werden in der Nähe von Reutte übernachten. Meldet euch gerne\, wenn Ihr auch eine Übernachtungsmöglichkeit braucht. \n\n\n\nAnmeldeschluss: 04.08.2023 (ihr könnt natürlich gerne auch später noch versuchen bei uns anzufragen). \n\n\n\nNächster Termin für dieses Event: 9. und 10. September 2023. \n\n\n\n\nFür mehr Infos meldet Euch gerne bei uns über das Kontaktformular. Der Preis für das Fun-Tauch-Wochenende hängt dann auch stark davon ab\, was Ihr genau machen wollt. \n\n\n\n\n\n\n\n\n\n\n	\n	\n\n		\n							\n					Anfrage / Anmeldung				\n			\n					\n\n		\n			\n		\n			\n			Kontakt
URL:https://divexellence.de/event/tauchwochenende-rund-um-reutte-in-tirol/
LOCATION:Urisee\, Urisee\, Reutte\, Österreich
CATEGORIES:AOWD,Fun Wochenende,Guided Dive,OWD,Rescue,Specialty Kurs
ATTACH;FMTTYPE=image/jpeg:https://divexellence.de/wp-content/uploads/2023/05/fae82b96-7d1a-42cb-9a25-5319eb0ac7a9.JPG
ORGANIZER;CN="Jens Nassall":MAILTO:info@diveXellence.de
END:VEVENT
BEGIN:VEVENT
DTSTART;TZID=Europe/Berlin:20230825T150000
DTEND;TZID=Europe/Berlin:20230827T190000
DTSTAMP:20260423T203552
CREATED:20230501T152258Z
LAST-MODIFIED:20230630T191537Z
UID:10000092-1692975600-1693162800@divexellence.de
SUMMARY:Samaranger See und Fernsteinsee
DESCRIPTION:Auf knapp 950 Meter Höhe liegen der Samaranger See und Fernsteinsee. Beide sind in Privatbesitz befindlichen\, werden von unterirdischen Quellen gespeist und sind eingebettet in die herrliche Tiroler Bergwelt: Die Wassertemperaturen liegen auch im Sommer unter 10°C. \n\n\n\nDer Fernsteinsee\n\n\n\nDer Fernsteinsee ist 550 Meter lang und bis zu 540 Meter breit und bis maximal 17 Meter tief. Im See befindet sich eine kleine Insel. \n\n\n\nDer Samaranger See\n\n\n\nDas Wasser ist kristallklar und die Sichtweite kann bis zu 30 Meter betragen. Die verwunschen anmutende Unterwasserlandschaft ist geprägt von Ästen und Bäumen\, die von leuchtend grünen Schleimalgen überzogenen sind. \n\n\n\nWir besuchen hier eine Location die zu den Top 100 Tauchrevieren weltweit zählt. \n\n\n\nBeim Tauchen muss auf perfekte Tarierungskontrolle geachtet werden und der Untergrund darf nicht berührt werden\, denn aufgewirbeltes Sediment kann sich auf die empfindliche Unterwasserflora ablegen. Dadurch bekommen diese Pflanzen zu wenig UV-Strahlung und sterben ab. Bedingt durch die große Kälte des Wassers\, dauert es Jahrzehnte\, bis sich die Pflanzen wieder regenerieren und nachwachsen können. \n\n\n\nÜbernachtung: \n\n\n\nHotel Fernsteinsee im Doppelzimmer mit Frühstück für 299\,00 € pro Person. (Einzelzimmer +10\,00€) \n\n\n\nDa es sich um Privatseen handelt\, ist das Tauchen nur ab zwei Übernachtungen erlaubt. \n\n\n\nLeistungen\n\n\n\n2 ÜbernachtungenFrühstückKurtaxegeführte TauchgängeOrganisation und PlanungSauerstoff und Erste-Hilfe Ausrüstung \n\n\n\nVoraussetzungen\n\n\n\nFür den Fernsteinsee 80 geloggte TauchgängeFür den Sameranger See 100 geloggte Tauchgänge Das Logbuch muss beim Check-in vorgezeigt werden. \n\n\n\nAusrüstungKaltwassertaugliche Ausrüstung mit zwei getrennten ersten StufenFlasche(n) mit DoppelabgangTrockentauchanzug ist dringend empfohlen oder ein angemessener Kälteschutz.Leihausrüstung auf Anfrage möglich (nicht inbegriffen) \n\n\n\nFür mehr Infos melde dich gerne über das Kontaktformular. \n\n\n\nAnmeldung\n\n\n\nHier geht es direkt zum  \n\n\n\n\nAnmeldeformular\n\n\n\n\n  \n\n\n\nAnmeldeschluss: 11.08.2023. Danach sind Anmeldungen auf Anfrage und bei Verfügbarkeit ev. noch möglich. \n\n\n\nOder ihr bucht hier direkt: \n\n\n\nJetzt buchen\n\n\n\n\n\n  \n\n\n\n\n\n\n\n\n\n	\n	\n\n		\n							\n					Anfrage / Anmeldung				\n			\n					\n\n		\n			\n		\n			\n			Kontakt
URL:https://divexellence.de/event/samaranger-see-und-fernsteinsee/
LOCATION:Fernsteinsee\, Fernstein 475\, Nassereith\, Tirol\, 6465\, Österreich
CATEGORIES:Fun Wochenende,Guided Dive
ATTACH;FMTTYPE=image/jpeg:https://divexellence.de/wp-content/uploads/2023/05/IMG_3135.jpg
ORGANIZER;CN="Jens Nassall":MAILTO:info@diveXellence.de
END:VEVENT
END:VCALENDAR