BEGIN:VCALENDAR
VERSION:2.0
PRODID:-//diveXellence - ECPv6.15.20//NONSGML v1.0//EN
CALSCALE:GREGORIAN
METHOD:PUBLISH
X-WR-CALNAME:diveXellence
X-ORIGINAL-URL:https://divexellence.de
X-WR-CALDESC:Veranstaltungen für diveXellence
REFRESH-INTERVAL;VALUE=DURATION:PT1H
X-Robots-Tag:noindex
X-PUBLISHED-TTL:PT1H
BEGIN:VTIMEZONE
TZID:Europe/Berlin
BEGIN:DAYLIGHT
TZOFFSETFROM:+0100
TZOFFSETTO:+0200
TZNAME:CEST
DTSTART:20220327T010000
END:DAYLIGHT
BEGIN:STANDARD
TZOFFSETFROM:+0200
TZOFFSETTO:+0100
TZNAME:CET
DTSTART:20221030T010000
END:STANDARD
BEGIN:DAYLIGHT
TZOFFSETFROM:+0100
TZOFFSETTO:+0200
TZNAME:CEST
DTSTART:20230326T010000
END:DAYLIGHT
BEGIN:STANDARD
TZOFFSETFROM:+0200
TZOFFSETTO:+0100
TZNAME:CET
DTSTART:20231029T010000
END:STANDARD
BEGIN:DAYLIGHT
TZOFFSETFROM:+0100
TZOFFSETTO:+0200
TZNAME:CEST
DTSTART:20240331T010000
END:DAYLIGHT
BEGIN:STANDARD
TZOFFSETFROM:+0200
TZOFFSETTO:+0100
TZNAME:CET
DTSTART:20241027T010000
END:STANDARD
END:VTIMEZONE
BEGIN:VEVENT
DTSTART;TZID=Europe/Berlin:20230604T190000
DTEND;TZID=Europe/Berlin:20230604T220000
DTSTAMP:20260424T014255
CREATED:20230421T130342Z
LAST-MODIFIED:20230501T111516Z
UID:10000090-1685905200-1685916000@divexellence.de
SUMMARY:PADI GoPro Info
DESCRIPTION:Diese PADI GoPro Info Veranstaltung ist ausdrücklich für Taucher aller Ausbildungsstufen!Spielst du mit dem Gedanken eventuell ein PADI Tauchlehrer oder Divemaster zu werden? Möchtest du deine Leidenschaft für das Tauchen gerne an andere weitergeben? Dann komm zu unserem PADI GoPro Info-Abend. Hier erfährst du alles wissenswerte über das Leben eines professionellen Tauchers sowie über deine Aufgaben\, Möglichkeiten und Weiterbildungsoptionen. Wir versuchen auch eine Vertreterin von PADI bei uns zu haben\, die einen spannenden Vortrag halten wird und ebenfalls gerne alle Eure Fragen zu PADI beantworten wird. \n\n\n\nWarum PADI Divemaster oder Tauchlehrer werden und welche Vorteile hast Du wenn Du das machst und speziell wenn Du es mit PADI machst? Was kannst Du wenn Du es bist alles damit machen?  \n\n\n\nAlle Deine Fragen zum Instructor Development Kurs (IDC) werden hier beantwortet: \n\n\n\n\nWas ist ein IE?\n\n\n\nWarum Specialty Instructor Kurse belegen?\n\n\n\nWas ist der EFR-I?\n\n\n\nWelche Voraussetzungen musst Du erfüllen?\n\n\n\nWas kostet es?\n\n\n\nWelches Paket macht für Dich Sinn?\n\n\n\nWarum PADI Divemaster oder Tauchlehrer werden?\n\n\n\nWelche Möglichkeiten hast Du als Divemaster oder Tauchlehrer?\n\n\n\n\nJe nach Wunsch wird dieser Termin ggf. auch parallel als Online-Variante über MS Teams stattfinden. Falls Du eher im Raum Ulm oder Stuttgart wohnst und nicht in die Tauchfabrik Rastatt fahren möchtest: kein Problem. Am 15.05. sind wir in Stuttgart und am 25.05. in Ulm. Bei Bedarf machen wir einen weitere Abende. Dazu bitte einfach kurz schreiben oder anrufen. \n\n\n\nDie nächsten geplanten IDC-Termine sind:22.06. – 02.07.2023 IDC in einem Block in Rastatt/Plittersdorf08.09. – 03.10.2023 IDC jeweils nur an den Wochenenden in diesem ZeitraumOstern 2024 IDC in einem Block in Rastatt oder Stuttgart – Je nach Euren Bedürfnissen.Details findet ihr unter Pro-Kurse und auch in der jeweiligen Veranstaltungs-Seite. \n\n\n\nBei Interesse melde Dich bitte bei uns\, damit wir Dich einplanen können. Für mehr Informationen: info@diveXellence.de oder 0160-5395172Wir freuen uns auf Dich! \n\n\n\n\n\n\n\n\n\n\n\n	\n	\n\n		\n							\n					Anfrage / Anmeldung				\n			\n					\n\n		\n			\n		\n			\n			Kontakt
URL:https://divexellence.de/event/padi-gopro-info-2/
LOCATION:Tauchfabrik Rastatt\, Im Teilergrund 1\, Rastatt\, 76437\, Deutschland
CATEGORIES:IDC,Instructor Weiterbildung
ATTACH;FMTTYPE=image/jpeg:https://divexellence.de/wp-content/uploads/2022/01/4011DD50-8046-404D-90D9-9329AEBA46B7-edited.jpeg
END:VEVENT
BEGIN:VEVENT
DTSTART;TZID=Europe/Berlin:20230610T090000
DTEND;TZID=Europe/Berlin:20230611T180000
DTSTAMP:20260424T014255
CREATED:20230502T133810Z
LAST-MODIFIED:20230502T133909Z
UID:10000096-1686387600-1686506400@divexellence.de
SUMMARY:Tauchwochenende am Urisee
DESCRIPTION:Anfang Juni gehen wir nochmal für die Ausbildung und für ein Tauchwochenende an den Urisee bei Reutte in Tirol. Spaßtaucher sind natürlich ebenfalls herzlich willkommen und falls Ihr wollt könnt Ihr Euch auch von uns durch den See führen lassen. \n\n\n\nHier können folgende Kurse gemacht werden: \n\n\n\n\nOpen Water Diver\n\n\n\nRescue Diver\n\n\n\nAOWD\n\n\n\nVerschiedene Specialties wie Deep\, Navigation\, Tarierung in Perfektion\, Trockentauchen\, Fischbestimmung\, Digitale Unterwasserfotografie\, Suchen & Bergen\, Self Reliant\, Boje schießen\, Nitroxan einem oder beiden Tagen möglich\n\n\n\nGuided Dives – Geführte Tauchgängean einem oder an beiden Tagen möglich\n\n\n\n\nWir werden in der Nähe von Reutte übernachten. Meldet euch gerne\, wenn Ihr auch eine Übernachtungsmöglichkeit braucht. \n\n\n\nAnmeldeschluss: 28.05.2023 (ihr könnt natürlich gerne auch später noch versuchen bei uns anzufragen) \n\n\n\n\nFür mehr Infos meldet Euch gerne bei uns über das Kontaktformular. Der Preis für das Fun-Tauch-Wochenende hängt dann auch stark davon ab\, was Ihr genau machen wollt. \n\n\n\n\n\n\n\n\n\n\n	\n	\n\n		\n							\n					Anfrage / Anmeldung				\n			\n					\n\n		\n			\n		\n			\n			Kontakt
URL:https://divexellence.de/event/tauchwochenende-am-urisee/
LOCATION:Urisee\, Urisee\, Reutte\, Österreich
CATEGORIES:AOWD,Fun Wochenende,Guided Dive,OWD,Rescue,Specialty Kurs
ATTACH;FMTTYPE=image/jpeg:https://divexellence.de/wp-content/uploads/2023/05/fae82b96-7d1a-42cb-9a25-5319eb0ac7a9.JPG
ORGANIZER;CN="Jens Nassall":MAILTO:info@diveXellence.de
END:VEVENT
BEGIN:VEVENT
DTSTART;TZID=Europe/Berlin:20230610T090000
DTEND;TZID=Europe/Berlin:20230611T180000
DTSTAMP:20260424T014255
CREATED:20230607T130527Z
LAST-MODIFIED:20230607T130726Z
UID:10000097-1686387600-1686506400@divexellence.de
SUMMARY:Müll sammeln am Urisee
DESCRIPTION:Urisee Reutte Tirol divexellence Tauchschule Ulm Tauchen gegen den Müll\n\n\n\nAnfang Juni räumen wir den Urisee auf – Müll sammeln am Urisee Unterwasser und am Ufer. Ihr könnt dabei das „Dive Against Debris“ Specialty belegen. Dabei lernt ihr wie ihr den Müll unter Wasser einsammeln könnt\, was ihr dabei beachten müsst und wie ihr unsere Seen und das Meer von Müll befreien könnt und euren eigenen Beitrag zu diesem Thema leistet. Es geht nicht nur darum\, den Müll einzusammeln Der gesammelte Müll wird in eine weltweiten Datenbank erfasst und somit kann an einer globalen Problemlösung gearbeitet werden. Da der Urisee leider durch unachtsame Gäste immer wieder unter dem Müllproblem leidet\, wollen wir mit unserer Clean-Up Aktion aktiv etwas dagegen machen. Das Specialty kann auch auf den späteren AOWD Kurs oder den Master Scuba Diver angerechnet werden. Falls ihr das Specialty nicht machen möchtet\, uns aber trotzdem beim Clean-Up unterstützen wollt\, freuen wir uns über eure Hilfe an der Oberfläche\, auch der gesamte Uferbereich hat ein Clean-Up notwendig.  \n\n\n\nAnmeldeschluss: 10.06.2023 (ihr könnt natürlich gerne auch später noch versuchen bei uns anzufragen) \n\n\n\n\nFür mehr Infos meldet Euch gerne bei uns über das Kontaktformular. Der Preis für das Fun-Tauch-Wochenende hängt dann auch stark davon ab\, was Ihr genau machen wollt. \n\n\n\n\n\n\n\n\n\n\n	\n	\n\n		\n							\n					Anfrage / Anmeldung				\n			\n					\n\n		\n			\n		\n			\n			Kontakt		\n			\n	\n\n	\n\n	\n\n\n\n\n\n\n\n\n\n\n\n\n\n\n\n\n\n\n#image_title\n\n\n\n#image_title\n\n\n\n\n\n\n\n#image_title
URL:https://divexellence.de/event/muell-sammeln-am-urisee/
LOCATION:Urisee\, Urisee\, Reutte\, Österreich
CATEGORIES:AOWD,Fun Wochenende,Guided Dive,OWD,Rescue,Specialty Kurs
ATTACH;FMTTYPE=image/jpeg:https://divexellence.de/wp-content/uploads/2023/06/IMG_2782-scaled.jpeg
ORGANIZER;CN="Jens Nassall":MAILTO:info@diveXellence.de
END:VEVENT
END:VCALENDAR