BEGIN:VCALENDAR
VERSION:2.0
PRODID:-//diveXellence - ECPv6.15.20//NONSGML v1.0//EN
CALSCALE:GREGORIAN
METHOD:PUBLISH
X-ORIGINAL-URL:https://divexellence.de
X-WR-CALDESC:Veranstaltungen für diveXellence
REFRESH-INTERVAL;VALUE=DURATION:PT1H
X-Robots-Tag:noindex
X-PUBLISHED-TTL:PT1H
BEGIN:VTIMEZONE
TZID:Europe/Berlin
BEGIN:DAYLIGHT
TZOFFSETFROM:+0100
TZOFFSETTO:+0200
TZNAME:CEST
DTSTART:20210328T010000
END:DAYLIGHT
BEGIN:STANDARD
TZOFFSETFROM:+0200
TZOFFSETTO:+0100
TZNAME:CET
DTSTART:20211031T010000
END:STANDARD
BEGIN:DAYLIGHT
TZOFFSETFROM:+0100
TZOFFSETTO:+0200
TZNAME:CEST
DTSTART:20220327T010000
END:DAYLIGHT
BEGIN:STANDARD
TZOFFSETFROM:+0200
TZOFFSETTO:+0100
TZNAME:CET
DTSTART:20221030T010000
END:STANDARD
BEGIN:DAYLIGHT
TZOFFSETFROM:+0100
TZOFFSETTO:+0200
TZNAME:CEST
DTSTART:20230326T010000
END:DAYLIGHT
BEGIN:STANDARD
TZOFFSETFROM:+0200
TZOFFSETTO:+0100
TZNAME:CET
DTSTART:20231029T010000
END:STANDARD
END:VTIMEZONE
BEGIN:VEVENT
DTSTART;TZID=Europe/Berlin:20220727T183000
DTEND;TZID=Europe/Berlin:20220727T220000
DTSTAMP:20260424T172139
CREATED:20220624T093929Z
LAST-MODIFIED:20220624T094000Z
UID:10000069-1658946600-1658959200@divexellence.de
SUMMARY:PADI GoPro Info-Abend
DESCRIPTION:Der PADI GoPro Info-Abend ist ausdrücklich für Taucher aller Ausbildungsstufen! Spielst du mit dem Gedanken eventuell ein PADI Pro zu werden? Möchtest du deine Leidenschaft für das Tauchen gerne an andere weitergeben? Dann komm zu unserer PADI GoPro Info-Abend. Hier erfährst du alles wissenswerte über das Leben eines PADI Professionals sowie über deine Aufgaben\, Möglichkeiten und Weiterbildungsoptionen. Wir haben eine Vertreterin von PADI eingeladen\, die einen spannenden Vortrag halten wird und ebenfalls gerne alle Eure Fragen zu PADI beantworten wird. \n\n\n\nWarum PADI Pro werden? Welche Vorteile hast Du als PADI Divemaster oder PADI Tauchlehrer und was kannst Du alles damit machen?  \n\n\n\nAlle Deine Fragen zum Instructor Development Kurs (IDC) werden hier beantwortet: \n\n\n\nWas ist ein IE?Warum Specialty Instructor Kurse belegen?Was ist der EFR-I?Welche Voraussetzungen musst Du erfüllen?Was kostet es?Welches Paket macht für DichSinn?Warum PADI Divemaster oder Tauchlehrer werden?Welche Möglichkeiten hast Du als Divemaster oder Tauchlehrer?\n\n\n\nJe nach Wunsch und je nach aktueller COVID-Situation wird dieser Termin ggf. auch als Online-Variante über MS Teams stattfinden. Falls Du eher im Raum Ulm wohnst und nicht in’s DiveCenter Stuttgart fahren möchtest: kein Problem. Bei Bedarf machen wir einen weiteren Abend in Ulm. Dazu bitte einfach kurz schreiben oder anrufen. \n\n\n\nBei Interesse melde Dich bitte bei uns\, damit wir Dich einplanen können. Für mehr Informationen: info@diveXellence.de oder 0160-5395172Wir freuen uns auf Dich! \n\n\n\n\n\n\n\n\n\n	\n	\n\n		\n							\n					Anfrage / Anmeldung				\n			\n					\n\n		\n			\n		\n			\n			Kontakt
URL:https://divexellence.de/event/padi-gopro-info-abend/
LOCATION:DiveCenter Stuttgart\, Stuifenstraße 17\, Stuttgart\, 70188\, Deutschland
CATEGORIES:IDC,Instructor Weiterbildung
ATTACH;FMTTYPE=image/jpeg:https://divexellence.de/wp-content/uploads/2022/01/4011DD50-8046-404D-90D9-9329AEBA46B7-edited.jpeg
ORGANIZER;CN="Jens Nassall":MAILTO:info@diveXellence.de
END:VEVENT
END:VCALENDAR