BEGIN:VCALENDAR
VERSION:2.0
PRODID:-//diveXellence - ECPv6.15.20//NONSGML v1.0//EN
CALSCALE:GREGORIAN
METHOD:PUBLISH
X-ORIGINAL-URL:https://divexellence.de
X-WR-CALDESC:Veranstaltungen für diveXellence
REFRESH-INTERVAL;VALUE=DURATION:PT1H
X-Robots-Tag:noindex
X-PUBLISHED-TTL:PT1H
BEGIN:VTIMEZONE
TZID:Europe/Berlin
BEGIN:DAYLIGHT
TZOFFSETFROM:+0100
TZOFFSETTO:+0200
TZNAME:CEST
DTSTART:20210328T010000
END:DAYLIGHT
BEGIN:STANDARD
TZOFFSETFROM:+0200
TZOFFSETTO:+0100
TZNAME:CET
DTSTART:20211031T010000
END:STANDARD
BEGIN:DAYLIGHT
TZOFFSETFROM:+0100
TZOFFSETTO:+0200
TZNAME:CEST
DTSTART:20220327T010000
END:DAYLIGHT
BEGIN:STANDARD
TZOFFSETFROM:+0200
TZOFFSETTO:+0100
TZNAME:CET
DTSTART:20221030T010000
END:STANDARD
BEGIN:DAYLIGHT
TZOFFSETFROM:+0100
TZOFFSETTO:+0200
TZNAME:CEST
DTSTART:20230326T010000
END:DAYLIGHT
BEGIN:STANDARD
TZOFFSETFROM:+0200
TZOFFSETTO:+0100
TZNAME:CET
DTSTART:20231029T010000
END:STANDARD
END:VTIMEZONE
BEGIN:VEVENT
DTSTART;TZID=Europe/Berlin:20220605T140000
DTEND;TZID=Europe/Berlin:20220605T160000
DTSTAMP:20260424T183441
CREATED:20220523T224040Z
LAST-MODIFIED:20221216T150646Z
UID:10000064-1654437600-1654444800@divexellence.de
SUMMARY:Guided Dive im Bodensee
DESCRIPTION:Guided Dive im Bodensee: Ihr wollt mal wieder gut organisiert einen schönen Tauchgang machen? Gemeinsam Zeit verbringen\, aber Euch nicht wochenlang mit der Organisation der Tauchgänge beschäftigen? Oder Euer letzter Tauchgang ist schon zu lange her und ihr wisst gar nicht mehr wie das geht? \n\n\n\nDann seid ihr bei uns richtig. Kommt mit an den Krebsgarten in Überlingen am Bodensee zum Guided Dive im Bodensee.  \n\n\n\nFür alle die den Tauchplatz noch nicht kennen\, keinen Buddy haben\, noch ganz am Anfang ihrer Tauchkariere stehen oder nach einer längeren Tauchpause wieder einsteigen wollen\, bieten wir geführt Tauchgänge an. Vor dem Tauchgang gibt es ein ausführliches Briefing und wir kümmern uns um die Tauchgangsplanung und Navigation. Ihr könnt den Tauchgang und den ganzen Tag einfach genießen. \n\n\n\nIm Anschluss ist ein weiterer Guided Dive so wie ein Nachttauchgang geplant. \n\n\n\nBei Interesse melde dich bei info@divexellence.de \n\n\n\nPreise für den Guided Dive und die Leihausrüstung auf Anfrage. \n\n\n\nFalls Ihr ein ReActivate (nach mehreren Monaten ohne Tauchen wieder einsteigen\, siehe auch bei PADI) machen wollt dann ist das ebenfalls an diesem Tag möglich. Bucht aber bitte nicht direkt bei PADI\, sondern meldet Euch erst bei uns. \n\n\n\nAuch der ein oder andere Tauchgang\, der für einen AOWD zählt ist an diesem Tag möglich. Alternativ eventuell ein Specialty-Kurs: alles kein Problem. Einfach rechtzeitig vorab mit uns absprechen. \n\n\n\nFür mehr Infos meldet Euch gerne bei uns über das Kontaktformular. Der Preis für den Guided Dive hängt dann auch stark davon ab\, was Ihr genau machen wollt. \n\n\n\nAnmeldeschluss: Bei Interesse meldet euch bitte spätestens bis 02.06. an. \n\n\n\n\n\n\n\n\n\n	\n	\n\n		\n							\n					Anfrage / Anmeldung				\n			\n					\n\n		\n			\n		\n			\n			Kontakt
URL:https://divexellence.de/event/guided-dive-im-bodensee/
LOCATION:Krebsgarten Meersburg Bodensee\, Uferpromenade 51\, Meersburg\, 88709\, Deutschland
CATEGORIES:Guided Dive,ReActivate,Specialty Kurs
ATTACH;FMTTYPE=image/jpeg:https://divexellence.de/wp-content/uploads/2022/05/1253F1A5-8390-4E77-9E50-21A4260FAC0A.jpeg
ORGANIZER;CN="Jens Nassall":MAILTO:info@diveXellence.de
END:VEVENT
BEGIN:VEVENT
DTSTART;TZID=Europe/Berlin:20220605T203000
DTEND;TZID=Europe/Berlin:20220605T230000
DTSTAMP:20260424T183441
CREATED:20220523T230057Z
LAST-MODIFIED:20220523T230721Z
UID:10000065-1654461000-1654470000@divexellence.de
SUMMARY:Guided Nachttauchgang im Bodensee
DESCRIPTION:Guided Nachttauchgang im Bodensee: ihr wollt etwas ganz besonderes erleben? Einmal mit eigenen Augen sehen was nachts im See so los ist? Lasst Euch überraschen\, denn es ist nicht einfach nur dunkel. Es sind andere Tiere unterwegs und es ist spannend alles zu entdecken was sich da im Licht Eurer Lampe so abspielt. Interessiert? \n\n\n\nDann seid ihr bei uns richtig. Kommt mit an den Krebsgarten in Meersburg am Bodensee zum Guided Nachttauchgang im Bodensee.  \n\n\n\nVoraussetzung: mindestens AOWD oder Nachttauch Specialty. Oder mache diesen Tauchgang im Rahmen deines AOWDs oder Nachttauch Specialties. \n\n\n\nBitte melde dich bei Interesse bei uns. Falls du Leihausrüstung oder z.B. eine Lampe brauchst\, melde dich bitte bis spätestens 02.06. an. \n\n\n\nPreise für den Guided Dive und die Leihausrüstung auf Anfrage. \n\n\n\nBei Interesse melde dich bei info@divexellence.de \n\n\n\nFalls Ihr ein ReActivate (nach mehreren Monaten ohne Tauchen wieder einsteigen\, siehe auch bei PADI) machen wollt dann ist das ebenfalls an diesem Tag möglich. Bucht aber bitte nicht direkt bei PADI\, sondern meldet Euch erst bei uns. \n\n\n\nAuch der ein oder andere Tauchgang\, der für einen AOWD zählt ist an diesem Tag möglich. Alternativ eventuell ein Specialty-Kurs: alles kein Problem. Einfach rechtzeitig vorab mit uns absprechen. \n\n\n\nFür mehr Infos meldet Euch gerne bei uns über das Kontaktformular. Der Preis für den Guided Dive hängt dann auch stark davon ab\, was Ihr genau machen wollt. \n\n\n\n\n\n\n\n\n\n	\n	\n\n		\n							\n					Anfrage / Anmeldung				\n			\n					\n\n		\n			\n		\n			\n			Kontakt
URL:https://divexellence.de/event/guided-nachttauchgang-im-bodensee/
LOCATION:Krebsgarten Meersburg Bodensee\, Uferpromenade 51\, Meersburg\, 88709\, Deutschland
CATEGORIES:Guided Dive,ReActivate,Specialty Kurs
ATTACH;FMTTYPE=image/jpeg:https://divexellence.de/wp-content/uploads/2022/05/BE22E4FA-1C87-4378-9CEB-0E6904AE0E61.jpeg
ORGANIZER;CN="Jens Nassall":MAILTO:info@diveXellence.de
END:VEVENT
BEGIN:VEVENT
DTSTART;TZID=Europe/Berlin:20220618T090000
DTEND;TZID=Europe/Berlin:20220619T180000
DTSTAMP:20260424T183441
CREATED:20220610T203224Z
LAST-MODIFIED:20220610T203247Z
UID:10000067-1655542800-1655661600@divexellence.de
SUMMARY:AOWD - Advanced Open Water Diver
DESCRIPTION:Mach Deinen AOWD – Advanced Open Water Diver und erweitere Deine Taucherfahrung: Tauche tiefer und erlebe neue Abenteuer. \n\n\n\nMache fünf Abenteuer Tauchgänge und werde PADI AOWD – Advanced Open Water Diver. Voraussetzung sind die Abenteuer Tauchgänge Navigation und Tieftauchen. Die restlichen drei kannst du dir aus folgenden Abenteuer Tauchgängen selbst aussuchen. \n\n\n\n– Digitale Unterwasserfotografie– Dive Against Debris (Tauchen gegen Verschmutzung)– Bergseetauchen– DSMB Diver (Boje schießen)– Trockentauchen – Fischbestimmung – Nachttauchen – Peak Performance Buoyancy (Tarieren in Perfektion)– Suchen & Bergen– Wracktauchen– Self Reliant (Selbstverantwortlicher Taucher) \n\n\n\nKommt mit an den Friedberger Baggersee und startet Euren Weg zum Advanced Open Water Diver. Den abschließenden Tieftauchgang werden wir an einem weiteren Tag an einem tieferen See durchführen. Die genaue Abfolge der Tauchgänge hängt stark von Eurer Auswahl ab. Auch müssen wir gegebenenfalls für manche Tauchgänge noch an einen weiteren See. Aber das sprechen wir direkt miteinander ab sobald ihr Euch mit Eurer Tauchgangs-Auswahl bei uns meldet.  \n\n\n\nMehr zum Advanced Open Water Diver findet ihr bei PADI. Bucht aber bitte nicht direkt bei PADI. Meldet Euch erst bei uns. Bei PADI bekommt ihr nur das eLearning. Bei uns wird es im Paket mit den Tauchgängen günstiger. \n\n\n\nIn den Kursgebühren sind folgende Leistungen enthalten: \n\n\n\nAOWD Crewpak mit eLearning\, komplette Leihausrüstung (außer Maske und Schnorchel)\, Flasche und Füllungen. \n\n\n\nFür mehr Infos meldet Euch gerne bei uns über das Kontaktformular. \n\n\n\nAnmeldeschluss: Bei Interesse meldet euch bitte spätestens bis 15.06. an.  \n\n\n\n\n\n\n\n\n\n	\n	\n\n		\n							\n					Anfrage / Anmeldung				\n			\n					\n\n		\n			\n		\n			\n			Kontakt
URL:https://divexellence.de/event/aowd-advanced-open-water-diver/
LOCATION:Friedberger Baggersee\, Baggersee\, Friedberg\, 86316
CATEGORIES:Fun Wochenende,Specialty Kurs
ATTACH;FMTTYPE=image/jpeg:https://divexellence.de/wp-content/uploads/2022/04/bce88f39-780b-41a8-8aa3-236035c898ea.jpg
ORGANIZER;CN="Jens Nassall":MAILTO:info@diveXellence.de
END:VEVENT
BEGIN:VEVENT
DTSTART;TZID=Europe/Berlin:20220618T090000
DTEND;TZID=Europe/Berlin:20220619T180000
DTSTAMP:20260424T183441
CREATED:20220610T210044Z
LAST-MODIFIED:20220610T210109Z
UID:10000068-1655542800-1655661600@divexellence.de
SUMMARY:Tarierung in Perfektion Specialty
DESCRIPTION:Mit dem PADI Tarierung in Perfektion Specialty (Peak Performance Buoyancy Specialty) Kurs verbesserst du deine Tarierungsfertigkeiten und bringst sie auf das nächste Level. \n\n\n\nUm selbstbewusst und entspannt tauchen zu können\, ist gute Tarierungskontrolle notwendig. Wenn du perfekt ausbalanciert bist\, kannst du mühelos dahin schweben\, dich scheuen Unterwasserlebewesen besser nähern und verbrauchst weniger Luft.  \n\n\n\nFür den Peak Performance Buoyancy Kurs musst du ein PADI (Junior) Open Water Diver oder höheres Brevet haben und mindestens 10 Jahre alt sein. \n\n\n\nAblauf: \n\n\n\nTheorie: im Selbststudium\, offene Fragen werden mit dem Tauchlehrer besprochen.Tauchgänge: 2 Tauchgänge an 1 Tag (jeweils am Samstag und Sonntag möglich) \n\n\n\nLerninhalte: \n\n\n\nWie man sein benötigtes Bleigewicht ermittelt\, um weder zu leicht noch zu schwer zu sein.Wie man sein Gewichtssystem und die Tauchausrüstung trimmt\, um unter Wasser die perfekte Balance zu haben. Wie man sich stromlinienförmig ausrichtet\, um Kraft zu sparen und sein Atemgas effizienter zu nutzen.Wie man mühelos im Wasser schwebt.\n\n\n\nKommt mit an den Friedberger Baggersee und mach Dein Tarierung in Perfektion Specialty und werde zum Tarierungsexperten. \n\n\n\nMehr zum Peak Performance Buoyancy Kurs findet ihr bei PADI. Bucht aber bitte nicht direkt bei PADI. Meldet Euch erst bei uns. Bei PADI bekommt ihr nur das eLearning. Bei uns wird es im Paket mit den Tauchgängen günstiger. \n\n\n\nIn den Kursgebühren sind folgende Leistungen enthalten: \n\n\n\neLearning\, komplette Leihausrüstung (außer Maske und Schnorchel)\, Flasche und Füllungen. \n\n\n\nFür mehr Infos meldet Euch gerne bei uns über das Kontaktformular. \n\n\n\nAnmeldeschluss: Bei Interesse meldet euch bitte spätestens bis 15.06. an.  \n\n\n\n\n\n\n\n\n\n	\n	\n\n		\n							\n					Anfrage / Anmeldung				\n			\n					\n\n		\n			\n		\n			\n			Kontakt
URL:https://divexellence.de/event/tarierung-in-perfektion-specialty/
LOCATION:Friedberger Baggersee\, Baggersee\, Friedberg\, 86316
CATEGORIES:Fun Wochenende,Specialty Kurs
ATTACH;FMTTYPE=image/jpeg:https://divexellence.de/wp-content/uploads/2022/06/IMG_7211.jpeg
ORGANIZER;CN="Jens Nassall":MAILTO:info@diveXellence.de
END:VEVENT
BEGIN:VEVENT
DTSTART;TZID=Europe/Berlin:20220619T090000
DTEND;TZID=Europe/Berlin:20220619T190000
DTSTAMP:20260424T183441
CREATED:20220610T200628Z
LAST-MODIFIED:20220610T200657Z
UID:10000066-1655629200-1655665200@divexellence.de
SUMMARY:Self Reliant Instructor Kurs - Juni
DESCRIPTION:Willst du Taucher ausbilden\, die eigenständig und unabhängig tauchen können? Dann mach beim Self Reliant Specialty Instructor Kurs mit.  \n\n\n\nDer Kurs für deine Schüler verbessert ihre Fähigkeiten Probleme Unterwasser eigenständig zu lösen. Manchmal „muss“ man alleine tauchen. Sei es weil Du als Divemaster die Boje setzen sollst\, Du als Tauchlehrer sowieso eigentlich alleine unterwegs ist selbst wenn Du Schüler dabei hast oder weil Du als Fotograf keine geduldigen Buddies findest.  \n\n\n\nFür solche Fälle solltest Du dies aber nur mit speziellem Training tun. Du solltest also am Self Reliant Taucher Specialty teilnehmen. Der Kurs dazu findet am 23. April statt. Dieser Termin hier ist dann das Training für Tauchlehrer\, damit diese Self Reliant Specialty Instructor werden können.  \n\n\n\nIn diesem Instructor-Training gehen wir zunächst durch die Theorie\, besprechen wie du die Tauchgänge für Deine Schüler planst und den Kurs vermarkten kannst. Wir schauen uns das Instructor Outline an und wir besprechen die richtige Planung der Tauchgänge mit Schülern. Außerdem zeigen wir Dir was Du alles in der Theorie-Lektion Deines Kurses besprechen musst. Danach machen wir einen Tauchgang bei dem du übst wie man die Skills unterrichtet und wie Du die Tauchgänge für Deine Schüler sicher und unterhaltsam gestaltest.  \n\n\n\nWir treffen uns morgens und besprechen erst einmal den Ablauf Deines Trainings-Tages. Danach gehen wir direkt an den See für den praktischen Teil des Kurses. Zum Abschluss setzen wir uns in eine ruhige Biergartenecke. Da kannst Du dann noch alle Fragen loswerden die Du eventuell noch hast\, damit Du wirklich sicher weißt wie Du dann diesen Kurs für Deine Schüler durchführen wirst. \n\n\n\nVoraussetzung: PADI Tauchlehrer*in mit Self-Reliant-Specialty (oder TecRec Taucher) und Erfahrung von min. 10 Self-Reliant Tauchgängen. Voraussetzung: PADI-Tauchlehrer und Self Reliant Diver oder TecRec Diver. \n\n\n\nMelde Dich bei uns über das Kontaktformular wenn Du beim Self-Reliant Specialty Instructor Kurs mit dabei sein willst. \n\n\n\n\n\n\n\n\n\n	\n	\n\n		\n							\n					Anfrage / Anmeldung				\n			\n					\n\n		\n			\n		\n			\n			Kontakt
URL:https://divexellence.de/event/self-reliant-instructor-kurs-juni/
LOCATION:Friedberger Baggersee\, Baggersee\, Friedberg\, 86316
CATEGORIES:Instructor Weiterbildung,Specialty Instructor
ATTACH;FMTTYPE=image/jpeg:https://divexellence.de/wp-content/uploads/2022/03/img_1031-scaled-e1647195793906.jpg
END:VEVENT
END:VCALENDAR