BEGIN:VCALENDAR
VERSION:2.0
PRODID:-//diveXellence - ECPv6.15.20//NONSGML v1.0//EN
CALSCALE:GREGORIAN
METHOD:PUBLISH
X-WR-CALNAME:diveXellence
X-ORIGINAL-URL:https://divexellence.de
X-WR-CALDESC:Veranstaltungen für diveXellence
REFRESH-INTERVAL;VALUE=DURATION:PT1H
X-Robots-Tag:noindex
X-PUBLISHED-TTL:PT1H
BEGIN:VTIMEZONE
TZID:Europe/Berlin
BEGIN:DAYLIGHT
TZOFFSETFROM:+0100
TZOFFSETTO:+0200
TZNAME:CEST
DTSTART:20210328T010000
END:DAYLIGHT
BEGIN:STANDARD
TZOFFSETFROM:+0200
TZOFFSETTO:+0100
TZNAME:CET
DTSTART:20211031T010000
END:STANDARD
BEGIN:DAYLIGHT
TZOFFSETFROM:+0100
TZOFFSETTO:+0200
TZNAME:CEST
DTSTART:20220327T010000
END:DAYLIGHT
BEGIN:STANDARD
TZOFFSETFROM:+0200
TZOFFSETTO:+0100
TZNAME:CET
DTSTART:20221030T010000
END:STANDARD
BEGIN:DAYLIGHT
TZOFFSETFROM:+0100
TZOFFSETTO:+0200
TZNAME:CEST
DTSTART:20230326T010000
END:DAYLIGHT
BEGIN:STANDARD
TZOFFSETFROM:+0200
TZOFFSETTO:+0100
TZNAME:CET
DTSTART:20231029T010000
END:STANDARD
END:VTIMEZONE
BEGIN:VEVENT
DTSTART;TZID=Europe/Berlin:20220501T100000
DTEND;TZID=Europe/Berlin:20220501T180000
DTSTAMP:20260424T222130
CREATED:20220426T134802Z
LAST-MODIFIED:20220426T134825Z
UID:10000062-1651399200-1651428000@divexellence.de
SUMMARY:Fun-Tauchen-in-den-Mai
DESCRIPTION:Fun-Tauchen-in-den-Mai: Ihr wollt mal wieder gut organisiert einen schönen Tauchgang machen? Gemeinsam Zeit verbringen\, aber Euch nicht wochenlang mit der Organisation der Tauchgänge beschäftigen? Oder Euer letzter Tauchgang ist schon zu lange her und ihr wisst gar nicht mehr wie das geht? \n\n\n\nDann seid ihr bei uns richtig. Kommt mit an den Friedberger Baggersee zum Fun-Tauchen-in-den-Mai.  \n\n\n\nAuch wenn der 1. Mai auf eine Sonntag fällt\, nutzen wir den Tag\, um einen schönen Ausflug zu machen.  \n\n\n\nJe nach Euren Wünschen sind das geführte Tauchgänge\, bei denen Ihr Euch um nichts kümmern müsst oder Ihr macht und plant Eure Tauchgänge selbst. Dabei kümmern wir uns dann gerne um die Logistik\, sorgen für genügend Luft und bei gutem Wetter wird auch vor Ort noch gegrillt. \n\n\n\nFalls Ihr ein ReActivate (nach mehreren Monaten ohne Tauchen wieder einsteigen\, siehe auch bei PADI) machen wollt dann ist das ebenfalls an diesem Tag möglich. Bucht aber bitte nicht direkt bei PADI\, sondern meldet Euch erst bei uns. \n\n\n\nAuch der ein oder andere Tauchgang\, der für einen AOWD zählt ist an diesem Tag möglich. Alternativ eventuell ein Specialty-Kurs: alles kein Problem. Einfach rechtzeitig vorab mit uns absprechen. \n\n\n\nFür mehr Infos meldet Euch gerne bei uns über das Kontaktformular. Der Preis für das Fun-Tauch-Wochenende hängt dann auch stark davon ab\, was Ihr genau machen wollt. \n\n\n\nAnmeldeschluss: Bei Interesse meldet euch bitte spätestens bis 30.04. an. Wer Leihausrüstung benötigt sollte sich spätestens bis 28.04. melden. \n\n\n\n\n\n\n\n\n\n	\n	\n\n		\n							\n					Anfrage / Anmeldung				\n			\n					\n\n		\n			\n		\n			\n			Kontakt
URL:https://divexellence.de/event/fun-tauchen-in-den-mai/
LOCATION:Friedberger Baggersee\, Baggersee\, Friedberg\, 86316
CATEGORIES:Fun Wochenende,Specialty Kurs
ATTACH;FMTTYPE=image/jpeg:https://divexellence.de/wp-content/uploads/2022/04/bce88f39-780b-41a8-8aa3-236035c898ea.jpg
ORGANIZER;CN="Jens Nassall":MAILTO:info@diveXellence.de
END:VEVENT
BEGIN:VEVENT
DTSTART;TZID=Europe/Berlin:20220504T150000
DTEND;TZID=Europe/Berlin:20220504T220000
DTSTAMP:20260424T222130
CREATED:20211207T235335Z
LAST-MODIFIED:20221216T152122Z
UID:10000056-1651676400-1651701600@divexellence.de
SUMMARY:PADI IDC-Staff Instructor Kurs
DESCRIPTION:Lass Dich zum PADI IDC-Staff Instructor ausbilden. Als IDC-SI kannst Du zukünftig selbst Assistant Instructor ausbilden und im IDC bei der Tauchlehrerausbildung mitarbeiten. \n\n\n\nDie Zeitangabe für diesen Termin gilt nur unter der Voraussetzung\, dass Du aktiv und komplett am IDC vom 5. bis 15. Mai 2022 mitarbeitest. \n\n\n\nMehr Details findest Du in unserer Infobroschüre auf der Instructor-Kurse Seite und melde Dich kostenlos und unverbindlich zu einem der Info-Abende am 21.12.2021\, 2.2.2022 oder 16.2.2022 an. \n\n\n\nGerne kannst Du mich auch direkt kontaktieren und ich beantworte Dir Deine Fragen am Telefon. \n\n\n\nErgreif die Chance und lebe zukünftig Deinen Traum als Ausbilder für PADI Tauchlehrer.   \n\n\n\n\n\n\n\n\n\n	\n	\n\n		\n							\n					Anfrage / Anmeldung				\n			\n					\n\n		\n			\n		\n			\n			Kontakt
URL:https://divexellence.de/event/padi-idc-staff-instructor-kurs/
LOCATION:DiveCenter Stuttgart\, Stuifenstraße 17\, Stuttgart\, 70188\, Deutschland
CATEGORIES:IDC,Instructor Weiterbildung
ATTACH;FMTTYPE=image/jpeg:https://divexellence.de/wp-content/uploads/2021/12/IMG_5477-scaled-e1642597588627.jpg
ORGANIZER;CN="Jens Nassall":MAILTO:info@diveXellence.de
END:VEVENT
BEGIN:VEVENT
DTSTART;TZID=Europe/Berlin:20220505T090000
DTEND;TZID=Europe/Berlin:20220515T170000
DTSTAMP:20260424T222130
CREATED:20211207T234038Z
LAST-MODIFIED:20221216T152051Z
UID:10000055-1651741200-1652634000@divexellence.de
SUMMARY:PADI IDC - Tauchlehrerkurs
DESCRIPTION:Werde im PADI IDC Tauchlehrerkurs zum Open Water Scuba Instructor ausgebildet. Lass Dir hier die Tür zu einer neuen Karriere in der Tauchbranche öffnen. \n\n\n\nMehr Details findest Du in unserer Infobroschüre auf der Instructor-Kurse Seite und melde Dich kostenlos und unverbindlich zu einem der Info-Abende am 21.12.2021\, 2.2.2022 oder 16.2.2022 an. \n\n\n\nGerne kannst Du mich auch direkt kontaktieren und ich beantworte Dir Deine Fragen am Telefon. \n\n\n\nErgreif die Chance und lebe zukünftig Deinen Traum als PADI Tauchlehrer.   \n\n\n\n\n\n\n\n\n\n	\n	\n\n		\n							\n					Anfrage / Anmeldung				\n			\n					\n\n		\n			\n		\n			\n			Kontakt
URL:https://divexellence.de/event/padi-idc-tauchlehrerkurs/
LOCATION:DiveCenter Stuttgart\, Stuifenstraße 17\, Stuttgart\, 70188\, Deutschland
CATEGORIES:IDC,Instructor Weiterbildung
ATTACH;FMTTYPE=image/jpeg:https://divexellence.de/wp-content/uploads/2021/12/03522C3B-EEFD-407B-B39C-B1E947A6EAB5-scaled-e1642597497160.jpeg
ORGANIZER;CN="Jens Nassall":MAILTO:info@diveXellence.de
END:VEVENT
END:VCALENDAR