BEGIN:VCALENDAR
VERSION:2.0
PRODID:-//diveXellence - ECPv6.15.20//NONSGML v1.0//EN
CALSCALE:GREGORIAN
METHOD:PUBLISH
X-WR-CALNAME:diveXellence
X-ORIGINAL-URL:https://divexellence.de
X-WR-CALDESC:Veranstaltungen für diveXellence
REFRESH-INTERVAL;VALUE=DURATION:PT1H
X-Robots-Tag:noindex
X-PUBLISHED-TTL:PT1H
BEGIN:VTIMEZONE
TZID:Europe/Berlin
BEGIN:DAYLIGHT
TZOFFSETFROM:+0100
TZOFFSETTO:+0200
TZNAME:CEST
DTSTART:20240331T010000
END:DAYLIGHT
BEGIN:STANDARD
TZOFFSETFROM:+0200
TZOFFSETTO:+0100
TZNAME:CET
DTSTART:20241027T010000
END:STANDARD
BEGIN:DAYLIGHT
TZOFFSETFROM:+0100
TZOFFSETTO:+0200
TZNAME:CEST
DTSTART:20250330T010000
END:DAYLIGHT
BEGIN:STANDARD
TZOFFSETFROM:+0200
TZOFFSETTO:+0100
TZNAME:CET
DTSTART:20251026T010000
END:STANDARD
BEGIN:DAYLIGHT
TZOFFSETFROM:+0100
TZOFFSETTO:+0200
TZNAME:CEST
DTSTART:20260329T010000
END:DAYLIGHT
BEGIN:STANDARD
TZOFFSETFROM:+0200
TZOFFSETTO:+0100
TZNAME:CET
DTSTART:20261025T010000
END:STANDARD
END:VTIMEZONE
BEGIN:VEVENT
DTSTART;TZID=Europe/Berlin:20250424T173000
DTEND;TZID=Europe/Berlin:20250424T210000
DTSTAMP:20260420T153949
CREATED:20240822T203953Z
LAST-MODIFIED:20250215T161229Z
UID:10000145-1745515800-1745528400@divexellence.de
SUMMARY:Guided Dive in Sinningen
DESCRIPTION:Guided Dive in Sinningen: Ihr wollt mal wieder gut organisiert einen schönen Tauchgang machen? Gemeinsam Zeit verbringen\, aber Euch nicht wochenlang mit der Organisation der Tauchgänge beschäftigen? Oder Euer letzter Tauchgang ist schon zu lange her und ihr wisst gar nicht mehr wie das geht? \n\n\n\nDann seid ihr bei uns richtig. Kommt mit zum Guided Dive in Sinningen am Baggersee. \n\n\n\nFür alle die den Tauchplatz noch nicht kennen\, keinen Buddy haben\, noch ganz am Anfang ihrer Tauchkariere stehen oder nach einer längeren Tauchpause wieder einsteigen wollen\, bieten wir geführt Tauchgänge an. Vor dem Tauchgang gibt es ein ausführliches Briefing und wir kümmern uns um die Tauchgangsplanung und Navigation. Ihr könnt den Tauchgang und den ganzen Tag einfach genießen. \n\n\n\nGeplante Termine\n\n\n\n\nSo.\, 16.03.2025 – bis zu 3 TG: 14 Uhr und 16 Uhr\, sowie Nacht-TG um 18 Uhr\n\n\n\nMi.\, 19.03.2025 – nur Nacht-Tauchgang um 18:30 Uhr\n\n\n\nDo.\, 27.03.2025 – nur Nacht-Tauchgang um 18:00 Uhr\n\n\n\nDo.\, 03.04.2025 – nur Nacht-Tauchgang um 19:45 Uhr\n\n\n\nMi.\, 09.04.2025 – nur Nacht-Tauchgang um 19:45 Uhr\n\n\n\nDo.\, 24.04.2025 – normaler TG um 17:30 Uhr und Nacht-TG um 20:00 Uhr\n\n\n\nDi.\, 29.04.2025 – normaler TG um 18:00 Uhr und Nacht-TG um 20:00 Uhr\n\n\n\nDo.\, 04.09.2025 – normaler TG um 17:00 Uhr und Nacht-TG um 19:30 Uhr\n\n\n\nDo.\, 11.09.2025 – normaler TG um 17:00 Uhr und Nacht-TG um 19:30 Uhr\n\n\n\nDi.\, 23.09.2025 – nur Nacht-Tauchgang um 18:45 Uhr\n\n\n\nDo.\, 09.10.2025 – nur Nacht-Tauchgang um 18:30 Uhr\n\n\n\nDo.\, 16.10.2025 – nur Nacht-Tauchgang um 18:15 Uhr\n\n\n\nDo.\, 23.10.2025 – nur Nacht-Tauchgang um 18:00 Uhr\n\n\n\n\nMelde dich bei info@divexellence.de \n\n\n\nPreis für den Guided Dive ist 29 Euro. Leihausrüstung kann gemietet werden. Preise findet ihr auf den Service-Seiten. Preis für den Guided Dive inkl. kompletter Ausrüstung: 79 Euro.Aufpreis für Nacht-Tauchgänge ist jeweils 10 Euro. \n\n\n\nWer lange nicht mehr tauchen war kann vorher einen ReActivate machen. (Siehe auch bei PADI) Infos zum ReActivate findet Ihr auch bei uns. \n\n\n\nFür mehr Infos meldet Euch gerne bei uns über das Kontaktformular.  \n\n\n\nAnmeldeschluss: Bei Interesse meldet euch bitte spätestens bis zwei Tage vor dem jeweiligen Termin an. \n\n\n\n\n\n\n\n\n\n	\n	\n\n		\n							\n					Anfrage / Anmeldung				\n			\n					\n\n		\n			\n		\n			\n			Kontakt
URL:https://divexellence.de/event/guided-dive-in-sinningen/2025-04-24/
LOCATION:Sinningen\, Seestraße\, Kirchberg an der Iller\, 88486\, Deutschland
CATEGORIES:Fun Wochenende,Guided Dive,ReActivate
ATTACH;FMTTYPE=image/jpeg:https://divexellence.de/wp-content/uploads/2022/05/BE22E4FA-1C87-4378-9CEB-0E6904AE0E61.jpeg
ORGANIZER;CN="Jens Nassall":MAILTO:info@diveXellence.de
END:VEVENT
END:VCALENDAR