BEGIN:VCALENDAR
VERSION:2.0
PRODID:-//diveXellence - ECPv6.15.20//NONSGML v1.0//EN
CALSCALE:GREGORIAN
METHOD:PUBLISH
X-WR-CALNAME:diveXellence
X-ORIGINAL-URL:https://divexellence.de
X-WR-CALDESC:Veranstaltungen für diveXellence
REFRESH-INTERVAL;VALUE=DURATION:PT1H
X-Robots-Tag:noindex
X-PUBLISHED-TTL:PT1H
BEGIN:VTIMEZONE
TZID:Europe/Berlin
BEGIN:DAYLIGHT
TZOFFSETFROM:+0100
TZOFFSETTO:+0200
TZNAME:CEST
DTSTART:20230326T010000
END:DAYLIGHT
BEGIN:STANDARD
TZOFFSETFROM:+0200
TZOFFSETTO:+0100
TZNAME:CET
DTSTART:20231029T010000
END:STANDARD
BEGIN:DAYLIGHT
TZOFFSETFROM:+0100
TZOFFSETTO:+0200
TZNAME:CEST
DTSTART:20240331T010000
END:DAYLIGHT
BEGIN:STANDARD
TZOFFSETFROM:+0200
TZOFFSETTO:+0100
TZNAME:CET
DTSTART:20241027T010000
END:STANDARD
BEGIN:DAYLIGHT
TZOFFSETFROM:+0100
TZOFFSETTO:+0200
TZNAME:CEST
DTSTART:20250330T010000
END:DAYLIGHT
BEGIN:STANDARD
TZOFFSETFROM:+0200
TZOFFSETTO:+0100
TZNAME:CET
DTSTART:20251026T010000
END:STANDARD
END:VTIMEZONE
BEGIN:VEVENT
DTSTART;TZID=Europe/Berlin:20241102T100000
DTEND;TZID=Europe/Berlin:20241102T180000
DTSTAMP:20260421T001915
CREATED:20241013T152835Z
LAST-MODIFIED:20241013T173353Z
UID:10000130-1730541600-1730570400@divexellence.de
SUMMARY:Trocki Test Event
DESCRIPTION:Anfang November könnt ihr bei uns Trockentauchanzüge von Bare bei unserem Trocki Test Event ausprobieren\, probetauchen und auch den Spezialkurs Trockentauchen machen. \n\n\n\nAblauf:\n\n\n\n\nMelde dich bis 24.10. bei uns an und nenne uns deine Größe und welchen Trocki du ausprobieren möchtest. Du bist dir nicht sicher? Dann komm vorbei oder melde dich bei uns und lass dich beraten.\n\n\n\nWir bestellen den passenden Test-Trocki für dich\, den du am 31.10. bei uns in der Tauchschule schon mal anprobieren kannst.\n\n\n\nWir werden auch einige Trockis zusätzlich in „Standard-Größen“ vor Ort haben\, auch wenn du dich nicht rechtzeitig bei uns angemeldet hast.\n\n\n\nAm 02.11. treffen wir uns um 10 Uhr am Frieberger Baggersee und du kannst den Trocki probetauchen. Wenn du bereits ein Trockibrevet hast\, kannst du das gerne zusammen mit einem Buddy machen. Falls du noch kein Brevet hast\, geht ein Tauchlehrer mit dir ins Wasser uns zeigt dir alles was du zum Probetauchen eines Trockentauchanzuges wissen musst. Du kannst aber auch den Spezialkurs an diesem Tag direkt bei uns machen.\n\n\n\n\nKosten: Für den Trocki Test berechnen wir 59 € (für Bestellung und Versand des Trockis sowie Organisation und ggf. Tauchlehrerbegleitung)\, wenn du dich nach dem Test Event für den Kauf eines Trockis bei uns entscheidest (kann auch ein anders Model sein)\, bekommt du den Betrag komplett gutgeschrieben.Nicht enthalten und extra zu bezahlen sind: weitere Leihausrüstung falls benötigt und die Seegebühr in Friedberg. \n\n\n\nSolltest du den Spezialkurs Trockentauchen machen wollen\, dann kostet dieser 199 Euro und dieser beinhaltet alle benötigte Leihausrüstung. Lediglich die Seegebühr muss vor Ort noch in bar bezahlt werden.  \n\n\n\n\nAnmeldeformular\n\n\n\n\nDer Friedberger Baggersee liegt in der Nähe von Augsburg und bietet perfekte logistische Gegebenheiten (Füllstation\, Parkplatz\, Kiosk). Der See eignet sich sehr gut für Anfänger\, hat aber auch für bereits fortgeschrittene Taucher einiges zu bieten. \n\n\n\nAnmeldeschluss: 24.10.2024 (ihr könnt natürlich gerne auch später noch versuchen bei uns anzufragen) \n\n\n\n\nFür mehr Infos meldet Euch gerne bei uns über das Kontaktformular. \n\n\n\n\n\n\n\n\n\n\n	\n	\n\n		\n							\n					Anfrage / Anmeldung				\n			\n					\n\n		\n			\n		\n			\n			Kontakt
URL:https://divexellence.de/event/trocki-test-event/
LOCATION:Friedberger Baggersee\, Baggersee\, Friedberg\, 86316
CATEGORIES:AOWD,Freiwasser,Fun Wochenende,Guided Dive,OWD,Specialty Kurs
ATTACH;FMTTYPE=image/jpeg:https://divexellence.de/wp-content/uploads/2024/10/Bare-Trocki-Test-diveXellence-Tauchschule-Ulm-14-1-e1728831229911-edited.jpeg
ORGANIZER;CN="Jens Nassall":MAILTO:info@diveXellence.de
END:VEVENT
END:VCALENDAR