BEGIN:VCALENDAR
VERSION:2.0
PRODID:-//diveXellence - ECPv6.15.20//NONSGML v1.0//EN
CALSCALE:GREGORIAN
METHOD:PUBLISH
X-ORIGINAL-URL:https://divexellence.de
X-WR-CALDESC:Veranstaltungen für diveXellence
REFRESH-INTERVAL;VALUE=DURATION:PT1H
X-Robots-Tag:noindex
X-PUBLISHED-TTL:PT1H
BEGIN:VTIMEZONE
TZID:Europe/Berlin
BEGIN:DAYLIGHT
TZOFFSETFROM:+0100
TZOFFSETTO:+0200
TZNAME:CEST
DTSTART:20220327T010000
END:DAYLIGHT
BEGIN:STANDARD
TZOFFSETFROM:+0200
TZOFFSETTO:+0100
TZNAME:CET
DTSTART:20221030T010000
END:STANDARD
BEGIN:DAYLIGHT
TZOFFSETFROM:+0100
TZOFFSETTO:+0200
TZNAME:CEST
DTSTART:20230326T010000
END:DAYLIGHT
BEGIN:STANDARD
TZOFFSETFROM:+0200
TZOFFSETTO:+0100
TZNAME:CET
DTSTART:20231029T010000
END:STANDARD
BEGIN:DAYLIGHT
TZOFFSETFROM:+0100
TZOFFSETTO:+0200
TZNAME:CEST
DTSTART:20240331T010000
END:DAYLIGHT
BEGIN:STANDARD
TZOFFSETFROM:+0200
TZOFFSETTO:+0100
TZNAME:CET
DTSTART:20241027T010000
END:STANDARD
END:VTIMEZONE
BEGIN:VEVENT
DTSTART;TZID=Europe/Berlin:20230731T170000
DTEND;TZID=Europe/Berlin:20230731T200000
DTSTAMP:20260423T214711
CREATED:20220810T125754Z
LAST-MODIFIED:20230703T201453Z
UID:10000072-1690822800-1690833600@divexellence.de
SUMMARY:Schnuppertauchen Sommeraktion
DESCRIPTION:Wir machen mit dem Parkbad Laupheim eine Schnuppertauchen Sommeraktion und bieten ein Discover Scuba Diving in den Sommerferien an. \n\n\n\nDort könnt Ihr besonders günstig\, aber auch etwas kürzer als ihr es sonst von uns gewöhnt seid\, schwerelos im Naturbecken des Parkbad Laupheim unter Wasser Eure Kreise ziehen. Dabei kann man mal herausfinden was sich in diesem Naturbecken unter der Wasseroberfläche so alles abspielt. \n\n\n\nDafür gibt es eine eigene Unterseite\, auf der Ihr alle relevanten Informationen findet und Euch auch direkt anmelden könnt. \n\n\n\nWer also Interesse daran hat an einem hoffentlich warmen Sommerabend mal das Atmen unter Wasser auszuprobieren\, der navigiert direkt hier hin\, liest sich alles durch und meldet sich dann bis spätestens 26.7. an: \n\n\n\n\nZur SommeraktionSchnuppertauchen\n\n\n\n\nWer zum genannten Termin keine Zeit hat kann selbstverständlich an jedem anderen unserer Pooltermine sich zu unseren normalen und etwas ausführlicheren DSD Paketen anmelden. Die verfügbaren Termine bis Oktober findet ihr unten. An jedem dieser Termine ist es möglich ein DSD-Schnuppertauchen zu machen\, einen OWD-Anfängerkurs zu starten oder alte Kenntnisse in einem ReActivate aufzufrischen. Bitte meldet Euch spätestens 1 Woche vor den jeweiligen Terminen bei uns über das Kontaktformular. \n\n\n\nAlle Infos zu möglichen weiteren Kursen findet ihr auf unserer Seite zu den Tauch-Kursen. \n\n\n\n\n\n\nMi.\, 19.07.2023 von 18:00 bis 20:00 h\n\n\n\nDi.\, 25.07.2023 von 18:00 bis 20:00 h\n\n\n\nMo.\, 31.07.2023 von 18:00 bis 20:00 h\n\n\n\n\n\n\n\nMo.\, 14.08.2023 von 18:00 – 20:00 h\n\n\n\nMo.\, 28.08.2023 von 18:00 – 20:00 h\n\n\n\n\n\n\nLeihausrüstung steht zur Verfügung und ist wie in den jeweiligen Kursen beschrieben meist im Kurspreis inklusive. Ebenso ist der Eintritt in den Pool bei Kursen inklusive. Bei der Sommeraktion zum Schnuppertauchen müsst Ihr das Tickt ins Bad selbst lösen oder Ihr seid eh schon da. \n\n\n\n\n\n\n\n\n\n	\n	\n\n		\n							\n					Sommeraktion				\n			\n					\n\n		\n			\n		\n			\n			zur Anmeldung
URL:https://divexellence.de/event/schnuppertauchen-sommeraktion/
LOCATION:Parkbad\, Lange Str. 90\, Laupheim\, 88471
CATEGORIES:DSD Schnuppertauchen,Pool
ATTACH;FMTTYPE=image/jpeg:https://divexellence.de/wp-content/uploads/2022/08/A5E4290B-3F91-4E84-8AC1-75EAF9C3917E-scaled.jpg
ORGANIZER;CN="Jens Nassall":MAILTO:info@diveXellence.de
END:VEVENT
END:VCALENDAR