BEGIN:VCALENDAR
VERSION:2.0
PRODID:-//diveXellence - ECPv6.15.20//NONSGML v1.0//EN
CALSCALE:GREGORIAN
METHOD:PUBLISH
X-WR-CALNAME:diveXellence
X-ORIGINAL-URL:https://divexellence.de
X-WR-CALDESC:Veranstaltungen für diveXellence
REFRESH-INTERVAL;VALUE=DURATION:PT1H
X-Robots-Tag:noindex
X-PUBLISHED-TTL:PT1H
BEGIN:VTIMEZONE
TZID:Europe/Berlin
BEGIN:DAYLIGHT
TZOFFSETFROM:+0100
TZOFFSETTO:+0200
TZNAME:CEST
DTSTART:20220327T010000
END:DAYLIGHT
BEGIN:STANDARD
TZOFFSETFROM:+0200
TZOFFSETTO:+0100
TZNAME:CET
DTSTART:20221030T010000
END:STANDARD
BEGIN:DAYLIGHT
TZOFFSETFROM:+0100
TZOFFSETTO:+0200
TZNAME:CEST
DTSTART:20230326T010000
END:DAYLIGHT
BEGIN:STANDARD
TZOFFSETFROM:+0200
TZOFFSETTO:+0100
TZNAME:CET
DTSTART:20231029T010000
END:STANDARD
BEGIN:DAYLIGHT
TZOFFSETFROM:+0100
TZOFFSETTO:+0200
TZNAME:CEST
DTSTART:20240331T010000
END:DAYLIGHT
BEGIN:STANDARD
TZOFFSETFROM:+0200
TZOFFSETTO:+0100
TZNAME:CET
DTSTART:20241027T010000
END:STANDARD
END:VTIMEZONE
BEGIN:VEVENT
DTSTART;TZID=Europe/Berlin:20230715T083000
DTEND;TZID=Europe/Berlin:20230715T203000
DTSTAMP:20260423T215038
CREATED:20230625T153841Z
LAST-MODIFIED:20230630T190906Z
UID:10000098-1689409800-1689453000@divexellence.de
SUMMARY:PADI Women's Dive Day am Blindsee
DESCRIPTION:Am 15.07. feiern wir den PADI Women’s Dive Day am Blindsee. Wir haben ein tolles Angebot für alle Taucherinnen. Tauchen ist ein großartiges Erlebnis und ist für alle möglich\, die Lust haben die Unterwasserwelt zu entdecken.  \n\n\n\nVöllig egal – welches Geschlecht\, – welches Alter\, – woher du bist\, ob du – groß oder klein\, – mutig oder vorsichtig bist. \n\n\n\ndiveXellence ist für alle da. Am Women’s Dive Day wollen wir deshalb vor allem alle Taucherinnen ermutigen mal wieder mit uns ins Wasser zu springen und einen Tag am See mit uns zu genießen. Deshalb bieten wir allen Frauen einen geführten Tauchgang im Blindsee im Wert von 29 € gratis* an. Das ist perfekt für alle Taucherinnen\, die schon länger nicht mehr im Wasser waren\, oder vor kurzem erst den OWD gemacht haben. Aber auch alle erfahrenen Taucherinnen sind herzlich willkommen 🤗 \n\n\n\nWir stellen extra eine rein weibliche Crew zusammen\, die sich um Euch an diesem Tag kümmern wird. \n\n\n\nWer an diesem Tag lieber ein Specialty macht\, bekommt auch hier 29 € Rabatt auf den Kurspreise. (gültig auf alle Specialties mit 1 oder 2 Tauchgängen) \n\n\n\nNach dem Tauchen wollen wir gemeinsam Grillen & Chillen. Wir bringen einen Gasgrill mit\, für Grillgut und das Lieblingsgetränk muss jede selbst sorgen. \n\n\n\nSelbstverständlich dürfen auch Männer am Ausflug teilnehmen\, um die sich dann unser männlicher Staff kümmern wird. 😉 Die werden wir aber abgetrennt von den Frauen halten und auf Wunsch nur zum Grillen besuchen. Ganz ernsthaft: wir werden es so organisieren\, dass wirklich jede Frau ganz entspannt\, sicher und wohl behütet ohne unpassende Kommentare jeglicher Art von unseren eigentlich geschätzten männlichen Taucher-Buddies den tag genießen kann! Versprochen! \n\n\n\n*gültig auf einen geführten Tauchgang inkl. Flasche und Blei.Nicht enthalten und extra zu bezahlen: Ausfahrtspauschale 10 Euro\, Seegebühr 20 Euro\, ggf. weitere Leihausrüstung\, weitere Tauchgänge\, gebuchte Kurse. \n\n\n\nHier können auch folgende Kurse angefangen oder gemacht werden: \n\n\n\n\nRescue Diver\n\n\n\nAOWD\n\n\n\nVerschiedene Specialties wie Deep\, Navigation\, Tarierung in Perfektion\, Trockentauchen\, Fischbestimmung\, Digitale Unterwasserfotografie\, Suchen & Bergen\, Self Reliant\, Boje schießen\, Nitrox\n\n\n\nWeitere Guided Dives – Geführte Tauchgänge\n\n\n\n\nAnmeldeschluss: 10.07.2023 (ihr könnt natürlich gerne auch später noch versuchen bei uns anzufragen) \n\n\n\nJetzt buchen\n\n\n\n\n\n\nFür mehr Infos meldet Euch gerne bei uns über das Kontaktformular. Der Preis für das Fun-Tauch-Wochenende hängt dann auch stark davon ab\, was Ihr genau machen wollt. \n\n\n\n\n\n\n\n\n\n\n	\n	\n\n		\n							\n					Anfrage / Anmeldung				\n			\n					\n\n		\n			\n		\n			\n			Kontakt
URL:https://divexellence.de/event/padi-womens-dive-day-am-blindsee/
LOCATION:Blindsee\, Blindsee-Mautstraße\, Biberwier\, 6633\, Österreich
CATEGORIES:AOWD,Fun Wochenende,Guided Dive,OWD,Rescue,Specialty Kurs
ATTACH;FMTTYPE=image/jpeg:https://divexellence.de/wp-content/uploads/2023/06/PHOTO-2023-06-15-16-37-28-2.jpg
ORGANIZER;CN="Jens Nassall":MAILTO:info@diveXellence.de
END:VEVENT
BEGIN:VEVENT
DTSTART;TZID=Europe/Berlin:20230715T083000
DTEND;TZID=Europe/Berlin:20230715T203000
DTSTAMP:20260423T215038
CREATED:20230625T160024Z
LAST-MODIFIED:20230630T191051Z
UID:10000099-1689409800-1689453000@divexellence.de
SUMMARY:Tauchausflug zum Blindsee
DESCRIPTION:Unser Tauchausflug zum Blindsee in Tirol führt uns an einen der schönsten Bergseen der Region.  \n\n\n\nDer Blindsee liegt auf ca. 1093 m Höhe. Hier ist vor allem für alle Spaßtaucher einiges zu sehen. Bei guten Bedingungen ist das Wasser sehr klar und ihr könnt neben Forellen und Karpfen auch Zander entdecken. Ein Highlight des Sees ist der versunkene „Mikadowald“. Der See wird im Sommer an der Oberfläche bis zu 20 Grad warm\, was für einen Bergsee sehr angenehm ist. Weiter unten wird es aber schnell kälter. Ein angemessen Wärmeschutz ist also zu empfehlen. \n\n\n\nWir bieten auf Wunsch 1-2 geführte Tauchgänge (je 29 Euro) an. Der See auch für Anfänger sehr gut geeignet und eine echtes Erlebnis.Aber auch erfahrenere Taucher\, die den See auf eigene Faust erfunden wollen\, sind herzlich willkommen. \n\n\n\nNach dem Tauchen wollen wir gemeinsam Grillen & Chillen. Wir bringen einen Gasgrill mit\, für Grillgut und das Lieblingsgetränk muss jede selbst sorgen. \n\n\n\nHier können auch folgende Kurse angefangen oder gemacht werden: \n\n\n\n\nRescue Diver\n\n\n\nAOWD\n\n\n\nVerschiedene Specialties wie Deep\, Navigation\, Tarierung in Perfektion\, Trockentauchen\, Fischbestimmung\, Digitale Unterwasserfotografie\, Suchen & Bergen\, Self Reliant\, Boje schießen\, Nitrox\, Bergseetauchen\n\n\n\nWeitere Guided Dives – Geführte Tauchgänge\n\n\n\n\nAnmeldeschluss: 10.07.2023 (ihr könnt natürlich gerne auch später noch versuchen bei uns anzufragen) \n\n\n\nJetzt buchen\n\n\n\n\n\nFür mehr Infos meldet Euch gerne bei uns über das Kontaktformular. Der Preis für die Ausfahrt hängt dann auch stark davon ab\, was Ihr genau machen wollt und ob ihr Leihausrüstung braucht. Eine Seegebühr von 20 € muss Vorort bezahlt werden. Wir berechne eine Ausfahrtspauschale von 10 Euro. \n\n\n\nBitte meldet es rechtzeitig bei uns an\, wenn ihr Leihausrüstung benötigt. \n\n\n\n\n\n\n\n\n\n	\n	\n\n		\n							\n					Anfrage / Anmeldung				\n			\n					\n\n		\n			\n		\n			\n			Kontakt
URL:https://divexellence.de/event/tauchausflug-zum-blindsee/
LOCATION:Blindsee\, Blindsee-Mautstraße\, Biberwier\, 6633\, Österreich
CATEGORIES:AOWD,Fun Wochenende,Guided Dive,Rescue,Specialty Kurs
ATTACH;FMTTYPE=image/jpeg:https://divexellence.de/wp-content/uploads/2023/06/PHOTO-2023-06-15-16-37-29.jpg
ORGANIZER;CN="Jens Nassall":MAILTO:info@diveXellence.de
END:VEVENT
END:VCALENDAR