BEGIN:VCALENDAR
VERSION:2.0
PRODID:-//diveXellence - ECPv6.15.20//NONSGML v1.0//EN
CALSCALE:GREGORIAN
METHOD:PUBLISH
X-ORIGINAL-URL:https://divexellence.de
X-WR-CALDESC:Veranstaltungen für diveXellence
REFRESH-INTERVAL;VALUE=DURATION:PT1H
X-Robots-Tag:noindex
X-PUBLISHED-TTL:PT1H
BEGIN:VTIMEZONE
TZID:Europe/Berlin
BEGIN:DAYLIGHT
TZOFFSETFROM:+0100
TZOFFSETTO:+0200
TZNAME:CEST
DTSTART:20220327T010000
END:DAYLIGHT
BEGIN:STANDARD
TZOFFSETFROM:+0200
TZOFFSETTO:+0100
TZNAME:CET
DTSTART:20221030T010000
END:STANDARD
BEGIN:DAYLIGHT
TZOFFSETFROM:+0100
TZOFFSETTO:+0200
TZNAME:CEST
DTSTART:20230326T010000
END:DAYLIGHT
BEGIN:STANDARD
TZOFFSETFROM:+0200
TZOFFSETTO:+0100
TZNAME:CET
DTSTART:20231029T010000
END:STANDARD
BEGIN:DAYLIGHT
TZOFFSETFROM:+0100
TZOFFSETTO:+0200
TZNAME:CEST
DTSTART:20240331T010000
END:DAYLIGHT
BEGIN:STANDARD
TZOFFSETFROM:+0200
TZOFFSETTO:+0100
TZNAME:CET
DTSTART:20241027T010000
END:STANDARD
END:VTIMEZONE
BEGIN:VEVENT
DTSTART;TZID=Europe/Berlin:20230329T170000
DTEND;TZID=Europe/Berlin:20230521T180000
DTSTAMP:20260424T073825
CREATED:20230317T204632Z
LAST-MODIFIED:20230317T204900Z
UID:10000085-1680109200-1684692000@divexellence.de
SUMMARY:Rescue Diver Kurs im Frühling
DESCRIPTION:Mach Deinen Rescue Diver Kurs im Frühling – März und April im Pool\, Mai im Freiwasser und lerne Dein und das Leben Deines Buddy zu retten. \n\n\n\nBeim Rescue Diver Kurs lernst du\, wie man kleinere Probleme frühzeitig erkennt\, richtig darauf reagiert und sie löst\, bevor sie zu großen Problemen werden. \n\n\n\nAußerdem frischen wir deine Selbstrettungsfertigkeiten auf und du lernst wie du einem Taucher über und unter Wasser helfen kannst. Wir trainieren alle wichtigen Handgriffe und Techniken zur Rettung eines Tauches und üben verschiedene Notfallverfahren und Szenarien\, sowie Erste Hilfe Maßnahmen\, Verabreichen von Sauerstoff und aktivieren der Rettungskette. \n\n\n\nMit dem Rescue Diver Kurs gewinnst du an Selbstvertrauen und bist in der Lage auf verschiedene Notsituationen richtig zu reagieren. Für viele ist das der wichtigste und spannendste Kurs.  \n\n\n\nAuch auf dem Weg zum PADI Pro legst du damit die ersten wichtigen Grundstein in deiner Pro-Ausbildung.  \n\n\n\nWeitere Informationen und mehrere Pakete zur Auswahl findet ihr bei den Kursen. Kommt mit und startet Euren Rescue Diver Kurs bei uns. Bei der Auswahl des großen Rescue Diver Paketes seid ihr dann eventuell auch schon Master Scuba Diver oder diesem selten erreichten Ziel zumindest einen großen Schritt näher. \n\n\n\nVorläufiger Zeitplan:Pool: Du hast die Wahl entweder am Mi.\, 29.03.2023 ab 17:00 Uhr oder Samstag\, 22.04.2023 ab 8:00 Uhr jeweils im Parkbad Laupheim Freiwasser: Du hast die Wahl zwischen 06. & 07.05.2023 oder 20. & 21.05.2023 jeweils den ganzen Tag am See. Welchen See wir nehmen entscheiden wir gemeinsam je nach Wetter und Sicht unter Wasser.Am ersten Tag sind jeweils die Freiwasser Übungen und am zweiten Tag dann die Rettung-Szenarien. \n\n\n\nKursvoraussetzung: AOWD\, 12 Jahre\, abgeschlossener EFR (Erste Hilfe) Kurs in den letzten 24 Monaten. \n\n\n\nSolltet Ihr den EFR-Kurs noch brauchen: den könnt ihr vor und während dem Rescue Diver Kurs mit machen. Meldet Euch dazu bitte bei uns\, wir planen mehrere flexible Termine. Bisher haben wir hier den Montag\, 17.04.2023 ab 18:00 Uhr geplant. \n\n\n\nBei uns könnt ihr dabei dann auch gleich den Emergency Oxygen Provider (EOP) Kurs innerhalb des EFR machen. Dabei lernt ihr unterschiedliche Systeme zur Sauerstoff Verabreichung kennen. Einen zusätzlichen Termin zum EOP gibt es am Samstag 22.4.2023 im Anschluss an den Pool ab 14:00 Uhr. \n\n\n\nMehr zum Rescue Diver findet ihr bei PADI. Bucht aber bitte nicht direkt bei PADI. Meldet Euch erst bei uns. Bei PADI bekommt ihr nur das eLearning. Bei uns wird es im Paket mit den Tauchgängen günstiger. \n\n\n\nIn den Kursgebühren sind folgende Leistungen enthalten: \n\n\n\nRescue Diver Crewpak mit eLearning\, komplette Leihausrüstung\, Flasche und Füllungen. \n\n\n\nFür mehr Infos meldet Euch gerne bei uns über das Kontaktformular. \n\n\n\nAnmeldeschluss: Bei Interesse meldet euch bitte so schnell ihr könnt an (wegen Freischaltung des eLearning) oder bis spätestens eine Woche vor dem jeweiligen Pool-Termin.  \n\n\n\n\n\n\n\n\n\n	\n	\n\n		\n							\n					Anfrage / Anmeldung				\n			\n					\n\n		\n			\n		\n			\n			Kontakt
URL:https://divexellence.de/event/rescue-diver-kurs-im-fruehling/
LOCATION:Parkbad\, Lange Str. 90\, Laupheim\, 88471
CATEGORIES:Fun Wochenende,Pool,Rescue,Specialty Kurs
ATTACH;FMTTYPE=image/webp:https://divexellence.de/wp-content/uploads/2022/03/Rescue-Diver-Tauchschule-Ulm-e1646935123254.webp
ORGANIZER;CN="Jens Nassall":MAILTO:info@diveXellence.de
END:VEVENT
BEGIN:VEVENT
DTSTART;TZID=Europe/Berlin:20230417T180000
DTEND;TZID=Europe/Berlin:20230417T230000
DTSTAMP:20260424T073825
CREATED:20230317T225943Z
LAST-MODIFIED:20230317T230143Z
UID:10000089-1681754400-1681772400@divexellence.de
SUMMARY:Emergency First Response (EFR)
DESCRIPTION:Während dem Emergency First Response (EFR) Kurs lernst Du\, was in den kritischen Momenten zwischen dem Eintreten eines lebensbedrohlichen Notfalls und der Ankunft der Rettungskräfte zu tun ist. \n\n\n\nDu erfährst wie Du eine Notfallsituation richtig beurteilen und darauf reagieren kannst. Du lernst und übst die Herz-Lungen-Wiederbelebung\, die Verwendung eines automatischen externen Defibrilators (AED)\, das Einschätzen von verschiedenen Verletzungen und Krankheite. Du übst Verbände und Schienen anzulegen\, sowie viele weitere Fertigkeiten aus der Erst- und Zweitversorgung. Am Ende wendest Du die erlernten Fertigkeiten in Rollenspiel-Szenarien an. \n\n\n\nDer EFR Kurs kombiniert flexible Online-Selbststudien mit persönlichem Training. Es ist Dein Kurs in Deinem Tempo. Übe eine Fertigkeit\, bis du sicher bist\, bevor Du mit der nächsten weitermachst. Wir wollen am Ende Helfer ausgebildet haben\, die genug Selbstvertrauen haben im Notfall dann auch wirklich zu helfen. \n\n\n\nInhalt des Kurses:\n\n\n\n\nHerz-Lungen-Wiederbelebung lernen\n\n\n\nDeine Erste-Hilfe-Fertigkeiten verbessern\n\n\n\nAuf einen Notfall vorbereitet sein\n\n\n\nAuf verschiedene Krankheiten und Verletzungen reagieren\n\n\n\nJemandem bei einem Erstickungsanfall helfen\n\n\n\nEine mögliche Wirbelsäulenverletzung managen\n\n\n\nVerbände und Schienen anlegen\n\n\n\nund vieles mehr\n\n\n\n\nDauer:\n\n\n\neLearning ca. 2-4  StundenPraxis Teil ca. 4-6 Stunden \n\n\n\nVoraussetzungen:\n\n\n\nKeine \n\n\n\nPassend dazu ist für alle Taucher natürlich der Rescue Diver Kurs. Die nächsten Rescue-Kurse starten am 29.3. und 22.4. Für genauere Infos schaut in den Veranstaltungen. \n\n\n\nInnerhalb des Emergency First Response (EFR) Kurses könnt ihr bei uns auch gleich den Emergency Oxygen Provider (EOP) Kurs mitmachen. Dabei lernt ihr unterschiedliche Systeme zur Sauerstoff Verabreichung kennen. Einen zusätzlichen Termin zum EOP gibt es am Samstag 22.4.2023 im Anschluss an den Pool ab 14:00 Uhr. Der EOP ist ein PADI Specialty Kurs und zählt somit auch auf Eurem Weg zum Master Scuba Diver mit. \n\n\n\nMehr zum Emergency First Response (EFR)  findet ihr bei PADI. Bucht aber bitte nicht direkt bei PADI. Meldet Euch erst bei uns. Bei PADI bekommt ihr nur das eLearning. Bei uns wird es im Paket mit den Tauchgängen günstiger. \n\n\n\nIn den Kursgebühren sind folgende Leistungen enthalten: \n\n\n\nEFR Crewpack mit eLearning\, alle notwendigen Materialien für die Übungen. \n\n\n\nFür mehr Infos meldet Euch gerne bei uns über das Kontaktformular. \n\n\n\nAnmeldeschluss: Bei Interesse meldet euch bitte so schnell ihr könnt an (wegen Freischaltung des eLearning) oder bis spätestens bis 10.4.2023 \n\n\n\n\n\n\n\n\n\n	\n	\n\n		\n							\n					Anfrage / Anmeldung				\n			\n					\n\n		\n			\n		\n			\n			Kontakt
URL:https://divexellence.de/event/emergency-first-response-efr/
LOCATION:Parkbad\, Lange Str. 90\, Laupheim\, 88471
CATEGORIES:Rescue,Specialty Kurs
ATTACH;FMTTYPE=image/jpeg:https://divexellence.de/wp-content/uploads/2023/03/WhatsApp-Image-2023-03-14-at-093031-e1679087788319.jpeg
END:VEVENT
END:VCALENDAR