BEGIN:VCALENDAR
VERSION:2.0
PRODID:-//diveXellence - ECPv6.15.20//NONSGML v1.0//EN
CALSCALE:GREGORIAN
METHOD:PUBLISH
X-WR-CALNAME:diveXellence
X-ORIGINAL-URL:https://divexellence.de
X-WR-CALDESC:Veranstaltungen für diveXellence
REFRESH-INTERVAL;VALUE=DURATION:PT1H
X-Robots-Tag:noindex
X-PUBLISHED-TTL:PT1H
BEGIN:VTIMEZONE
TZID:Europe/Berlin
BEGIN:DAYLIGHT
TZOFFSETFROM:+0100
TZOFFSETTO:+0200
TZNAME:CEST
DTSTART:20220327T010000
END:DAYLIGHT
BEGIN:STANDARD
TZOFFSETFROM:+0200
TZOFFSETTO:+0100
TZNAME:CET
DTSTART:20221030T010000
END:STANDARD
BEGIN:DAYLIGHT
TZOFFSETFROM:+0100
TZOFFSETTO:+0200
TZNAME:CEST
DTSTART:20230326T010000
END:DAYLIGHT
BEGIN:STANDARD
TZOFFSETFROM:+0200
TZOFFSETTO:+0100
TZNAME:CET
DTSTART:20231029T010000
END:STANDARD
BEGIN:DAYLIGHT
TZOFFSETFROM:+0100
TZOFFSETTO:+0200
TZNAME:CEST
DTSTART:20240331T010000
END:DAYLIGHT
BEGIN:STANDARD
TZOFFSETFROM:+0200
TZOFFSETTO:+0100
TZNAME:CET
DTSTART:20241027T010000
END:STANDARD
END:VTIMEZONE
BEGIN:VEVENT
DTSTART;TZID=Europe/Berlin:20230302T190000
DTEND;TZID=Europe/Berlin:20230302T220000
DTSTAMP:20260424T075257
CREATED:20221211T124114Z
LAST-MODIFIED:20221216T145508Z
UID:10000079-1677783600-1677794400@divexellence.de
SUMMARY:Werde PADI Pro Info-Abend
DESCRIPTION:Werde Tauchlehrer oder Divemaster und ändere damit Dein Leben und das Deiner zukünftigen Schüler. Diese Info-Veranstaltung ist ausdrücklich für Taucher aller Ausbildungsstufen! Spielst du mit dem Gedanken eventuell ein PADI Tauchlehrer oder Divemaster zu werden? Möchtest du deine Leidenschaft für das Tauchen gerne an andere weitergeben? Dann komm zu unserem PADI GoPro Info-Abend. Hier erfährst du alles wissenswerte über das Leben eines professionellen Tauchers sowie über deine Aufgaben\, Möglichkeiten und Weiterbildungsoptionen. Wir versuchen auch eine Vertreterin von PADI bei uns zu haben\, die einen spannenden Vortrag halten wird und ebenfalls gerne alle Eure Fragen zu PADI beantworten wird. \n\n\n\nWarum PADI Divemaster oder Tauchlehrer werden und welche Vorteile hast Du wenn Du das machst und speziell wenn Du es mit PADI machst? Was kannst Du wenn Du es bist alles damit machen?  \n\n\n\nAlle Deine Fragen zum Instructor Development Kurs (IDC) werden hier beantwortet: \n\n\n\n\nWas ist ein IE?\n\n\n\nWarum Specialty Instructor Kurse belegen?\n\n\n\nWas ist der EFR-I?\n\n\n\nWelche Voraussetzungen musst Du erfüllen?\n\n\n\nWas kostet es?\n\n\n\nWelches Paket macht für Dich Sinn?\n\n\n\nWarum PADI Divemaster oder Tauchlehrer werden?\n\n\n\nWelche Möglichkeiten hast Du als Divemaster oder Tauchlehrer?\n\n\n\n\nJe nach Wunsch wird dieser Termin auch als Online-Variante über MS Teams stattfinden. Falls Du eher im Raum Ulm wohnst und nicht in’s DiveCenter Stuttgart fahren möchtest: kein Problem. Bei Bedarf machen wir einen weiteren Werde PADI Pro Info-Abend in Ulm. Dazu bitte einfach kurz schreiben oder anrufen. \n\n\n\nDie geplanten IDC-Termine für 2023 sind:30.03. – 10.04.2023 IDC in einem Block in Stuttgart22.06. – 02.07.2023 IDC in einem Block in Rastatt/Plittersdorf08.09. – 03.10.2023 IDC jeweils nur an den Wochenenden in diesem ZeitraumDetails findet ihr unter Pro-Kurse und auch in der jeweiligen Veranstaltungs-Seite. \n\n\n\nBei Interesse melde Dich bitte bei uns\, damit wir Dich einplanen können. Für mehr Informationen: info@diveXellence.de oder 0160-5395172Wir freuen uns auf Dich! \n\n\n\n\n\n\n\n\n\n\n\n	\n	\n\n		\n							\n					Anfrage / Anmeldung				\n			\n					\n\n		\n			\n		\n			\n			Kontakt
URL:https://divexellence.de/event/werde-padi-pro-info-abend/
LOCATION:DiveCenter Stuttgart\, Stuifenstraße 17\, Stuttgart\, 70188\, Deutschland
CATEGORIES:IDC,Instructor Weiterbildung
ATTACH;FMTTYPE=image/jpeg:https://divexellence.de/wp-content/uploads/2022/01/4011DD50-8046-404D-90D9-9329AEBA46B7-edited.jpeg
END:VEVENT
END:VCALENDAR