BEGIN:VCALENDAR
VERSION:2.0
PRODID:-//diveXellence - ECPv6.15.20//NONSGML v1.0//EN
CALSCALE:GREGORIAN
METHOD:PUBLISH
X-ORIGINAL-URL:https://divexellence.de
X-WR-CALDESC:Veranstaltungen für diveXellence
REFRESH-INTERVAL;VALUE=DURATION:PT1H
X-Robots-Tag:noindex
X-PUBLISHED-TTL:PT1H
BEGIN:VTIMEZONE
TZID:Europe/Berlin
BEGIN:DAYLIGHT
TZOFFSETFROM:+0100
TZOFFSETTO:+0200
TZNAME:CEST
DTSTART:20220327T010000
END:DAYLIGHT
BEGIN:STANDARD
TZOFFSETFROM:+0200
TZOFFSETTO:+0100
TZNAME:CET
DTSTART:20221030T010000
END:STANDARD
BEGIN:DAYLIGHT
TZOFFSETFROM:+0100
TZOFFSETTO:+0200
TZNAME:CEST
DTSTART:20230326T010000
END:DAYLIGHT
BEGIN:STANDARD
TZOFFSETFROM:+0200
TZOFFSETTO:+0100
TZNAME:CET
DTSTART:20231029T010000
END:STANDARD
BEGIN:DAYLIGHT
TZOFFSETFROM:+0100
TZOFFSETTO:+0200
TZNAME:CEST
DTSTART:20240331T010000
END:DAYLIGHT
BEGIN:STANDARD
TZOFFSETFROM:+0200
TZOFFSETTO:+0100
TZNAME:CET
DTSTART:20241027T010000
END:STANDARD
END:VTIMEZONE
BEGIN:VEVENT
DTSTART;TZID=Europe/Berlin:20230210T170000
DTEND;TZID=Europe/Berlin:20230212T190000
DTSTAMP:20260424T102802
CREATED:20221017T175417Z
LAST-MODIFIED:20230119T135407Z
UID:10000075-1676048400-1676228400@divexellence.de
SUMMARY:Eistauchen - Specialty Urisee
DESCRIPTION:Sorry\, wir sind für diesen Termin momentan Ausgebucht! Falls ihr interessiert seid könnt Ihr uns gerne schreiben und wir melden uns falls noch jemand abspringt. Damit Ihr für weitere Termine rechtzeitig automatisch informiert werdet meldet Euch doch zu unserem Newsletter an: \n\n\n\n\nNewsletter-Anmeldung\n\n\n\n\nSchnee und Eis können uns nicht vom Tauchen abhalten. Wenn die Seen zugefroren sind erwartet uns sogar ein ganz besonderes Erlebnis. Wir machen ein Eistauchen – Specialty am Urisee. \n\n\n\nDurch ein Loch\, das wir in die Eisdecke machen steigen wir in die Unterwasserwelt ein. Diese bietet unter Eis nochmal ganz andere Eindrücke.  \n\n\n\nEgal ob es die Lichtspiele der Sonnenstrahlen sind oder die Luftblasen\, die über die Eisdecke tanzen: Eistauchen ist ein faszinierendes Erlebnis\, das jeder erfahrene Taucher einmal ausprobieren sollte. Für alle die noch nie unter Eis waren bieten wir das PADI Specialty Eistauchen an. \n\n\n\nOhne Teamwork geht beim Eistauchen gar nichts. Daher beginnen wir mit dem Erlernen der Rolle und Verantwortlichkeit von Personen\, die zur Unterstützung der Taucher dabei sind. Unter anderem  geht es um den Einsatz von Sicherheitstauchern. Besprochen werden auch die verschiedenen Eisarten\, die Wahl und Vorbereitung eines Tauchplatzes (wie bekommen wir ein Loch in dieses dicke Eis und welche Form soll es haben). Außerdem sprechen wir über die Auswirkung von Kälte auf den Taucher\, Notfallverfahren und die Handhabung der Ausrüstung. Bei drei unter enger Supervision stattfindenden Eistauchgängen wirst du Folgendes erlernen und üben: \n\n\n\n\nGebrauch spezieller Eistauchausrüstung und Verwendung von Sicherheitsleinen.\n\n\n\nKommunikation beim Eistauchen (Zeichen\, Signale) sowie Techniken der Leinenführung und Leinensicherung.\n\n\n\nProbleme beim Umgang mit der Ausrüstung und Verfahren für Sicherheitstaucher.\n\n\n\n\nBei einem optionalen vierten Tauchgang üben wir verschiedene Notfall- und Rettungsverfahren speziell beim Eistauchen (Voraussetzung: Rescue Diver). \n\n\n\nFür mehr Infos melde dich gerne über das Kontaktformular. Der unten genannte Preis ist der Preis für die Ausfahrt. Dazu kommen ggf. der Eistauchkurs und Hotelkosten. Details auf dem Anmeldeformular. \n\n\n\nFür das Eistauchen – Specialty am Urisee reisen wir am Freitag Abend gegen 18 Uhr an\, für die Anreise ist jeder selbst verantwortlich. Parkplätze stehen zur Verfügung. Eistauchen findet am Samstag und Sonntag statt. Buddyteams und der genaue Ablauf werden dazu am Freitag Abend abgesprochen.  \n\n\n\nAblauf\n\n\n\nWir reisen am Freitag Abend gegen 18 Uhr an und werden in einem naheliegenden Hotel übernachten. Für die Anreise und Übernachtung ist jeder selbst verantwortlich. Hotel kann auf Anfrage mitgebucht werden. Eistauchen findet am Samstag und Sonntag statt. Wir treffen uns jeweils um 9 Uhr am Urisee Parkplatz. Buddyteams und der genaue Ablauf werden am Samstag Morgen abgesprochen.  \n\n\n\nEistauchen ist nur mit einem Eistauchspecialty möglich. Wer bisher noch kein Eistauchspecialty hat kann das an diesem Wochenende machen. Das Specialty kostet 220\,00 € inkl. 3 Tauchgänge + Rescue Szenario (optional)\, Flasche\, Blei\, Brevetierung\, Theorieunterricht). Die Theorie findet am Freitag Abend oder optional vorher online per Teams statt. Die Tauchgänge sind am Samstag und Sonntag. Voraussetzungen sind mindestens AOWD und über 18 Jahre alt. \n\n\n\nFür das Eistauchen ist eine Kaltwasser taugliche Ausrüstung mit 2 getrennten ersten Stufen notwendig. Ein Trocki\, sowie Erfahrung im Umgang damit wird dringend empfohlen. Für die Ausrüstung ist jeder selbst verantwortlich. Auf Anfrage kann Ausrüstung ausgeliehen werden.  \n\n\n\nKosten \n\n\n\nEistauchen: 60\,00 € für das Eistauch-Wochenende oder 220\,0 € für das SpecialtyGenehmigung Urisee: 15\,00 € je TagHotel: Auf Anfrage \n\n\n\nLeistungen: \n\n\n\n\nEistauchequipment (Leinen\, Sägen\, usw.)\n\n\n\nKoordination der Buddyteams\, Sicherungsteams\, Leinenführer\n\n\n\nEistauch Instructor \n\n\n\n\nSollte kein Eis auf dem Urisee vorhanden sein\, suchen wir kurzfristig nach einer Alterative. Falls nirgends Eis ist\, können die Tauchgänge auch storniert werden. \n\n\n\nSollte ein Teilnehmer nicht am Wochenende teilnehmen können\, ist selbständig für Ersatz zu sorgen. Die Teilnahmegebühr kann nicht erstattet werden. \n\n\n\nAnmeldung\n\n\n\nNatürlich sind auch bereits zertifizierte Eistaucher herzlich willkommen. Bitte meldet Euch aber auch unbedingt sobald als möglich bei uns. \n\n\n\nHier geht es direkt zum  \n\n\n\n\nAnmeldeformular\n\n\n\n\nAnmeldeschluss: 03.01.2023. Danach sind Anmeldungen auf Anfrage und bei Verfügbarkeit ev. noch möglich. \n\n\n\n\n\n\n\n\n\n	\n	\n\n		\n							\n					Anfrage / Anmeldung				\n			\n					\n\n		\n			\n		\n			\n			Kontakt
URL:https://divexellence.de/event/eistauchen-specialty-urisee/
LOCATION:Urisee\, Urisee\, Reutte\, Österreich
CATEGORIES:Fun Wochenende,Instructor Weiterbildung,Specialty Instructor,Specialty Kurs
ATTACH;FMTTYPE=image/jpeg:https://divexellence.de/wp-content/uploads/2022/10/B99123C4-DB3B-4A75-88BF-154775467311.JPG
ORGANIZER;CN="Jens Nassall":MAILTO:info@diveXellence.de
END:VEVENT
END:VCALENDAR