BEGIN:VCALENDAR
VERSION:2.0
PRODID:-//diveXellence - ECPv6.15.20//NONSGML v1.0//EN
CALSCALE:GREGORIAN
METHOD:PUBLISH
X-ORIGINAL-URL:https://divexellence.de
X-WR-CALDESC:Veranstaltungen für diveXellence
REFRESH-INTERVAL;VALUE=DURATION:PT1H
X-Robots-Tag:noindex
X-PUBLISHED-TTL:PT1H
BEGIN:VTIMEZONE
TZID:Europe/Berlin
BEGIN:DAYLIGHT
TZOFFSETFROM:+0100
TZOFFSETTO:+0200
TZNAME:CEST
DTSTART:20210328T010000
END:DAYLIGHT
BEGIN:STANDARD
TZOFFSETFROM:+0200
TZOFFSETTO:+0100
TZNAME:CET
DTSTART:20211031T010000
END:STANDARD
BEGIN:DAYLIGHT
TZOFFSETFROM:+0100
TZOFFSETTO:+0200
TZNAME:CEST
DTSTART:20220327T010000
END:DAYLIGHT
BEGIN:STANDARD
TZOFFSETFROM:+0200
TZOFFSETTO:+0100
TZNAME:CET
DTSTART:20221030T010000
END:STANDARD
BEGIN:DAYLIGHT
TZOFFSETFROM:+0100
TZOFFSETTO:+0200
TZNAME:CEST
DTSTART:20230326T010000
END:DAYLIGHT
BEGIN:STANDARD
TZOFFSETFROM:+0200
TZOFFSETTO:+0100
TZNAME:CET
DTSTART:20231029T010000
END:STANDARD
END:VTIMEZONE
BEGIN:VEVENT
DTSTART;TZID=Europe/Berlin:20220423T090000
DTEND;TZID=Europe/Berlin:20220424T180000
DTSTAMP:20260424T234153
CREATED:20220314T115820Z
LAST-MODIFIED:20220318T123423Z
UID:10000061-1650704400-1650823200@divexellence.de
SUMMARY:Fun-Tauch-Wochenende
DESCRIPTION:Ihr wollt mal wieder gut organisiert ein schönes Fun-Tauch-Wochenende verbringen? Gemeinsam Zeit verbringen\, aber Euch nicht wochenlang mit der Organisation der Tauchgänge beschäftigen? Oder Euer letzter Tauchgang ist schon zu lange her und ihr wisst gar nicht mehr wie das geht? \n\n\n\nDann seid ihr bei uns richtig. Kommt mit an den schönen Urisee. Wir planen am Samstag und Sonntag mehrere Tauchgänge für Euch. Je nach Euren Wünschen sind das geführte Tauchgänge\, bei denen Ihr Euch um nichts kümmern müsst oder Ihr macht und plant Eure Tauchgänge selbst. Dabei kümmern wir uns dann gerne um die Logistik\, sorgen für genügend Luft und bei gutem Wetter wird auch vor Ort noch gegrillt. \n\n\n\nFalls Ihr ein ReActivate (nach mehreren Monaten ohne Tauchen wieder einsteigen\, siehe auch bei PADI) machen wollt dann ist das ebenfalls an diesem Wochenende möglich. Bucht aber bitte nicht direkt bei PADI\, sondern meldet Euch erst bei uns. \n\n\n\nAuch der ein oder andere Tauchgang\, der für einen AOWD zählt oder gleich der ganze AOWD ist an diesem Wochenende möglich. Alternativ eventuell ein Specialty-Kurs: alles kein Problem. Einfach rechtzeitig vorab mit uns absprechen und dann ist (fast) alles an diesem Wochenende möglich. \n\n\n\nFür mehr Infos meldet Euch gerne bei uns über das Kontaktformular. Der Preis für das Fun-Tauch-Wochenende hängt dann auch stark davon ab\, was Ihr genau machen wollt. \n\n\n\nWir geben auch gerne Empfehlungen zu Übernachtungsmöglichkeiten (ca. 60 Euro inkl. Frühstück). \n\n\n\nAnmeldeschluss: 10.04.22 \n\n\n\n\n\n\n\n\n\n	\n	\n\n		\n							\n					Anfrage / Anmeldung				\n			\n					\n\n		\n			\n		\n			\n			Kontakt
URL:https://divexellence.de/event/fun-tauch-wochenende/
LOCATION:Urisee\, Urisee\, Reutte\, Österreich
CATEGORIES:Fun Wochenende,Specialty Kurs
ATTACH;FMTTYPE=image/jpeg:https://divexellence.de/wp-content/uploads/2022/03/IMG_8572-scaled-e1647258590471.jpeg
ORGANIZER;CN="Jens Nassall":MAILTO:info@diveXellence.de
END:VEVENT
BEGIN:VEVENT
DTSTART;TZID=Europe/Berlin:20220424T090000
DTEND;TZID=Europe/Berlin:20220424T190000
DTSTAMP:20260424T234153
CREATED:20220314T115536Z
LAST-MODIFIED:20220314T121434Z
UID:10000059-1650790800-1650826800@divexellence.de
SUMMARY:Self Reliant Instructor Kurs
DESCRIPTION:Willst du Taucher ausbilden\, die eigenständig und unabhängig tauchen können? Dann mach beim Self Reliant Specialty Instructor Kurs mit.  \n\n\n\nDer Kurs für deine Schüler verbessert ihre Fähigkeiten Probleme Unterwasser eigenständig zu lösen. Manchmal „muss“ man alleine tauchen. Sei es weil Du als Divemaster die Boje setzen sollst\, Du als Tauchlehrer sowieso eigentlich alleine unterwegs ist selbst wenn Du Schüler dabei hast oder weil Du als Fotograf keine geduldigen Buddies findest.  \n\n\n\nFür solche Fälle solltest Du dies aber nur mit speziellem Training tun. Du solltest also am Self Reliant Taucher Specialty teilnehmen. Der Kurs dazu findet am 23. April statt. Dieser Termin hier ist dann das Training für Tauchlehrer\, damit diese Self Reliant Specialty Instructor werden können.  \n\n\n\nIn diesem Instructor-Training gehen wir zunächst durch die Theorie\, besprechen wie du die Tauchgänge für Deine Schüler planst und den Kurs vermarkten kannst. Wir schauen uns das Instructor Outline an und wir besprechen die richtige Planung der Tauchgänge mit Schülern. Außerdem zeigen wir Dir was Du alles in der Theorie-Lektion Deines Kurses besprechen musst. Danach machen wir einen Tauchgang bei dem du übst wie man die Skills unterrichtet und wie Du die Tauchgänge für Deine Schüler sicher und unterhaltsam gestaltest.  \n\n\n\nWir treffen uns morgens im Warmen und besprechen erst einmal den Ablauf Deines Trainings-Tages. Danach gehen wir direkt an den See für den praktischen Teil des Kurses. Zum Abschluss setzen wir uns noch einmal ins Warme. Da kannst Du dann noch alle Fragen loswerden die Du eventuell noch hast\, damit Du wirklich sicher weißt wie Du dann diesen Kurs für Deine Schüler durchführen wirst. \n\n\n\nVoraussetzung: PADI Tauchlehrer*in mit Self-Reliant-Specialty (oder TecRec Taucher) und Erfahrung von min. 10 Self-Reliant Tauchgängen. Voraussetzung: PADI-Tauchlehrer und Self Reliant Diver oder TecRec Diver. \n\n\n\nMelde Dich bei uns über das Kontaktformular wenn Du beim Self-Reliant Specialty Instructor Kurs mit dabei sein willst. \n\n\n\n\n\n\n\n\n\n	\n	\n\n		\n							\n					Anfrage / Anmeldung				\n			\n					\n\n		\n			\n		\n			\n			Kontakt
URL:https://divexellence.de/event/self-reliant-instructor/
LOCATION:Urisee\, Urisee\, Reutte\, Österreich
CATEGORIES:Instructor Weiterbildung,Specialty Instructor
ATTACH;FMTTYPE=image/jpeg:https://divexellence.de/wp-content/uploads/2022/03/img_1031-scaled-e1647195793906.jpg
END:VEVENT
END:VCALENDAR