BEGIN:VCALENDAR
VERSION:2.0
PRODID:-//diveXellence - ECPv6.15.20//NONSGML v1.0//EN
CALSCALE:GREGORIAN
METHOD:PUBLISH
X-ORIGINAL-URL:https://divexellence.de
X-WR-CALDESC:Veranstaltungen für diveXellence
REFRESH-INTERVAL;VALUE=DURATION:PT1H
X-Robots-Tag:noindex
X-PUBLISHED-TTL:PT1H
BEGIN:VTIMEZONE
TZID:Europe/Berlin
BEGIN:DAYLIGHT
TZOFFSETFROM:+0100
TZOFFSETTO:+0200
TZNAME:CEST
DTSTART:20210328T010000
END:DAYLIGHT
BEGIN:STANDARD
TZOFFSETFROM:+0200
TZOFFSETTO:+0100
TZNAME:CET
DTSTART:20211031T010000
END:STANDARD
BEGIN:DAYLIGHT
TZOFFSETFROM:+0100
TZOFFSETTO:+0200
TZNAME:CEST
DTSTART:20220327T010000
END:DAYLIGHT
BEGIN:STANDARD
TZOFFSETFROM:+0200
TZOFFSETTO:+0100
TZNAME:CET
DTSTART:20221030T010000
END:STANDARD
BEGIN:DAYLIGHT
TZOFFSETFROM:+0100
TZOFFSETTO:+0200
TZNAME:CEST
DTSTART:20230326T010000
END:DAYLIGHT
BEGIN:STANDARD
TZOFFSETFROM:+0200
TZOFFSETTO:+0100
TZNAME:CET
DTSTART:20231029T010000
END:STANDARD
END:VTIMEZONE
BEGIN:VEVENT
DTSTART;TZID=Europe/Berlin:20220226T090000
DTEND;TZID=Europe/Berlin:20220227T160000
DTSTAMP:20260425T011148
CREATED:20220115T170927Z
LAST-MODIFIED:20220119T105954Z
UID:10000058-1645866000-1645977600@divexellence.de
SUMMARY:Eistauchen - Specialty
DESCRIPTION:Schnee und Eis können uns nicht vom Tauchen abhalten. Wenn die Seen zugefroren sind erwartet uns sogar ein ganz besonderes Erlebnis.  \n\n\n\nDurch ein Loch\, das wir in die Eisdecke machen steigen wir in die Unterwasserwelt ein. Diese bietet unter Eis nochmal ganz andere Eindrücke.  \n\n\n\nEgal ob es die Lichtspiele der Sonnenstrahlen sind oder die Luftblasen\, die über die Eisdecke tanzen: Eistauchen ist ein faszinierendes Erlebnis\, das jeder erfahrene Taucher einmal ausprobieren sollte. Für alle die noch nie unter Eis waren bieten wir das PADI Specialty Eistauchen an. \n\n\n\nOhne Teamwork geht beim Eistauchen gar nichts. Daher beginnen wir mit dem Erlernen der Rolle und Verantwortlichkeit von Personen\, die zur Unterstützung der Taucher dabei sind. Unter anderem  geht es um den Einsatz von Sicherheitstauchern. Besprochen werden auch die verschiedenen Eisarten\, die Wahl und Vorbereitung eines Tauchplatzes (wie bekommen wir ein Loch in dieses dicke Eis und welche Form soll es haben). Außerdem sprechen wir über die Auswirkung von Kälte auf den Taucher\, Notfallverfahren und die Handhabung der Ausrüstung. Bei drei unter enger Supervision stattfindenden Eistauchgängen wirst du Folgendes erlernen und üben: \n\n\n\nGebrauch spezieller Eistauchausrüstung und Verwendung von Sicherheitsleinen.Kommunikation beim Eistauchen (Zeichen\, Signale) sowie Techniken der Leinenführung und Leinensicherung.Probleme beim Umgang mit der Ausrüstung und Verfahren für Sicherheitstaucher.\n\n\n\nBei einem optionalen vierten Tauchgang üben wir verschiedene Notfall- und Rettungsverfahren speziell beim Eistauchen (Voraussetzung: Rescue Diver). \n\n\n\nFür mehr Infos melde dich gerne bei Steffi (tauchen-mit-steffi@web.de) oder hier über das Kontaktformular. Der unten genannte Preis ist der reine Kurspreis. Wir geben dann aber gerne Empfehlungen zu Übernachtungsmöglichkeiten (ca. 60 Euro inkl. Frühstück). \n\n\n\nIhr könnt auch gerne auf Steffi’s Facebook-Seite vorbeischauen.  \n\n\n\nNatürlich sind auch bereits zertifizierte Eistaucher herzlich willkommen. Bitte meldet Euch aber auch unbedingt noch im Januar bei uns falls ihr mitkommen wollt. \n\n\n\nAnmeldeschluss: 31.01.22 \n\n\n\n\n\n\n\n\n\n	\n	\n\n		\n							\n					Anfrage / Anmeldung				\n			\n					\n\n		\n			\n		\n			\n			Kontakt
URL:https://divexellence.de/event/eistauchen-specialty/
LOCATION:Urisee\, Urisee\, Reutte\, Österreich
ATTACH;FMTTYPE=image/jpeg:https://divexellence.de/wp-content/uploads/2022/01/271598308_241019608176537_4165044684771582725_n-e1642587898704.jpg
ORGANIZER;CN="Jens Nassall":MAILTO:info@diveXellence.de
END:VEVENT
END:VCALENDAR