BEGIN:VCALENDAR
VERSION:2.0
PRODID:-//diveXellence - ECPv6.15.20//NONSGML v1.0//EN
CALSCALE:GREGORIAN
METHOD:PUBLISH
X-WR-CALNAME:diveXellence
X-ORIGINAL-URL:https://divexellence.de
X-WR-CALDESC:Veranstaltungen für diveXellence
REFRESH-INTERVAL;VALUE=DURATION:PT1H
X-Robots-Tag:noindex
X-PUBLISHED-TTL:PT1H
BEGIN:VTIMEZONE
TZID:Europe/Berlin
BEGIN:DAYLIGHT
TZOFFSETFROM:+0100
TZOFFSETTO:+0200
TZNAME:CEST
DTSTART:20210328T010000
END:DAYLIGHT
BEGIN:STANDARD
TZOFFSETFROM:+0200
TZOFFSETTO:+0100
TZNAME:CET
DTSTART:20211031T010000
END:STANDARD
BEGIN:DAYLIGHT
TZOFFSETFROM:+0100
TZOFFSETTO:+0200
TZNAME:CEST
DTSTART:20220327T010000
END:DAYLIGHT
BEGIN:STANDARD
TZOFFSETFROM:+0200
TZOFFSETTO:+0100
TZNAME:CET
DTSTART:20221030T010000
END:STANDARD
BEGIN:DAYLIGHT
TZOFFSETFROM:+0100
TZOFFSETTO:+0200
TZNAME:CEST
DTSTART:20230326T010000
END:DAYLIGHT
BEGIN:STANDARD
TZOFFSETFROM:+0200
TZOFFSETTO:+0100
TZNAME:CET
DTSTART:20231029T010000
END:STANDARD
END:VTIMEZONE
BEGIN:VEVENT
DTSTART;TZID=Europe/Berlin:20220206T080000
DTEND;TZID=Europe/Berlin:20220206T200000
DTSTAMP:20260425T011017
CREATED:20211207T225833Z
LAST-MODIFIED:20220115T181252Z
UID:10000052-1644134400-1644177600@divexellence.de
SUMMARY:Eis-Tauchen Specialty Instructor Kurs
DESCRIPTION:Lerne wie Du Deinen Schülern das Eistauchen beibringst. Du lernst in diesem Eis-Tauchen Specialty Instructor Kurs was Du alles zum benötigst\, um Eistauchen zu unterrichten. Wir zeigen Dir wie Du einen Eistauch-Kurs sicher durchführst und nach dem Kurs kannst Du Deine Schüler sicher in die spannende Welt unter Eis entführen.  \n\n\n\nWie Du das genau machst lernst Du in diesem Weiterbildungskurs für PADI Tauchlehrer. Wir gehen durch die Theorie des Kurses\, schauen uns das Instructor Outline an und wir besprechen die richtige Planung der Tauchgänge mit Schülern. Außerdem zeigen wir Dir was Du alles in der Theorie-Lektion Deines Kurses besprechen musst. \n\n\n\nBei den beiden anschließenden Eistauchgängen lernst Du die erforderliche Ausrüstung kennen und führst die Übungen durch\, die später auch Deine Schüler meistern müssen. Dabei wirst Du auch selbst Teile des Eistauch-Specialty Kurses unterrichten\, damit Du zukünftig die Kurse sicher und erfolgreich durchführen kannst. Wir üben dabei auch die Rettungsfertigkeiten des optionalen vierten Tauchgangs Deiner Schüler und besprechen warum diese hierfür Rescue-Diver sein sollen. \n\n\n\nWir treffen uns morgens im Warmen und besprechen erst einmal den Ablauf Deines Trainings-Tages. Danach gehen wir direkt an den See für den praktischen Teil des Kurses. Zum Abschluss setzen wir uns noch einmal ins Warme. Da kannst Du dann noch alle Fragen loswerden die Du eventuell noch hast\, damit Du wirklich sicher weißt wie Du dann diesen Kurs für Deine Schüler durchführen wirst. \n\n\n\nVoraussetzung: PADI Tauchlehrer*in mit Eistauch-Specialty und Erfahrung von min. 10 Eistauchgängen. \n\n\n\nMelde Dich bei uns über das Kontaktformular wenn Du beim Eis-Tauchen Specialty Instructor Kurs mit dabei sein willst. \n\n\n\n\n\n\n\n\n\n	\n	\n\n		\n							\n					Anfrage / Anmeldung				\n			\n					\n\n		\n			\n		\n			\n			Kontakt
URL:https://divexellence.de/event/eis-tauchen-specialty-instructor-kurs-2/
LOCATION:Urisee\, Urisee\, Reutte\, Österreich
CATEGORIES:Instructor Weiterbildung,Specialty Instructor
ATTACH;FMTTYPE=image/jpeg:https://divexellence.de/wp-content/uploads/2021/12/dsc07287-scaled-e1638702680304.jpg
END:VEVENT
END:VCALENDAR